BEGIN:VCALENDAR
VERSION:2.0
PRODID:-//Hamlet - ECPv6.15.12//NONSGML v1.0//EN
CALSCALE:GREGORIAN
METHOD:PUBLISH
X-WR-CALNAME:Hamlet
X-ORIGINAL-URL:https://home.reggioemilia.progettohamlet.it
X-WR-CALDESC:Eventi per Hamlet
REFRESH-INTERVAL;VALUE=DURATION:PT1H
X-Robots-Tag:noindex
X-PUBLISHED-TTL:PT1H
BEGIN:VTIMEZONE
TZID:Europe/Rome
BEGIN:DAYLIGHT
TZOFFSETFROM:+0100
TZOFFSETTO:+0200
TZNAME:CEST
DTSTART:20240331T010000
END:DAYLIGHT
BEGIN:STANDARD
TZOFFSETFROM:+0200
TZOFFSETTO:+0100
TZNAME:CET
DTSTART:20241027T010000
END:STANDARD
BEGIN:DAYLIGHT
TZOFFSETFROM:+0100
TZOFFSETTO:+0200
TZNAME:CEST
DTSTART:20250330T010000
END:DAYLIGHT
BEGIN:STANDARD
TZOFFSETFROM:+0200
TZOFFSETTO:+0100
TZNAME:CET
DTSTART:20251026T010000
END:STANDARD
BEGIN:DAYLIGHT
TZOFFSETFROM:+0100
TZOFFSETTO:+0200
TZNAME:CEST
DTSTART:20260329T010000
END:DAYLIGHT
BEGIN:STANDARD
TZOFFSETFROM:+0200
TZOFFSETTO:+0100
TZNAME:CET
DTSTART:20261025T010000
END:STANDARD
END:VTIMEZONE
BEGIN:VEVENT
DTSTART;TZID=Europe/Rome:20250609T163000
DTEND;TZID=Europe/Rome:20250609T183000
DTSTAMP:20260426T053755
CREATED:20250616T150546Z
LAST-MODIFIED:20250616T150546Z
UID:8467-1749486600-1749493800@home.reggioemilia.progettohamlet.it
SUMMARY:Open Innovation Discovery: come cogliere l’innovazione interna
DESCRIPTION:Questo è un evento di Reggio Emilia. \nCome possono le aziende innovare davvero\, partendo da ciò che hanno già?\nScoprilo al primo evento di Tech-Up Accelerator interamente dedicato all’Open Innovation “dall’interno” pensato per imprenditori e manager che vogliono trasformare competenze\, risorse e idee già presenti in azienda in leve concrete di innovazione.\nDurante l’evento:\n– Scoprirai cos’è davvero l’open innovation\, in modo semplice e concreto\n– Ascolterai casi di successo di aziende che l’hanno adottata con risultati tangibili\n– Testerai idee innovative e come validare il mercato grazie ad un workshop pratico\nUn’occasione unica per scoprire come l’innovazione aperta non sia solo una parola da convegno\, ma una leva strategica reale\, accessibile e attivabile da subito.\nL’evento è promosso da Tech-Up Accelerator\, in collaborazione con il Gruppo Giovani di Unindustria Reggio Emilia\nPer partecipare è possibile iscriversi a questo link:\nhttps://www.eventbrite.it/e/open-innovation-discovery-come-cogliere-linnovazione-interna-tickets-1321211040789?utm-campaign=social&utm-content=attendeeshare&utm-medium=discovery&utm-term=listing&utm-source=cp&aff=ebdsshcopyurl
URL:https://home.reggioemilia.progettohamlet.it/event/open-innovation-discovery-come-cogliere-linnovazione-interna/
LOCATION:Tecnopolo Reggio Emilia\, Tecnopolo Reggio Emilia
END:VEVENT
END:VCALENDAR