BEGIN:VCALENDAR
VERSION:2.0
PRODID:-//Hamlet - ECPv6.15.12//NONSGML v1.0//EN
CALSCALE:GREGORIAN
METHOD:PUBLISH
X-WR-CALNAME:Hamlet
X-ORIGINAL-URL:https://home.reggioemilia.progettohamlet.it
X-WR-CALDESC:Eventi per Hamlet
REFRESH-INTERVAL;VALUE=DURATION:PT1H
X-Robots-Tag:noindex
X-PUBLISHED-TTL:PT1H
BEGIN:VTIMEZONE
TZID:Europe/Rome
BEGIN:DAYLIGHT
TZOFFSETFROM:+0100
TZOFFSETTO:+0200
TZNAME:CEST
DTSTART:20240331T010000
END:DAYLIGHT
BEGIN:STANDARD
TZOFFSETFROM:+0200
TZOFFSETTO:+0100
TZNAME:CET
DTSTART:20241027T010000
END:STANDARD
BEGIN:DAYLIGHT
TZOFFSETFROM:+0100
TZOFFSETTO:+0200
TZNAME:CEST
DTSTART:20250330T010000
END:DAYLIGHT
BEGIN:STANDARD
TZOFFSETFROM:+0200
TZOFFSETTO:+0100
TZNAME:CET
DTSTART:20251026T010000
END:STANDARD
BEGIN:DAYLIGHT
TZOFFSETFROM:+0100
TZOFFSETTO:+0200
TZNAME:CEST
DTSTART:20260329T010000
END:DAYLIGHT
BEGIN:STANDARD
TZOFFSETFROM:+0200
TZOFFSETTO:+0100
TZNAME:CET
DTSTART:20261025T010000
END:STANDARD
END:VTIMEZONE
BEGIN:VEVENT
DTSTART;TZID=Europe/Rome:20250930T170000
DTEND;TZID=Europe/Rome:20250930T190000
DTSTAMP:20260421T164103
CREATED:20250923T100007Z
LAST-MODIFIED:20250923T100007Z
UID:8490-1759251600-1759258800@home.reggioemilia.progettohamlet.it
SUMMARY:Open Innovation Discovery: risolvere problemi interni con risorse esterne
DESCRIPTION:Questo è un evento di Reggio Emilia. \nOpen Innovation Discovery: Risolvere problemi interni con risorse esterne\nScopri come innovare collaborando con partner esterni: casi reali\, strumenti e un workshop pratico sull’Open Innovation.\nCome possono le aziende innovare davvero\, aprendosi al mondo esterno?\nScoprilo al nuovo evento targato Tech-Up Accelerator\, interamente dedicato all’Open Innovation “dall’esterno”: un’occasione pensata per imprenditori e manager che vogliono potenziare l’innovazione aziendale collaborando con startup\, centri di ricerca e partner esterni.\nDurante l’evento: \nScoprirai come funziona davvero l’open innovation quando si attiva fuori dai confini aziendali \nAscolterai casi di successo e di innovazione continua \nParteciperai a un esperimento pratico di Co-Innovation Builder\, per testare la collaborazione tra imprese e realtà esterne \nApprofondirai gli strumenti chiave per avviare e gestire progetti di innovazione con partner esterni \nConoscerai da vicino l’esperienza di un’azienda del territorio\, tra scouting e co-progettazione di nuovi prodotti\nUn’opportunità concreta per scoprire come l’innovazione aperta possa diventare un motore di crescita\, grazie a connessioni strategiche fuori dall’azienda. L’evento è promosso da Tech-Up Accelerator\, in collaborazione con il Gruppo Giovani di Confindustria Reggio Emilia. \niscrizioni al link\nhttps://www.eventbrite.it/e/1468935588889?aff=oddtdtcreator
URL:https://home.reggioemilia.progettohamlet.it/event/open-innovation-discovery-risolvere-problemi-interni-con-risorse-esterne/
LOCATION:tech-up accelerator\, tech-up accelerator
END:VEVENT
END:VCALENDAR