BEGIN:VCALENDAR
VERSION:2.0
PRODID:-//Hamlet - ECPv6.15.12//NONSGML v1.0//EN
CALSCALE:GREGORIAN
METHOD:PUBLISH
X-ORIGINAL-URL:https://home.reggioemilia.progettohamlet.it
X-WR-CALDESC:Eventi per Hamlet
REFRESH-INTERVAL;VALUE=DURATION:PT1H
X-Robots-Tag:noindex
X-PUBLISHED-TTL:PT1H
BEGIN:VTIMEZONE
TZID:Europe/Rome
BEGIN:DAYLIGHT
TZOFFSETFROM:+0100
TZOFFSETTO:+0200
TZNAME:CEST
DTSTART:20240331T010000
END:DAYLIGHT
BEGIN:STANDARD
TZOFFSETFROM:+0200
TZOFFSETTO:+0100
TZNAME:CET
DTSTART:20241027T010000
END:STANDARD
BEGIN:DAYLIGHT
TZOFFSETFROM:+0100
TZOFFSETTO:+0200
TZNAME:CEST
DTSTART:20250330T010000
END:DAYLIGHT
BEGIN:STANDARD
TZOFFSETFROM:+0200
TZOFFSETTO:+0100
TZNAME:CET
DTSTART:20251026T010000
END:STANDARD
BEGIN:DAYLIGHT
TZOFFSETFROM:+0100
TZOFFSETTO:+0200
TZNAME:CEST
DTSTART:20260329T010000
END:DAYLIGHT
BEGIN:STANDARD
TZOFFSETFROM:+0200
TZOFFSETTO:+0100
TZNAME:CET
DTSTART:20261025T010000
END:STANDARD
END:VTIMEZONE
BEGIN:VEVENT
DTSTART;TZID=Europe/Rome:20251106T000000
DTEND;TZID=Europe/Rome:20251109T000000
DTSTAMP:20260422T021115
CREATED:20251007T180008Z
LAST-MODIFIED:20251007T180008Z
UID:8502-1762387200-1762646400@home.reggioemilia.progettohamlet.it
SUMMARY:Challenge Reggio Hub
DESCRIPTION:Questo è un evento di Reggio Emilia. \nUn hackathon di 3 giorni\, 6-8 Novembre\, organizzato al Tecnopolo di Reggio Emilia dal Comune di RE in collaborazione con Fondazione REI\, IFOA e PopWave.\n4 aziende sponsor che hanno lanciato 2 sfide in ambito Mobilità Sostenibile nelle Smart Cities e Accessibilità e Inclusività dei servizi assistenziali.\nLa call è rivolta a singoli individui ad elevata specializzazione\, pensiamo soprattutto laureandi o neolaureati\, che vogliano proporre una soluzione alle sfide che puoi vedere qui nel dettaglio: \nCall for Talents \n\nVerranno supportati sotto forma di mini-percorso di incubazione nella creazione dei team\, lo sviluppo della soluzione e la presentazione dei progetti nella giornata di Sabato 8. Allo stesso link si può inviare direttamente la candidatura.\nCosa offriamo: \nsupporto formativo e metodologico per lo sviluppo della soluzione \nnetworking tra studenti e aziende \nvitto e alloggio per i fuori sede \ncolloqui e tirocini in palio per i team vincitori
URL:https://home.reggioemilia.progettohamlet.it/event/challenge-reggio-hub/
END:VEVENT
END:VCALENDAR