BEGIN:VCALENDAR
VERSION:2.0
PRODID:-//Hamlet - ECPv6.15.12//NONSGML v1.0//EN
CALSCALE:GREGORIAN
METHOD:PUBLISH
X-WR-CALNAME:Hamlet
X-ORIGINAL-URL:https://home.reggioemilia.progettohamlet.it
X-WR-CALDESC:Eventi per Hamlet
REFRESH-INTERVAL;VALUE=DURATION:PT1H
X-Robots-Tag:noindex
X-PUBLISHED-TTL:PT1H
BEGIN:VTIMEZONE
TZID:Europe/Rome
BEGIN:DAYLIGHT
TZOFFSETFROM:+0100
TZOFFSETTO:+0200
TZNAME:CEST
DTSTART:20230326T010000
END:DAYLIGHT
BEGIN:STANDARD
TZOFFSETFROM:+0200
TZOFFSETTO:+0100
TZNAME:CET
DTSTART:20231029T010000
END:STANDARD
BEGIN:DAYLIGHT
TZOFFSETFROM:+0100
TZOFFSETTO:+0200
TZNAME:CEST
DTSTART:20240331T010000
END:DAYLIGHT
BEGIN:STANDARD
TZOFFSETFROM:+0200
TZOFFSETTO:+0100
TZNAME:CET
DTSTART:20241027T010000
END:STANDARD
BEGIN:DAYLIGHT
TZOFFSETFROM:+0100
TZOFFSETTO:+0200
TZNAME:CEST
DTSTART:20250330T010000
END:DAYLIGHT
BEGIN:STANDARD
TZOFFSETFROM:+0200
TZOFFSETTO:+0100
TZNAME:CET
DTSTART:20251026T010000
END:STANDARD
END:VTIMEZONE
BEGIN:VEVENT
DTSTART;TZID=Europe/Rome:20240327T204500
DTEND;TZID=Europe/Rome:20240327T220000
DTSTAMP:20260423T110844
CREATED:20240407T221034Z
LAST-MODIFIED:20240407T221034Z
UID:6898-1711572300-1711576800@home.reggioemilia.progettohamlet.it
SUMMARY:Casa della Comunità EST – Ospizio Condivisione del percorso di co-progettazione
DESCRIPTION:Questo è un evento dell’Ambito E. \nBuongiorno a tutti e a tutte\,\ntrasmetto informazione di una iniziativa che impatta particolarmente sugli ambiti E ed F. Si tratta della presentazione del percorso di co-progettazione della Casa della Comunità della zona EST della città. Per la Consulta E introdurrà Nando Ganassi e per la Consulta F Gabriele Soncini.\nInterverranno Luca Vecchi\, Sindaco di Reggio Emilia\, Cristina Marchesi\, Direttrice Generale AUSL Reggio Emilia\, Elisabetta Negri\, Direttrice del Distretto di Reggio Emilia\, Daniele Marchi\, Assessore Welfare e Bilancio Comune di Reggio Emilia e Paolo Pezzana\, ANCI – Ifel conduttore processo di co-progettazione.\nSiete invitati!\nBuona giornata
URL:https://home.reggioemilia.progettohamlet.it/event/casa-della-comunita-est-ospizio-condivisione-del-percorso-di-co-progettazione/
LOCATION:Sala Riunioni Farmacie Comunali Riunite via Doberdò n. 9\, Sala Riunioni Farmacie Comunali Riunite via Doberdò n. 9
END:VEVENT
BEGIN:VEVENT
DTSTART;TZID=Europe/Rome:20240327T203000
DTEND;TZID=Europe/Rome:20240327T233000
DTSTAMP:20260423T110844
CREATED:20240407T220934Z
LAST-MODIFIED:20240407T220934Z
UID:6191-1711571400-1711582200@home.reggioemilia.progettohamlet.it
SUMMARY:Assemblea Pubblica
DESCRIPTION:Questo è un evento dell’Ambito C. \nAssemblea pubblica Codemondo 27 marzo ore 20:30 presso il Centro Sociale Quaresimo\n![](https://ambitoc.re.progettohamlet.it/file/file/download?guid=d4bd7767-98d2-47ae-bb01-1dd8f7820819 =300x)
URL:https://home.reggioemilia.progettohamlet.it/event/assemblea-pubblica/
LOCATION:Via Pasquino Pigoni 5\, Via Pasquino Pigoni 5\, 42123\, Reggio Emilia (RE)
END:VEVENT
BEGIN:VEVENT
DTSTART;TZID=Europe/Rome:20240327T203000
DTEND;TZID=Europe/Rome:20240327T233000
DTSTAMP:20260423T110844
CREATED:20240407T220934Z
LAST-MODIFIED:20240407T220934Z
UID:6192-1711571400-1711582200@home.reggioemilia.progettohamlet.it
SUMMARY:Assemblea Pubblica
DESCRIPTION:Questo è un evento dell’Ambito C. \nAssemblea pubblica Codemondo 27 marzo ore 20:30 presso il Centro Sociale Quaresimo\n![](https://ambitoc.re.progettohamlet.it/file/file/download?guid=d4bd7767-98d2-47ae-bb01-1dd8f7820819 =300x)
URL:https://home.reggioemilia.progettohamlet.it/event/assemblea-pubblica-2/
LOCATION:Via Pasquino Pigoni 5\, Via Pasquino Pigoni 5\, 42123\, Reggio Emilia (RE)
END:VEVENT
BEGIN:VEVENT
DTSTART;TZID=Europe/Rome:20240327T203000
DTEND;TZID=Europe/Rome:20240327T223000
DTSTAMP:20260423T110844
CREATED:20240515T110014Z
LAST-MODIFIED:20240515T110014Z
UID:6903-1711571400-1711578600@home.reggioemilia.progettohamlet.it
SUMMARY:CODEMONDO RIPARTE
DESCRIPTION:Questo è un evento di Progetti. \n![](https://progetti.re.progettohamlet.it/file/file/download?guid=f530a55b-5e13-48ce-b3dd-65b97523c799 =300x)
URL:https://home.reggioemilia.progettohamlet.it/event/codemondo-riparte/
LOCATION:centro sociale Quaresimo (Via Pasquino Pigoni\, centro sociale Quaresimo (Via Pasquino Pigoni\, 59)
END:VEVENT
BEGIN:VEVENT
DTSTART;TZID=Europe/Rome:20240327T153000
DTEND;TZID=Europe/Rome:20240327T170000
DTSTAMP:20260423T110844
CREATED:20240407T220854Z
LAST-MODIFIED:20240407T220854Z
UID:6444-1711553400-1711558800@home.reggioemilia.progettohamlet.it
SUMMARY:CORSO di BASE per l’utilizzo di SMARTPHONE e SPID
DESCRIPTION:Questo è un evento dell’Ambito A. \nScopriamo le funzioni di app e social!\nDal 18 ottobre fino a primavera 2024 ogni mercoledì dalle 15\,30 alle 17\,30 In collaborazione con SPI CGIL\n:phone: per info 392 2175968\nLa partecipazione corsi è gratuita
URL:https://home.reggioemilia.progettohamlet.it/event/corso-di-base-per-lutilizzo-di-smartphone-e-spid-7/
LOCATION:via vico 152\, Via Vico 152\, 42124\, Reggio Emilia (RE)
END:VEVENT
BEGIN:VEVENT
DTSTART;TZID=Europe/Rome:20240327T093000
DTEND;TZID=Europe/Rome:20240327T120000
DTSTAMP:20260423T110844
CREATED:20240407T220854Z
LAST-MODIFIED:20240407T220854Z
UID:6445-1711531800-1711540800@home.reggioemilia.progettohamlet.it
SUMMARY:Laboratorio di Cucito
DESCRIPTION:Questo è un evento dell’Ambito A. \nLaboratorio di cucito a Cella!\nmassimo 10 iscritti a giornata\n:phone: per info 340 7728819\nla partecipazione è gratuita\n![](https://ambitoa.re.progettohamlet.it/file/file/download?guid=31664d7f-e387-43ae-aebd-dac2eda0721c =300x)
URL:https://home.reggioemilia.progettohamlet.it/event/laboratorio-di-cucito-10/
LOCATION:via vico 152\, Via Vico 152\, 42124\, Reggio Emilia (RE)
END:VEVENT
BEGIN:VEVENT
DTSTART;TZID=Europe/Rome:20240326T210000
DTEND;TZID=Europe/Rome:20240326T220000
DTSTAMP:20260423T110844
CREATED:20240407T220855Z
LAST-MODIFIED:20240407T220855Z
UID:6447-1711486800-1711490400@home.reggioemilia.progettohamlet.it
SUMMARY:Incontri Gustosi
DESCRIPTION:Questo è un evento dell’Ambito A. \nHai voglia di metterti in gioco e fare nuove conoscenze attraverso la cucina? :pizza:\nA Cavazzoli c’è quello che cerchi!\n:phone: per info e prenotazioni 339 6339700\n![](https://ambitoa.re.progettohamlet.it/file/file/download?guid=45048a44-e42c-4822-ab40-22863c4a0069 =300x)
URL:https://home.reggioemilia.progettohamlet.it/event/incontri-gustosi-6/
LOCATION:Via Giovanni Rinaldi 50\, Via Giovanni Rinaldi 50\, 42124\, Reggio Emilia (RE)
END:VEVENT
BEGIN:VEVENT
DTSTART;TZID=Europe/Rome:20240326T210000
DTEND;TZID=Europe/Rome:20240326T220000
DTSTAMP:20260423T110844
CREATED:20240407T220855Z
LAST-MODIFIED:20240407T220855Z
UID:6449-1711486800-1711490400@home.reggioemilia.progettohamlet.it
SUMMARY:Incontri Gustosi
DESCRIPTION:Questo è un evento dell’Ambito A. \nHai voglia di metterti in gioco e fare nuove conoscenze attraverso la cucina? :pizza:\nA Cavazzoli c’è quello che cerchi!\n:phone: per info e prenotazioni 339 6339700\n![](https://ambitoa.re.progettohamlet.it/file/file/download?guid=45048a44-e42c-4822-ab40-22863c4a0069 =300x)
URL:https://home.reggioemilia.progettohamlet.it/event/incontri-gustosi-7/
LOCATION:Via Giovanni Rinaldi 50\, Via Giovanni Rinaldi 50\, 42124\, Reggio Emilia (RE)
END:VEVENT
BEGIN:VEVENT
DTSTART;TZID=Europe/Rome:20240326T183000
DTEND;TZID=Europe/Rome:20240326T193000
DTSTAMP:20260423T110844
CREATED:20240407T220912Z
LAST-MODIFIED:20240407T220912Z
UID:6895-1711477800-1711481400@home.reggioemilia.progettohamlet.it
SUMMARY:PRESENTAZIONE DEL PROGETTO NUOVO POLO DELL’INFANZIA PARCO OTTAVI
DESCRIPTION:Questo è un evento dell’Ambito B. \nhttps://eventi.comune.re.it/eventi/evento/presentazione-del-progetto-nuovo-polo-dellinfanzia-parco-ottavi/\npresso il Nido Scuola d’Infanzia Iotti – Agorà in via Fratelli Bandiera 12/c RE (accanto al centro sociale La Mirandola)
URL:https://home.reggioemilia.progettohamlet.it/event/presentazione-del-progetto-nuovo-polo-dellinfanzia-parco-ottavi/
END:VEVENT
BEGIN:VEVENT
DTSTART;TZID=Europe/Rome:20240325T173000
DTEND;TZID=Europe/Rome:20240325T200000
DTSTAMP:20260423T110844
CREATED:20240407T221015Z
LAST-MODIFIED:20240407T221015Z
UID:6280-1711387800-1711396800@home.reggioemilia.progettohamlet.it
SUMMARY:RIUNIONE PARCO DEL LEGNO (TAVOLO QUARTIERE)
DESCRIPTION:Questo è un evento dell’Ambito D.
URL:https://home.reggioemilia.progettohamlet.it/event/riunione-parco-del-legno-tavolo-quartiere/
LOCATION:Via Domenico Francesco Cecati\, Via Domenico Francesco Cecati\, 42121\, Reggio Emilia (RE)
END:VEVENT
BEGIN:VEVENT
DTSTART;TZID=Europe/Rome:20240325T160000
DTEND;TZID=Europe/Rome:20240325T180000
DTSTAMP:20260423T110844
CREATED:20240407T220941Z
LAST-MODIFIED:20240407T220941Z
UID:6207-1711382400-1711389600@home.reggioemilia.progettohamlet.it
SUMMARY:TRIBUTO A HENRI ROUSSEAU
DESCRIPTION:Questo è un evento dell’Ambito C. \nMostra di opere d’arte e Laboratori presso l’ Azienda agricola Api Libere dedicata ad Henri Rousseau\nOpening ore 16.00\nvisitabile su appuntamento\n:phone: Prenotati al numero whatsapp 3491216371\n![](https://ambitoc.re.progettohamlet.it/file/file/download?guid=ab60d591-7f5d-464a-ae44-4641b5f182e6 =300x)
URL:https://home.reggioemilia.progettohamlet.it/event/tributo-a-henri-rousseau-10/
LOCATION:via cavicchioni 11\, Via Cavicchioni 11\, 42124\, Reggio Emilia
END:VEVENT
BEGIN:VEVENT
DTSTART;TZID=Europe/Rome:20240324T160000
DTEND;TZID=Europe/Rome:20240324T180000
DTSTAMP:20260423T110844
CREATED:20240407T220935Z
LAST-MODIFIED:20240407T220935Z
UID:6195-1711296000-1711303200@home.reggioemilia.progettohamlet.it
SUMMARY:TRIBUTO A HENRI ROUSSEAU
DESCRIPTION:Questo è un evento dell’Ambito C. \nMostra di opere d’arte e Laboratori presso l’ Azienda agricola Api Libere dedicata ad Henri Rousseau\nOpening ore 16.00\nvisitabile su appuntamento\n:phone: Prenotati al numero whatsapp 3491216371\n![](https://ambitoc.re.progettohamlet.it/file/file/download?guid=ab60d591-7f5d-464a-ae44-4641b5f182e6 =300x)
URL:https://home.reggioemilia.progettohamlet.it/event/tributo-a-henri-rousseau-3/
LOCATION:via cavicchioni 11\, Via Cavicchioni 11\, 42124\, Reggio Emilia
END:VEVENT
BEGIN:VEVENT
DTSTART;TZID=Europe/Rome:20240324T110000
DTEND;TZID=Europe/Rome:20240324T200000
DTSTAMP:20260423T110844
CREATED:20240407T221056Z
LAST-MODIFIED:20240407T221056Z
UID:6545-1711278000-1711310400@home.reggioemilia.progettohamlet.it
SUMMARY:INSIEME:FARE
DESCRIPTION:Questo è un evento del Centro Storico. \nINSIEME:FARE – QUATTRO GIORNI DI INCONTRI\, PRESENTAZIONI\, ESPLORAZIONI. PER SCOPRIRE INSIEME LA PARTECIPAZIONE A REGGIO EMILIA\nDal 21 al 24 marzo\, incontri\, presentazioni\, esplorazioni per scoprire insieme la partecipazione a Reggio Emilia. :slightly smiling face:\nQuattro giorni per stare insieme\, per confrontarsi con esperti sui temi della collaborazione e della ricerca per l’innovazione sociale urbana e per esplorare insieme luoghi\, spazi e progetti realizzati insieme con i cittadini\, attraverso il progetto Quartiere Bene Comune e le iniziative partecipative del Comune di Reggio Emilia. :people hugging:\nPer scoprire di più sul programma vi rimando al link:\n:backhand index pointing right: https://eventi.comune.re.it/eventi/evento/insiemefare-quattro-giorni-di-incontri-presentazioni-esplorazioni-per-scoprire-insieme-la-partecipazione-a-reggio-emilia/\nAllegato dell’evento completo :backhand index pointing right: A4_Programma_Insieme_Fare.pdf
URL:https://home.reggioemilia.progettohamlet.it/event/insiemefare-16/
LOCATION:Reggio Emilia\, Reggio Emilia
END:VEVENT
BEGIN:VEVENT
DTSTART;TZID=Europe/Rome:20240324T110000
DTEND;TZID=Europe/Rome:20240324T200000
DTSTAMP:20260423T110844
CREATED:20240407T220852Z
LAST-MODIFIED:20240407T220852Z
UID:6438-1711278000-1711310400@home.reggioemilia.progettohamlet.it
SUMMARY:INSIEME:FARE
DESCRIPTION:Questo è un evento dell’Ambito A. \nINSIEME:FARE – QUATTRO GIORNI DI INCONTRI\, PRESENTAZIONI\, ESPLORAZIONI. PER SCOPRIRE INSIEME LA PARTECIPAZIONE A REGGIO EMILIA\nDal 21 al 24 marzo\, incontri\, presentazioni\, esplorazioni per scoprire insieme la partecipazione a Reggio Emilia.:slightly smiling face:\nQuattro giorni per stare insieme\, per confrontarsi con esperti sui temi della collaborazione e della ricerca per l’innovazione sociale urbana e per esplorare insieme luoghi\, spazi e progetti realizzati insieme con i cittadini\, attraverso il progetto Quartiere Bene Comune e le iniziative partecipative del Comune di Reggio Emilia.:people hugging:\nPer scoprire di più sul programma vi rimando al link:\n:backhand index pointing right:  https://eventi.comune.re.it/eventi/evento/insiemefare-quattro-giorni-di-incontri-presentazioni-esplorazioni-per-scoprire-insieme-la-partecipazione-a-reggio-emilia/\nAllegato dell’evento completo: :backhand index pointing right: A4_Programma_Insieme_Fare.pdf
URL:https://home.reggioemilia.progettohamlet.it/event/insiemefare-11/
LOCATION:Reggio Emilia\, Reggio Emilia
END:VEVENT
BEGIN:VEVENT
DTSTART;TZID=Europe/Rome:20240324T103000
DTEND;TZID=Europe/Rome:20240324T120000
DTSTAMP:20260423T110844
CREATED:20240407T221040Z
LAST-MODIFIED:20240407T221040Z
UID:6329-1711276200-1711281600@home.reggioemilia.progettohamlet.it
SUMMARY:DOMENICA 24 MARZO 2024 (10:30 - 12:00)
DESCRIPTION:Questo è un evento dell’Ambito H. \nDOMENICA 24 :right arrow: ESPLORAZIONE\nCAMMINATA URBANA COLLABORATIVA SUI SENTIERI DELLA CITTA’\nEsplora la città camminando: unisciti a noi lungo il percorso realizzato dai cittadini con il progetto “Reggio Emilia città dei sentieri”. :slightly smiling face:\nIndossa il verde\, sorridi per la foto di gruppo\, scatta un selfie e condividi con #ReggioEmiliacittadeisentieri :camera with flash:\n:round pushpin: Sentiero 646Q/Z Anello di Santa Croce • km 4\,6\npartenza dal Tecnopolo/Reggiane Parco Innovazione\, Piazzale Europa 1 (Santa Croce)\nPer maggiori informazioni:\n** https://eventi.comune.re.it/eventi/evento/camminata-urbana-collaborativa-sui-sentieri-della-citta/**\n![](https://ambitoh.re.progettohamlet.it/file/file/download?guid=367f2d97-e570-4cc8-8d2a-0b135a926983 =300x)
URL:https://home.reggioemilia.progettohamlet.it/event/domenica-24-marzo-2024-1030-1200/
LOCATION:Piazzale Europa 1\, Piazzale Europa 1\, 42123\, Reggio Emilia (RE)
END:VEVENT
BEGIN:VEVENT
DTSTART;TZID=Europe/Rome:20240324T103000
DTEND;TZID=Europe/Rome:20240324T120000
DTSTAMP:20260423T110844
CREATED:20240407T221037Z
LAST-MODIFIED:20240407T221037Z
UID:6324-1711276200-1711281600@home.reggioemilia.progettohamlet.it
SUMMARY:Domenica 24 ESPLORAZIONE Camminata urbana collaborativa sui sentieri della città
DESCRIPTION:Questo è un evento dell’Ambito F. \nEsplora la città camminando: unisciti a noi lungo il percorso realizzato dai cittadini con il progetto “Reggio Emilia città dei sentieri”. :slightly smiling face:\nIndossa il verde\, sorridi per la foto di gruppo\, scatta un selfie e condividi con #ReggioEmiliacittadeisentieri :camera with flash:\n:round pushpin: Sentiero CAI 646D via Delle Ville: anello Vasca Corbelli – Reggia di Rivalta – Km 7 partenza dalla casetta in legno del Parco delle Ginestre\, via Conforti (Rivalta)\nPer maggiori informazioni:\n** https://eventi.comune.re.it/eventi/evento/camminata-urbana-collaborativa-sui-sentieri-della-citta/** \nA4_Programma_Insieme_Fare.pdf
URL:https://home.reggioemilia.progettohamlet.it/event/domenica-24-esplorazione-camminata-urbana-collaborativa-sui-sentieri-della-citta/
LOCATION:Via Conforti\, Via Conforti\, 42123\, Reggio Emilia (RE)
END:VEVENT
BEGIN:VEVENT
DTSTART;TZID=Europe/Rome:20240324T103000
DTEND;TZID=Europe/Rome:20240324T120000
DTSTAMP:20260423T110844
CREATED:20240407T221034Z
LAST-MODIFIED:20240407T221034Z
UID:6322-1711276200-1711281600@home.reggioemilia.progettohamlet.it
SUMMARY:DOMENICA 24 MARZO (10:00 - 12:00)
DESCRIPTION:Questo è un evento dell’Ambito E. \nDOMENICA 24 :right arrow: ESPLORAZIONE\nCAMMINATA URBANA COLLABORATIVA SUI SENTIERI DELLA CITTA’\nEsplora la città camminando: unisciti a noi lungo il percorso realizzato dai cittadini con il progetto “Reggio Emilia città dei sentieri”. :slightly smiling face:\nIndossa il verde\, sorridi per la foto di gruppo\, scatta un selfie e condividi con #ReggioEmiliacittadeisentieri :camera with flash:\n:round pushpin: Sentiero 616A/Z Anello dei bambini del Mauriziano • km 2\npartenza dalla Fattoria di animazione ambientale del Mauriziano\, via Scaruffi 7 (San Maurizio)\nin collaborazione con Asineria Asini di Reggio Emilia\nPer maggiori informazioni:\n** https://eventi.comune.re.it/eventi/evento/camminata-urbana-collaborativa-sui-sentieri-della-citta/**
URL:https://home.reggioemilia.progettohamlet.it/event/domenica-24-marzo-1000-1200/
LOCATION:via Scaruffi 7\, Via Scaruffi 7\, 42123\, Reggio Emilia (RE)
END:VEVENT
BEGIN:VEVENT
DTSTART;TZID=Europe/Rome:20240324T103000
DTEND;TZID=Europe/Rome:20240324T120000
DTSTAMP:20260423T110844
CREATED:20240407T220936Z
LAST-MODIFIED:20240407T220936Z
UID:6196-1711276200-1711281600@home.reggioemilia.progettohamlet.it
SUMMARY:CAMMINATA URBANA
DESCRIPTION:Questo è un evento dell’Ambito C. \nDomenica 24 – ESPLORAZIONE\nCamminata urbana collaborativa sui sentieri della città\nEsplora la città camminando: unisciti a noi lungo il percorso realizzato dai cittadini con il progetto ‘Reggio Emilia città dei sentieri’. :slightly smiling face:\nIndossa il verde\, sorridi per la foto di gruppo \, scatta un selfie e condividi con #ReggioEmiliacittadeisentieri :camera with flash:\n:round pushpin:Sentiero CAI 646D via Delle Ville: anello Vasca Corbelli – Reggia di Rivalta • km 7 partenza dalla casetta in legno del Parco delle Ginestre\, via Conforti (Rivalta)\nPer maggiori informazioni:\n:backhand index pointing right: https://eventi.comune.re.it/eventi/evento/camminata-urbana-collaborativa-sui-sentieri-della-citta/
URL:https://home.reggioemilia.progettohamlet.it/event/camminata-urbana-3/
LOCATION:Via Conforti\, Via Conforti\, 42123\, Reggio Emilia (RE)
END:VEVENT
BEGIN:VEVENT
DTSTART;TZID=Europe/Rome:20240324T103000
DTEND;TZID=Europe/Rome:20240324T120000
DTSTAMP:20260423T110844
CREATED:20240407T220914Z
LAST-MODIFIED:20240407T220914Z
UID:6153-1711276200-1711281600@home.reggioemilia.progettohamlet.it
SUMMARY:CAMMINATA URBANA
DESCRIPTION:Questo è un evento dell’Ambito B. \nDomenica 24 :right arrow: ESPLORAZIONE\nCamminata urbana collaborativa sui sentieri della città\nEsplora la città camminando: unisciti a noi lungo i percorsi realizzati dai cittadini con il progetto ‘Reggio Emilia città dei sentieri’. :slightly smiling face:\nIndossa il verde\, sorridi per la foto di gruppo \, scatta un selfie e condividi con #ReggioEmiliacittadeisentieri :camera with flash:\n:round pushpin:Sentiero CAI 620G Anello Alex Langer • km 5 partenza dal Parco Il Diamante\, via Danimarca (Orologio)\n:round pushpin:Sentiero CAI 646G/S Anello della Canalina (Villa Magawly) • km 6 partenza dal Parco di Villa Magawly\, via Ruzante 37 (Canalina)\nPer maggiori informazioni:\n:backhand index pointing right:https://eventi.comune.re.it/eventi/evento/camminata-urbana-collaborativa-sui-sentieri-della-citta/
URL:https://home.reggioemilia.progettohamlet.it/event/camminata-urbana-2/
LOCATION:via Danimarca\, via Danimarca\, 42124\, Reggio Emilia (RE)
END:VEVENT
BEGIN:VEVENT
DTSTART;TZID=Europe/Rome:20240324T103000
DTEND;TZID=Europe/Rome:20240324T120000
DTSTAMP:20260423T110844
CREATED:20240407T220856Z
LAST-MODIFIED:20240407T220856Z
UID:6121-1711276200-1711281600@home.reggioemilia.progettohamlet.it
SUMMARY:CAMMINATA URBANA
DESCRIPTION:Questo è un evento dell’Ambito A. \nDomenica 24 :right arrow: ESPLORAZIONE\nCamminata urbana collaborativa sui sentieri della città\nEsplora la città camminando: unisciti a noi lungo il percorso realizzato dai cittadini con il progetto ‘Reggio Emilia città dei sentieri’. :slightly smiling face:\nIndossa il verde\, sorridi per la foto di gruppo \, scatta un selfie e condividi con #ReggioEmiliacittadeisentieri :camera with flash:\n:round pushpin:Sentiero CAI 610A Anello di Roncocesi • km 6\,8 partenza dal Parco Amarenzio Montanari\, via Rolando Iotti 2 (Roncocesi)\nPer maggiori informazioni:\n:backhand index pointing right:https://eventi.comune.re.it/eventi/evento/camminata-urbana-collaborativa-sui-sentieri-della-citta/
URL:https://home.reggioemilia.progettohamlet.it/event/camminata-urbana/
LOCATION:via Rolando Iotti 2\, via Rolando Iotti 2\, 42122\, Reggio Emilia (RE)
END:VEVENT
BEGIN:VEVENT
DTSTART;TZID=Europe/Rome:20240324T103000
DTEND;TZID=Europe/Rome:20240324T120000
DTSTAMP:20260423T110844
CREATED:20240320T225740Z
LAST-MODIFIED:20240320T225740Z
UID:6325-1711276200-1711281600@home.reggioemilia.progettohamlet.it
SUMMARY:24 Marzo 2024 (10:30 - 12:00)
DESCRIPTION:Questo è un evento dell’Ambito G. \nDOMENICA 24 :right arrow: ESPLORAZIONE\nCAMMINATA URBANA COLLABORATIVA SUI SENTIERI DELLA CITTA’\nEsplora la città camminando: unisciti a noi lungo il percorso realizzato dai cittadini con il progetto “Reggio Emilia città dei sentieri”. :slightly smiling face:\nIndossa il verde\, sorridi per la foto di gruppo\, scatta un selfie e condividi con #ReggioEmiliacittadeisentieri :camera with flash:\n:round pushpin: Sentiero CAI 646D via Delle Ville: anello Vasca Corbelli – Reggia di Rivalta – Km 7 partenza dalla casetta in legno del Parco delle Ginestre\, via Conforti (Rivalta)\nPer maggiori informazioni:\nhttps://eventi.comune.re.it/eventi/evento/camminata-urbana-collaborativa-sui-sentieri-della-citta/
URL:https://home.reggioemilia.progettohamlet.it/event/24-marzo-2024-1030-1200/
LOCATION:Parco delle Ginestre\, Via Effro Conforti\, 1720\, 42123 Reggio Emilia RE
END:VEVENT
BEGIN:VEVENT
DTSTART;TZID=Europe/Rome:20240324T100000
DTEND;TZID=Europe/Rome:20240324T200000
DTSTAMP:20260423T110844
CREATED:20240407T220913Z
LAST-MODIFIED:20240407T220913Z
UID:6476-1711274400-1711310400@home.reggioemilia.progettohamlet.it
SUMMARY:INSIEME:FARE
DESCRIPTION:Questo è un evento dell’Ambito B. \nINSIEME:FARE – QUATTRO GIORNI DI INCONTRI\, PRESENTAZIONI\, ESPLORAZIONI. PER SCOPRIRE INSIEME LA PARTECIPAZIONE A REGGIO EMILIA\nDal 21 al 24 marzo\, incontri\, presentazioni\, esplorazioni per scoprire insieme la partecipazione a Reggio Emilia.:slightly smiling face:\nQuattro giorni per stare insieme\, per confrontarsi con esperti sui temi della collaborazione e della ricerca per l’innovazione sociale urbana e per esplorare insieme luoghi\, spazi e progetti realizzati insieme con i cittadini\, attraverso il progetto Quartiere Bene Comune e le iniziative partecipative del Comune di Reggio Emilia.:people hugging:\nPer scoprire di più sul programma questo è il link:\n:backhand index pointing right: https://eventi.comune.re.it/eventi/evento/insiemefare-quattro-giorni-di-incontri-presentazioni-esplorazioni-per-scoprire-insieme-la-partecipazione-a-reggio-emilia/\nAllegato dell’evento completo: :backhand index pointing right: A4_Programma_Insieme_Fare.pdf
URL:https://home.reggioemilia.progettohamlet.it/event/insiemefare-14/
LOCATION:Viale Allegri 9\, Viale Allegri 9\, 42121\, Reggio Emilia (RE)
END:VEVENT
BEGIN:VEVENT
DTSTART;TZID=Europe/Rome:20240324T100000
DTEND;TZID=Europe/Rome:20240324T130000
DTSTAMP:20260423T110844
CREATED:20240407T221021Z
LAST-MODIFIED:20240407T221021Z
UID:6295-1711274400-1711285200@home.reggioemilia.progettohamlet.it
SUMMARY:CAMMINATA CONSULTE PER CITTA' DEI SENTIERI
DESCRIPTION:Questo è un evento dell’Ambito D.
URL:https://home.reggioemilia.progettohamlet.it/event/camminata-consulte-per-citta-dei-sentieri/
LOCATION:Via Dimitrov 47\, Via Dimitrov 47\, 42123\, Reggio Emilia (RE)
END:VEVENT
BEGIN:VEVENT
DTSTART;TZID=Europe/Rome:20240323T210000
DTEND;TZID=Europe/Rome:20240323T220000
DTSTAMP:20260423T110844
CREATED:20240407T220914Z
LAST-MODIFIED:20240407T220914Z
UID:6154-1711227600-1711231200@home.reggioemilia.progettohamlet.it
SUMMARY:Vieni a conoscere le case di quartiere!
DESCRIPTION:Questo è un evento dell’Ambito B. \nNata… Femmina \nSpettacolo che tratta di violenza sulle donne e storie di a-normale quotidianità.\nCon la voce recitante di Rina Mareggini.\n:round pushpin: Presso Centro Sociale Orologio\nper maggiori info: Le case di quartiere di Reggio Emilia. Open day – Eventi a Reggio Emilia (comune.re.it)
URL:https://home.reggioemilia.progettohamlet.it/event/vieni-a-conoscere-le-case-di-quartiere/
LOCATION:Via Julies Emilie Massenet 19\, Via Julies Emilie Massenet 19\, Reggio Emilia
END:VEVENT
BEGIN:VEVENT
DTSTART;TZID=Europe/Rome:20240323T190000
DTEND;TZID=Europe/Rome:20240323T213000
DTSTAMP:20260423T110844
CREATED:20240407T221011Z
LAST-MODIFIED:20240407T221011Z
UID:6271-1711220400-1711229400@home.reggioemilia.progettohamlet.it
SUMMARY:CORNER HAMLET GATTAGLIO
DESCRIPTION:Questo è un evento dell’Ambito D.
URL:https://home.reggioemilia.progettohamlet.it/event/corner-hamlet-gattaglio/
LOCATION:via del gattaglio 30\, via del gattaglio 30\, reggio emilia
END:VEVENT
BEGIN:VEVENT
DTSTART;TZID=Europe/Rome:20240323T190000
DTEND;TZID=Europe/Rome:20240323T203000
DTSTAMP:20260423T110844
CREATED:20240407T220915Z
LAST-MODIFIED:20240407T220915Z
UID:6155-1711220400-1711225800@home.reggioemilia.progettohamlet.it
SUMMARY:Vieni a conoscere le case di quartiere!
DESCRIPTION:Questo è un evento dell’Ambito B. \nMIAO! \nMusica Irriverente ed Autori Originali.\n:round pushpin: presso Centro Sociale Gattaglio\nper il programma completo: Le case di quartiere di Reggio Emilia. Open day – Eventi a Reggio Emilia (comune.re.it)
URL:https://home.reggioemilia.progettohamlet.it/event/vieni-a-conoscere-le-case-di-quartiere-2/
LOCATION:via del gattaglio 30\, via del gattaglio 30\, reggio emilia
END:VEVENT
BEGIN:VEVENT
DTSTART;TZID=Europe/Rome:20240323T190000
DTEND;TZID=Europe/Rome:20240323T200000
DTSTAMP:20260423T110844
CREATED:20240407T221012Z
LAST-MODIFIED:20240407T221012Z
UID:6273-1711220400-1711224000@home.reggioemilia.progettohamlet.it
SUMMARY:Vieni a conoscere le case di quartiere!
DESCRIPTION:Questo è un evento dell’Ambito D. \nMIAO! \nMusica Irriverente ed Autori Originali.\n:round pushpin: presso Centro Sociale Gattaglio\nper il programma completo: Le case di quartiere di Reggio Emilia. Open day – Eventi a Reggio Emilia (comune.re.it)
URL:https://home.reggioemilia.progettohamlet.it/event/vieni-a-conoscere-le-case-di-quartiere-6/
LOCATION:via del gattaglio 30\, via del gattaglio 30\, reggio emilia
END:VEVENT
BEGIN:VEVENT
DTSTART;TZID=Europe/Rome:20240323T173000
DTEND;TZID=Europe/Rome:20240323T183000
DTSTAMP:20260423T110844
CREATED:20240407T220915Z
LAST-MODIFIED:20240407T220915Z
UID:6156-1711215000-1711218600@home.reggioemilia.progettohamlet.it
SUMMARY:Vieni a conoscere le case di quartiere!
DESCRIPTION:Questo è un evento dell’Ambito B. \nPresentazione libro “Laetamen” di Ivanna Rossi. \n33 scritti al tempo del Covid\, che portano ‘fioriture e ripartenze’.\n:round pushpin:centro sociale Orologio\nper il programma completo: Le case di quartiere di Reggio Emilia. Open day – Eventi a Reggio Emilia (comune.re.it)
URL:https://home.reggioemilia.progettohamlet.it/event/vieni-a-conoscere-le-case-di-quartiere-3/
LOCATION:via Jules Emile Massenet 19\, via Jules Emile Massenet 19\, 42124\, Reggio Emilia (RE)
END:VEVENT
BEGIN:VEVENT
DTSTART;TZID=Europe/Rome:20240323T163000
DTEND;TZID=Europe/Rome:20240323T190000
DTSTAMP:20260423T110844
CREATED:20240407T215859Z
LAST-MODIFIED:20240407T215859Z
UID:7368-1711211400-1711220400@home.reggioemilia.progettohamlet.it
SUMMARY:LABORATORI PER BAMBINI
DESCRIPTION:La descrizione di questo evento contiene caratteri non supportati.
URL:https://home.reggioemilia.progettohamlet.it/event/laboratori-per-bambini-2/
LOCATION:Via Emilia San Pietro 14\, Via Emilia San Pietro 14\, RE
END:VEVENT
BEGIN:VEVENT
DTSTART;TZID=Europe/Rome:20240323T163000
DTEND;TZID=Europe/Rome:20240323T190000
DTSTAMP:20260423T110844
CREATED:20240407T215856Z
LAST-MODIFIED:20240407T215856Z
UID:7361-1711211400-1711220400@home.reggioemilia.progettohamlet.it
SUMMARY:LABORATORI PER BAMBINI
DESCRIPTION:La descrizione di questo evento contiene caratteri non supportati.
URL:https://home.reggioemilia.progettohamlet.it/event/laboratori-per-bambini/
LOCATION:Via Emilia San Pietro 14\, Via Emilia San Pietro 14\, RE
END:VEVENT
END:VCALENDAR