BEGIN:VCALENDAR
VERSION:2.0
PRODID:-//Hamlet - ECPv6.15.12//NONSGML v1.0//EN
CALSCALE:GREGORIAN
METHOD:PUBLISH
X-WR-CALNAME:Hamlet
X-ORIGINAL-URL:https://home.reggioemilia.progettohamlet.it
X-WR-CALDESC:Eventi per Hamlet
REFRESH-INTERVAL;VALUE=DURATION:PT1H
X-Robots-Tag:noindex
X-PUBLISHED-TTL:PT1H
BEGIN:VTIMEZONE
TZID:Europe/Rome
BEGIN:DAYLIGHT
TZOFFSETFROM:+0100
TZOFFSETTO:+0200
TZNAME:CEST
DTSTART:20230326T010000
END:DAYLIGHT
BEGIN:STANDARD
TZOFFSETFROM:+0200
TZOFFSETTO:+0100
TZNAME:CET
DTSTART:20231029T010000
END:STANDARD
BEGIN:DAYLIGHT
TZOFFSETFROM:+0100
TZOFFSETTO:+0200
TZNAME:CEST
DTSTART:20240331T010000
END:DAYLIGHT
BEGIN:STANDARD
TZOFFSETFROM:+0200
TZOFFSETTO:+0100
TZNAME:CET
DTSTART:20241027T010000
END:STANDARD
BEGIN:DAYLIGHT
TZOFFSETFROM:+0100
TZOFFSETTO:+0200
TZNAME:CEST
DTSTART:20250330T010000
END:DAYLIGHT
BEGIN:STANDARD
TZOFFSETFROM:+0200
TZOFFSETTO:+0100
TZNAME:CET
DTSTART:20251026T010000
END:STANDARD
END:VTIMEZONE
BEGIN:VEVENT
DTSTART;TZID=Europe/Rome:20240316T170000
DTEND;TZID=Europe/Rome:20240316T190000
DTSTAMP:20260421T161904
CREATED:20240407T220926Z
LAST-MODIFIED:20240407T220926Z
UID:6179-1710608400-1710615600@home.reggioemilia.progettohamlet.it
SUMMARY:GAMES & BOOKS
DESCRIPTION:Questo è un evento dell’Ambito B. \nCHI NON AMA I GIOCHI DA TAVOLO?!? :star_struck:\na partire da Sabato 20 Gennaio tre appuntamenti da non perdere!\n:calling: se vuoi partecipare scrivi qui: associazionelamirandola@gmail.com\n:boy: età 11-16 anni
URL:https://home.reggioemilia.progettohamlet.it/event/games-books/
LOCATION:Via Bandiera 12a\, via Bandiera 12a\, Reggio Emilia
END:VEVENT
BEGIN:VEVENT
DTSTART;TZID=Europe/Rome:20240316T170000
DTEND;TZID=Europe/Rome:20240316T180000
DTSTAMP:20260421T161904
CREATED:20240407T221100Z
LAST-MODIFIED:20240407T221100Z
UID:6368-1710608400-1710612000@home.reggioemilia.progettohamlet.it
SUMMARY:Mostra open air al Catomes Tot
DESCRIPTION:Questo è un evento del Centro Storico. \nLa mostra Be-Everything Be-Long ne è l’esito ed inaugura sabato 16 marzo alle 17 al Centro sociale Catomes Tot\, non a caso\, in occasione della XX Edizione della Settimana contro il razzismo 2024.\nLa mostra raccoglie i ritratti di dodici giovani che si sono confrontati sui temi delle identità e del senso di appartenenza da una prospettiva interculturale.\nGli scatti sono stati realizzati da due giovani fotografi del Collettivo Cavedio di Sd Factory\, che hanno partecipato a tutto il progetto\, e le frasi a sfondo delle foto rappresentano la sintesi della riflessione collettiva.\nL’inaugurazione della mostra avrà inizio alle ore 17 con un’attivazione di Body Percussion a cura di Giro del cielo\, proseguirà con l’installazione delle foto sui muri esterni del Centro Sociale Catomes Tot a cura dei giovani protagonisti e finirà con un aperitivo e djset
URL:https://home.reggioemilia.progettohamlet.it/event/mostra-open-air-al-catomes-tot/
LOCATION:Via Guido Panciroli\, Via Guido Panciroli\, 12 42121 Reggio nell'Emilia
END:VEVENT
BEGIN:VEVENT
DTSTART;TZID=Europe/Rome:20240316T163000
DTEND;TZID=Europe/Rome:20240316T190000
DTSTAMP:20260421T161904
CREATED:20240407T215902Z
LAST-MODIFIED:20240407T215902Z
UID:7376-1710606600-1710615600@home.reggioemilia.progettohamlet.it
SUMMARY:LABORATORI PER BAMBINI
DESCRIPTION:La descrizione di questo evento contiene caratteri non supportati.
URL:https://home.reggioemilia.progettohamlet.it/event/laboratori-per-bambini-4/
LOCATION:Via Emilia San Pietro 14\, Via Emilia San Pietro 14\, RE
END:VEVENT
BEGIN:VEVENT
DTSTART;TZID=Europe/Rome:20240316T163000
DTEND;TZID=Europe/Rome:20240316T190000
DTSTAMP:20260421T161904
CREATED:20240407T215900Z
LAST-MODIFIED:20240407T215900Z
UID:7372-1710606600-1710615600@home.reggioemilia.progettohamlet.it
SUMMARY:LABORATORI PER BAMBINI
DESCRIPTION:La descrizione di questo evento contiene caratteri non supportati.
URL:https://home.reggioemilia.progettohamlet.it/event/laboratori-per-bambini-3/
LOCATION:Via Emilia San Pietro 14\, Via Emilia San Pietro 14\, RE
END:VEVENT
BEGIN:VEVENT
DTSTART;TZID=Europe/Rome:20240316T160000
DTEND;TZID=Europe/Rome:20240316T180000
DTSTAMP:20260421T161904
CREATED:20240407T220941Z
LAST-MODIFIED:20240407T220941Z
UID:6208-1710604800-1710612000@home.reggioemilia.progettohamlet.it
SUMMARY:TRIBUTO A HENRI ROUSSEAU
DESCRIPTION:Questo è un evento dell’Ambito C. \nMostra di opere d’arte e Laboratori presso l’ Azienda agricola Api Libere dedicata ad Henri Rousseau\nOpening ore 16.00\nvisitabile su appuntamento\n:phone: Prenotati al numero whatsapp 3491216371\n![](https://ambitoc.re.progettohamlet.it/file/file/download?guid=ab60d591-7f5d-464a-ae44-4641b5f182e6 =300x)
URL:https://home.reggioemilia.progettohamlet.it/event/tributo-a-henri-rousseau-11/
LOCATION:via cavicchioni 11\, Via Cavicchioni 11\, 42124\, Reggio Emilia
END:VEVENT
BEGIN:VEVENT
DTSTART;TZID=Europe/Rome:20240316T153000
DTEND;TZID=Europe/Rome:20240316T183000
DTSTAMP:20260421T161904
CREATED:20240407T215709Z
LAST-MODIFIED:20240407T215709Z
UID:7113-1710603000-1710613800@home.reggioemilia.progettohamlet.it
SUMMARY:FORMAZIONE PER ADULTI
DESCRIPTION:La descrizione di questo evento contiene caratteri non supportati.
URL:https://home.reggioemilia.progettohamlet.it/event/formazione-per-adulti/
LOCATION:Via Fratelli Bandiera\, Via Fratelli Bandiera\, 12/a\, Reggio Emilia
END:VEVENT
BEGIN:VEVENT
DTSTART;TZID=Europe/Rome:20240316T100000
DTEND;TZID=Europe/Rome:20240316T110000
DTSTAMP:20260421T161904
CREATED:20240407T215911Z
LAST-MODIFIED:20240407T215911Z
UID:7396-1710583200-1710586800@home.reggioemilia.progettohamlet.it
SUMMARY:UNIJUNIOR -conoscere per crescere-
DESCRIPTION:La descrizione di questo evento contiene caratteri non supportati.
URL:https://home.reggioemilia.progettohamlet.it/event/unijunior-conoscere-per-crescere-6/
LOCATION:Viale Antonio Allegri\, Viale Antonio Allegri\, 8/a 42121 Reggio Emilia RE
END:VEVENT
BEGIN:VEVENT
DTSTART;TZID=Europe/Rome:20240316T100000
DTEND;TZID=Europe/Rome:20240316T110000
DTSTAMP:20260421T161904
CREATED:20240407T215903Z
LAST-MODIFIED:20240407T215903Z
UID:7377-1710583200-1710586800@home.reggioemilia.progettohamlet.it
SUMMARY:UNIJUNIOR -conoscere per crescere-
DESCRIPTION:La descrizione di questo evento contiene caratteri non supportati.
URL:https://home.reggioemilia.progettohamlet.it/event/unijunior-conoscere-per-crescere-5/
LOCATION:Viale Antonio Allegri\, Viale Antonio Allegri\, 8/a 42121 Reggio Emilia RE
END:VEVENT
BEGIN:VEVENT
DTSTART;TZID=Europe/Rome:20240315T173000
DTEND;TZID=Europe/Rome:20240315T183000
DTSTAMP:20260421T161904
CREATED:20240407T215904Z
LAST-MODIFIED:20240407T215904Z
UID:7378-1710523800-1710527400@home.reggioemilia.progettohamlet.it
SUMMARY:REGGIO CITTÀ SENZA BARRIERE
DESCRIPTION:La descrizione di questo evento contiene caratteri non supportati.
URL:https://home.reggioemilia.progettohamlet.it/event/reggio-citta-senza-barriere/
LOCATION:Via Emilia San Pietro\, Via Emilia San Pietro\, 44c\, Reggio Emilia
END:VEVENT
BEGIN:VEVENT
DTSTART;TZID=Europe/Rome:20240315T160000
DTEND;TZID=Europe/Rome:20240315T180000
DTSTAMP:20260421T161904
CREATED:20240407T220939Z
LAST-MODIFIED:20240407T220939Z
UID:6202-1710518400-1710525600@home.reggioemilia.progettohamlet.it
SUMMARY:TRIBUTO A HENRI ROUSSEAU
DESCRIPTION:Questo è un evento dell’Ambito C. \nMostra di opere d’arte e Laboratori presso l’ Azienda agricola Api Libere dedicata ad Henri Rousseau\nOpening ore 16.00\nvisitabile su appuntamento\n:phone: Prenotati al numero whatsapp 3491216371\n![](https://ambitoc.re.progettohamlet.it/file/file/download?guid=ab60d591-7f5d-464a-ae44-4641b5f182e6 =300x)
URL:https://home.reggioemilia.progettohamlet.it/event/tributo-a-henri-rousseau-5/
LOCATION:via cavicchioni 11\, Via Cavicchioni 11\, 42124\, Reggio Emilia
END:VEVENT
BEGIN:VEVENT
DTSTART;TZID=Europe/Rome:20240314T203000
DTEND;TZID=Europe/Rome:20240314T220000
DTSTAMP:20260421T161904
CREATED:20240407T221102Z
LAST-MODIFIED:20240407T221102Z
UID:6375-1710448200-1710453600@home.reggioemilia.progettohamlet.it
SUMMARY:SPETTACOLO TEATRALE: NUDO ARTISTICO
DESCRIPTION:Questo è un evento del Centro Storico. \nLo spettacolo racconta la storia di un gruppo di signore “age’” facenti parte di un’associazione benefica femminile. Sei donne disposte a spogliarsi di tutto per una buona causa.\n:mobile phone with arrow: Per informazioni:  tel 349 593 6762\nEvento realizzato dall’Associazione Vittorio Lodini- Senonaltro in collaborazione con il Comune di Reggio Emilia.\n:red heart: I proventi dello spettacolo teatrale andranno a sostenere il progetto  Rosaterapia\, che ci ha consentito in questi 2 anni di donare 1.000 coperte alle pazienti in cura  radioterapica. \nLe coperte sono realizzate a mano da donne che hanno vissuto sulla propria pelle la stessa esperienza di malattia o hanno assistito familiari o amiche e che\, attraverso la coperta\, vogliono portare conforto e sostegno ad altre donne durante il loro percorso terapeutico\, come un caldo abbraccio durante le sedute di radioterapia. In occasione del mese di marzo dedicato alle donne e alla prevenzione del tumore al seno.\n:money bag: Spettacolo teatrale con ingresso ad offerta libera \nRegia di Annalisa Baio\nCon Con Danae Bilotti\, Barbara Iemmi\, Marisa Di Mizio\, Antonella Bigarelli\, Laura Cantarelli\, Eddi Fantini\, Ilaria Nurra\, Paola Vicentini\, Angela Scarabelli e Roberto Piccinini
URL:https://home.reggioemilia.progettohamlet.it/event/spettacolo-teatrale-nudo-artistico/
LOCATION:Viale A. Allegri\, Viale A. Allegri\, 8\, Reggio Emilia
END:VEVENT
BEGIN:VEVENT
DTSTART;TZID=Europe/Rome:20240314T203000
DTEND;TZID=Europe/Rome:20240314T210000
DTSTAMP:20260421T161904
CREATED:20240515T110015Z
LAST-MODIFIED:20240515T110015Z
UID:6910-1710448200-1710450000@home.reggioemilia.progettohamlet.it
SUMMARY:Assemblea pubblica di presentazione dei progetti delle frazioni e dei quartieri dell'Area Nord
DESCRIPTION:Questo è un evento di Progetti. \nAssemblea pubblica\, organizzata dal Comune e dalla consulta G\, di presentazione dei progetti delle frazioni e dei quartieri dell’Area Nord. Interverranno il Sindaco Luca Vecchi e il Vice Sindaco e Assessore alla rigenerazione e all’area vasta Alex Pratissoli.\nASSEMBLEA PUBBLICA Frazioni e quartieri area nord
URL:https://home.reggioemilia.progettohamlet.it/event/assemblea-pubblica-di-presentazione-dei-progetti-delle-frazioni-e-dei-quartieri-dellarea-nord/
LOCATION:CIRCOLO ARCI LA CAPANNINA PARADISA\, CIRCOLO ARCI LA CAPANNINA PARADISA
END:VEVENT
BEGIN:VEVENT
DTSTART;TZID=Europe/Rome:20240314T183000
DTEND;TZID=Europe/Rome:20240314T203000
DTSTAMP:20260421T161904
CREATED:20240407T221021Z
LAST-MODIFIED:20240407T221021Z
UID:6294-1710441000-1710448200@home.reggioemilia.progettohamlet.it
SUMMARY:PLENARIA CONSULTA D
DESCRIPTION:Questo è un evento dell’Ambito D. \nODG\n-Relazione Coordinatori;\n-Evento EUARENAS e camminata Consulta;\n-Organizzazione evento HAMLET;\n-Aggiornamenti strada scolastica Calvino;\n-Resoconto evento BICIPLAN;\n-Varie ed eventuali.
URL:https://home.reggioemilia.progettohamlet.it/event/plenaria-consulta-d-8/
LOCATION:Polo Sud\, Polo Sud\, via Gandhi 20
END:VEVENT
BEGIN:VEVENT
DTSTART;TZID=Europe/Rome:20240314T183000
DTEND;TZID=Europe/Rome:20240314T200000
DTSTAMP:20260421T161904
CREATED:20240515T110014Z
LAST-MODIFIED:20240515T110014Z
UID:6908-1710441000-1710446400@home.reggioemilia.progettohamlet.it
SUMMARY:Convocazione incontro  Consulta D aperto alla cittadinanza
DESCRIPTION:Questo è un evento di Progetti. \nConvocazione Consulta D_ ore 18.30_14.03.2024.pdf
URL:https://home.reggioemilia.progettohamlet.it/event/convocazione-incontro-consulta-d-aperto-alla-cittadinanza/
LOCATION:Polo sociale territoriale Sud\, Polo sociale territoriale Sud
END:VEVENT
BEGIN:VEVENT
DTSTART;TZID=Europe/Rome:20240314T173000
DTEND;TZID=Europe/Rome:20240314T190000
DTSTAMP:20260421T161904
CREATED:20240407T221016Z
LAST-MODIFIED:20240407T221016Z
UID:6282-1710437400-1710442800@home.reggioemilia.progettohamlet.it
SUMMARY:RIUNIONE PARCO DEL LEGNO (TAVOLO AMBIENTE)
DESCRIPTION:Questo è un evento dell’Ambito D.
URL:https://home.reggioemilia.progettohamlet.it/event/riunione-parco-del-legno-tavolo-ambiente/
LOCATION:Sede Legambiente\, Sede Legambiente\, via Mazzacurati 11
END:VEVENT
BEGIN:VEVENT
DTSTART;TZID=Europe/Rome:20240314T110000
DTEND;TZID=Europe/Rome:20240314T120000
DTSTAMP:20260421T161904
CREATED:20240407T215814Z
LAST-MODIFIED:20240407T215814Z
UID:7265-1710414000-1710417600@home.reggioemilia.progettohamlet.it
SUMMARY:calendario dei laboratori Creativi con Animazione ARTE in GIOCO Eventi
DESCRIPTION:La descrizione di questo evento contiene caratteri non supportati.
URL:https://home.reggioemilia.progettohamlet.it/event/calendario-dei-laboratori-creativi-con-animazione-arte-in-gioco-eventi-4/
LOCATION:Via A. Frank 48\, Via A. Frank 48\, 42122\, Reggio Emilia (RE)
END:VEVENT
BEGIN:VEVENT
DTSTART;TZID=Europe/Rome:20240313T180000
DTEND;TZID=Europe/Rome:20240313T200000
DTSTAMP:20260421T161904
CREATED:20240407T221013Z
LAST-MODIFIED:20240407T221013Z
UID:6277-1710352800-1710360000@home.reggioemilia.progettohamlet.it
SUMMARY:PRESENTAZIONE PERCORSO PARCO DEL RODANO
DESCRIPTION:Questo è un evento dell’Ambito D.
URL:https://home.reggioemilia.progettohamlet.it/event/presentazione-percorso-parco-del-rodano/
LOCATION:Centro Sociale Spallanzani – Orti\, Centro Sociale Spallanzani - Orti\, via Toscanini 20
END:VEVENT
BEGIN:VEVENT
DTSTART;TZID=Europe/Rome:20240312T203000
DTEND;TZID=Europe/Rome:20240312T230000
DTSTAMP:20260421T161904
CREATED:20240407T215650Z
LAST-MODIFIED:20240407T215650Z
UID:7067-1710275400-1710284400@home.reggioemilia.progettohamlet.it
SUMMARY:Assemblea pubblica - Riqualificazione della via Emilia
DESCRIPTION:La descrizione di questo evento contiene caratteri non supportati.
URL:https://home.reggioemilia.progettohamlet.it/event/assemblea-pubblica-riqualificazione-della-via-emilia/
LOCATION:circolo arci cella\, Circolo Arci Cella
END:VEVENT
BEGIN:VEVENT
DTSTART;TZID=Europe/Rome:20240312T203000
DTEND;TZID=Europe/Rome:20240312T223000
DTSTAMP:20260421T161904
CREATED:20240515T110016Z
LAST-MODIFIED:20240515T110016Z
UID:6915-1710275400-1710282600@home.reggioemilia.progettohamlet.it
SUMMARY:Assemblea pubblica di presentazione dei progetto di riqualificazione della Via Emilia
DESCRIPTION:Questo è un evento di Progetti. \nMartedì 12 marzo si terrà un’assemblea pubblica di presentazione del progetto di riqualificazione della Via Emilia. Saranno presenti l’Assessora alla Mobilità Carlotta Bonvicini e la Dirigente del Servizio cura della città Ursula Montanari.\nASSEMBLEA PUBBLICA_Riqualificazione_Via_Emilia_Cella_120324.pdf
URL:https://home.reggioemilia.progettohamlet.it/event/assemblea-pubblica-di-presentazione-dei-progetto-di-riqualificazione-della-via-emilia/
LOCATION:circolo arci cella\, Circolo Arci Cella
END:VEVENT
BEGIN:VEVENT
DTSTART;TZID=Europe/Rome:20240310T160000
DTEND;TZID=Europe/Rome:20240310T210000
DTSTAMP:20260421T161904
CREATED:20240407T220858Z
LAST-MODIFIED:20240407T220858Z
UID:6124-1710086400-1710104400@home.reggioemilia.progettohamlet.it
SUMMARY:FESTA DI PRIMAVERA
DESCRIPTION:Questo è un evento dell’Ambito A. \necco il prossimo evento gratuito al quale sei invitato: FESTA DI PRIMAVERA :hibiscus::blossom::cherry blossom:\nOccasione per incontrarsi e danzare insieme le danze proposte in questo secondo trimestre con il consueto buffet condiviso (ognuno può partecipare portando qualcosa) che sarà a disposizione durante tutta la durata dell’evento\n:round pushpin:Reggio Emilia | Circolo Rondò | Via G. Rinaldi 45\nDomenica 10 Marzo 2024 :four o’clock: dalle ore 16.00 alle 21.00\nAmici\, conoscenti e parenti saranno i benvenuti! :smiling face with open hands:
URL:https://home.reggioemilia.progettohamlet.it/event/festa-di-primavera/
LOCATION:via Rinaldi 45\, Via Rinaldi 45\, 42124\, Reggio Emilia (RE)
END:VEVENT
BEGIN:VEVENT
DTSTART;TZID=Europe/Rome:20240310T110000
DTEND;TZID=Europe/Rome:20240310T120000
DTSTAMP:20260421T161904
CREATED:20240407T221017Z
LAST-MODIFIED:20240407T221017Z
UID:6284-1710068400-1710072000@home.reggioemilia.progettohamlet.it
SUMMARY:INAUGURAZIONE 11 NUOVI SENTIERI
DESCRIPTION:Questo è un evento dell’Ambito D. \n“Reggio Città dei Sentieri” – 11 nuovi itinerari per esplorare il territorio comunale passeggiando tra quartieri e campagna \nSi parte a marzo con il percorso che unisce il parco del Rodano al Parco del Crostolo e con l’anello di Massenzatico.\nLa rete degli itinerari pedonali del progetto “Reggio città dei sentieri” si allarga con l’inaugurazione\, a partire dal 10 marzo\, di 11 nuovi percorsi che attraversano la città e il forese\, offrendo occasioni di mobilità dolce\, attività fisica e nuove connessioni urbane ed extraurbane alla scoperta del territorio. \nDomenica 10 marzo sarà inaugurato con una camminata il sentiero che collega i due percorsi Cai 646V e 646T.\nIl secondo sentiero ad essere inaugurato domenica 17 marzo sarà invece l’anello dei murales di Corticella \n:mobile phone with arrow: per maggiori informazioni\, visita il sito del comune :backhand index pointing right: Progetto “Reggio Città dei Sentieri” – 11 nuovi itinerari per esplorare il terri – Comune di Reggio Emilia
URL:https://home.reggioemilia.progettohamlet.it/event/inaugurazione-11-nuovi-sentieri/
LOCATION:Passeggiata del Crostolo 42123 RE\, Passeggiata del Crostolo 42123 RE
END:VEVENT
BEGIN:VEVENT
DTSTART;TZID=Europe/Rome:20240310T110000
DTEND;TZID=Europe/Rome:20240310T120000
DTSTAMP:20260421T161904
CREATED:20240407T221017Z
LAST-MODIFIED:20240407T221017Z
UID:6285-1710068400-1710072000@home.reggioemilia.progettohamlet.it
SUMMARY:INAUGURAZIONE 11 NUOVI SENTIERI
DESCRIPTION:Questo è un evento dell’Ambito D. \n“Reggio Città dei Sentieri” – 11 nuovi itinerari per esplorare il territorio comunale passeggiando tra quartieri e campagna \nSi parte a marzo con il percorso che unisce il parco del Rodano al Parco del Crostolo e con l’anello di Massenzatico.\nLa rete degli itinerari pedonali del progetto “Reggio città dei sentieri” si allarga con l’inaugurazione\, a partire dal 10 marzo\, di 11 nuovi percorsi che attraversano la città e il forese\, offrendo occasioni di mobilità dolce\, attività fisica e nuove connessioni urbane ed extraurbane alla scoperta del territorio. \nDomenica 10 marzo sarà inaugurato con una camminata il sentiero che collega i due percorsi Cai 646V e 646T.\nIl secondo sentiero ad essere inaugurato domenica 17 marzo sarà invece l’anello dei murales di Corticella \n:mobile phone with arrow: per maggiori informazioni\, visita il sito del comune :backhand index pointing right: Progetto “Reggio Città dei Sentieri” – 11 nuovi itinerari per esplorare il terri – Comune di Reggio Emilia
URL:https://home.reggioemilia.progettohamlet.it/event/inaugurazione-11-nuovi-sentieri-2/
LOCATION:Passeggiata del Crostolo 42123 RE\, Passeggiata del Crostolo 42123 RE
END:VEVENT
BEGIN:VEVENT
DTSTART;TZID=Europe/Rome:20240310T100000
DTEND;TZID=Europe/Rome:20240310T170000
DTSTAMP:20260421T161904
CREATED:20240407T220910Z
LAST-MODIFIED:20240407T220910Z
UID:7024-1710064800-1710090000@home.reggioemilia.progettohamlet.it
SUMMARY:ALLATTARE È UN GRAN LAVORO
DESCRIPTION:Questo è un evento dell’Ambito B. \nDue giornate di Set fotografico presso il Baby Pit – Stop\nA Cura di – Con gli occhi aperti\nIn collaborazione con il Gruppo Fotografico La Mirandola\nProssime date: \ndomenica 3 Marzo 2024 \ndomenica 10 Marzo 2024 \nOrari:\nDalle ore 10.00 alle ore 17.00\nLe mamme che lo desiderano potranno farsi fotografare mentre allattano\, le foto scelte insieme verranno esposte in mostra Presso il Baby Pit Stop e date in omaggio alle partecipanti.\nInfo\nPer informazioni:\nhola@juani.net\ncentrosocialelamirandola@gmail.com\nOrganizzato da:\nCon gli occhi aperti\nIn collaborazione con il Gruppo Fotografico La Mirandola\, Baby Pit Stop\, Centro Sociale La Mirandola\, Ancescao
URL:https://home.reggioemilia.progettohamlet.it/event/allattare-e-un-gran-lavoro-3/
LOCATION:Via Fratelli Bandiera\, Via Fratelli Bandiera\, 12/a\, Reggio Emilia
END:VEVENT
BEGIN:VEVENT
DTSTART;TZID=Europe/Rome:20240310T100000
DTEND;TZID=Europe/Rome:20240310T110000
DTSTAMP:20260421T161904
CREATED:20240407T215811Z
LAST-MODIFIED:20240407T215811Z
UID:7259-1710064800-1710068400@home.reggioemilia.progettohamlet.it
SUMMARY:Reggio Emilia Città dei Sentieri
DESCRIPTION:La descrizione di questo evento contiene caratteri non supportati.
URL:https://home.reggioemilia.progettohamlet.it/event/reggio-emilia-citta-dei-sentieri/
LOCATION:via Wybicki RE\, via Wybicki RE
END:VEVENT
BEGIN:VEVENT
DTSTART;TZID=Europe/Rome:20240309T160000
DTEND;TZID=Europe/Rome:20240309T180000
DTSTAMP:20260421T161904
CREATED:20240407T221041Z
LAST-MODIFIED:20240407T221041Z
UID:6332-1710000000-1710007200@home.reggioemilia.progettohamlet.it
SUMMARY:Laboratorio Assiko Migrante
DESCRIPTION:Questo è un evento dell’Ambito H. \nOgni sabato a partire dal 9 Marzo\nPer imparare a costruire\, suonare e cantare le PERCUSSIONI\nScopo: formare un gruppo che si esibisca ad iniziative di SOLIDARIETA’.\nLo spazio è messo a disposizione da Coress Società Cooperativa Sociale. Il corso è gratuito\, i posti sono limitati.\nPer Informazioni e iscrizioni contatta: 3387240461
URL:https://home.reggioemilia.progettohamlet.it/event/laboratorio-assiko-migrante/
LOCATION:Viale Ramazzini 33  (ex Maffia)\, Viale Ramazzini 33 (ex Maffia)
END:VEVENT
BEGIN:VEVENT
DTSTART;TZID=Europe/Rome:20240309T160000
DTEND;TZID=Europe/Rome:20240309T180000
DTSTAMP:20260421T161904
CREATED:20240407T220943Z
LAST-MODIFIED:20240407T220943Z
UID:6212-1710000000-1710007200@home.reggioemilia.progettohamlet.it
SUMMARY:TRIBUTO A HENRI ROUSSEAU
DESCRIPTION:Questo è un evento dell’Ambito C. \nMostra di opere d’arte e Laboratori presso l’ Azienda agricola Api Libere dedicata ad Henri Rousseau\nOpening ore 16.00\nvisitabile su appuntamento\n:phone: Prenotati al numero whatsapp 3491216371\n![](https://ambitoc.re.progettohamlet.it/file/file/download?guid=ab60d591-7f5d-464a-ae44-4641b5f182e6 =300x)
URL:https://home.reggioemilia.progettohamlet.it/event/tributo-a-henri-rousseau-12/
LOCATION:via cavicchioni 11\, Via Cavicchioni 11\, 42124\, Reggio Emilia
END:VEVENT
BEGIN:VEVENT
DTSTART;TZID=Europe/Rome:20240309T160000
DTEND;TZID=Europe/Rome:20240309T170000
DTSTAMP:20260421T161904
CREATED:20240407T221104Z
LAST-MODIFIED:20240407T221104Z
UID:6383-1710000000-1710003600@home.reggioemilia.progettohamlet.it
SUMMARY:TEATRO SAN PROSPERO - "7IN1 COLPO"
DESCRIPTION:Questo è un evento del Centro Storico. \nspettacolo per bambini organizzato da Fondazione Famiglia Sarzi – La Casa dei Burattini\n:admission tickets: biglietti qui \nDa un’idea di Marco Lucci e Matthias Traeger\nCon Marco Lucci\nRegia Matthias Traeger \n7in1 Colpo\nSpettacolo per bambini e famiglie dai 3 anni in su\nGiovanni è un piccolo sarto dai baffi lunghi e dalle gambe corte che saltella per la sua bottega tra le stoffe colorate. Un giorno mentre stava cucendo la gonna della sig.ra Roberta si trova ad affrontare 7 mosche furbette che volevano rubargli la marmellata. E lui\, le fece fuori in un colpo! Era tanto orgoglioso della sua vittoria che se lo scrisse addosso: ”7in1 colpo”.\nMa non aveva scritto mosche! Così nascerà l’equivoco che lo porterà davanti a un nemico ben più pericoloso di una mosca: il piccolo sartolino dai lunghi baffi contro quel bestione del Gigante dai capelli verdi… Ma\, non è possibile\, se lo mangia in un boccone! Come può farcela?\nQuesto lo scopriremo insieme!
URL:https://home.reggioemilia.progettohamlet.it/event/teatro-san-prospero-7in1-colpo/
LOCATION:Via Guidelli\, Via Guidelli\, 5 42121 Reggio Emilia RE
END:VEVENT
BEGIN:VEVENT
DTSTART;TZID=Europe/Rome:20240309T153000
DTEND;TZID=Europe/Rome:20240309T183000
DTSTAMP:20260421T161904
CREATED:20240407T220917Z
LAST-MODIFIED:20240407T220917Z
UID:6160-1709998200-1710009000@home.reggioemilia.progettohamlet.it
SUMMARY:LABORATORIO PER ADULTI E 10+
DESCRIPTION:Questo è un evento dell’Ambito B. \nDue laboratori per te \nlaboratorio costruzione timbri “ex libris”\nlaboratorio di rilegatura giapponese \n:moneybag: prenotazione obbligatoria\, contributo richiesto\nLe proposte esclusive delle Galline Volanti per la Casetta a Scacchi ![](https://static.xx.fbcdn.net/images/emoji.php/v9/t99/1.5/16/1f4a5.png =16×16)\n:spiral_calendar: Segnatevi in calendario ciò che vi interessa!\nPer prenotazioni e info scrivete a eventi@gallinevolanti.com\nCentro Sociale La Mirandola
URL:https://home.reggioemilia.progettohamlet.it/event/laboratorio-per-adulti-e-10/
LOCATION:Via Bandiera 12a\, via Bandiera 12a\, Reggio Emilia
END:VEVENT
BEGIN:VEVENT
DTSTART;TZID=Europe/Rome:20240309T120000
DTEND;TZID=Europe/Rome:20240309T130000
DTSTAMP:20260421T161904
CREATED:20240407T215910Z
LAST-MODIFIED:20240407T215910Z
UID:7393-1709985600-1709989200@home.reggioemilia.progettohamlet.it
SUMMARY:visite guidate all'architettura dipinta del centro storico
DESCRIPTION:La descrizione di questo evento contiene caratteri non supportati.
URL:https://home.reggioemilia.progettohamlet.it/event/visite-guidate-allarchitettura-dipinta-del-centro-storico/
LOCATION:Piazza Camillo Prampolini\, Piazza Camillo Prampolini\, 1\, Reggio Emilia
END:VEVENT
BEGIN:VEVENT
DTSTART;TZID=Europe/Rome:20240309T104500
DTEND;TZID=Europe/Rome:20240309T120000
DTSTAMP:20260421T161904
CREATED:20240407T221027Z
LAST-MODIFIED:20240407T221027Z
UID:6307-1709981100-1709985600@home.reggioemilia.progettohamlet.it
SUMMARY:INAUGURAZIONE "CASA DOMANI"
DESCRIPTION:Questo è un evento dell’Ambito D. \nSiamo lieti di invitarvi all’inaugurazione di \n “CASA DOMANI”     \nSABATO 9 MARZO ALLE 10\,45 \n:round_pushpin: Piazza Lino Grossi 19\, Reggio Emilia\, quartiere Foscato \nLa Vostra presenza rappresenterebbe un segno di vicinanza alla fondazione ed ai suoi progetti. \nUn caro saluto \nInnocenza Grillone\npresidente Fondazione Durante e Dopo di Noi di Reggio Emilia\n:calling: Pagina Facebook: Fondazione Durante E Dopo Di Noi
URL:https://home.reggioemilia.progettohamlet.it/event/inaugurazione-casa-domani/
LOCATION:Piazza Lino Grossi 19\, Piazza Lino Grossi 19\, Reggio Emilia
END:VEVENT
END:VCALENDAR