BEGIN:VCALENDAR
VERSION:2.0
PRODID:-//Hamlet - ECPv6.15.12//NONSGML v1.0//EN
CALSCALE:GREGORIAN
METHOD:PUBLISH
X-WR-CALNAME:Hamlet
X-ORIGINAL-URL:https://home.reggioemilia.progettohamlet.it
X-WR-CALDESC:Eventi per Hamlet
REFRESH-INTERVAL;VALUE=DURATION:PT1H
X-Robots-Tag:noindex
X-PUBLISHED-TTL:PT1H
BEGIN:VTIMEZONE
TZID:Europe/Rome
BEGIN:DAYLIGHT
TZOFFSETFROM:+0100
TZOFFSETTO:+0200
TZNAME:CEST
DTSTART:20230326T010000
END:DAYLIGHT
BEGIN:STANDARD
TZOFFSETFROM:+0200
TZOFFSETTO:+0100
TZNAME:CET
DTSTART:20231029T010000
END:STANDARD
BEGIN:DAYLIGHT
TZOFFSETFROM:+0100
TZOFFSETTO:+0200
TZNAME:CEST
DTSTART:20240331T010000
END:DAYLIGHT
BEGIN:STANDARD
TZOFFSETFROM:+0200
TZOFFSETTO:+0100
TZNAME:CET
DTSTART:20241027T010000
END:STANDARD
BEGIN:DAYLIGHT
TZOFFSETFROM:+0100
TZOFFSETTO:+0200
TZNAME:CEST
DTSTART:20250330T010000
END:DAYLIGHT
BEGIN:STANDARD
TZOFFSETFROM:+0200
TZOFFSETTO:+0100
TZNAME:CET
DTSTART:20251026T010000
END:STANDARD
END:VTIMEZONE
BEGIN:VEVENT
DTSTART;TZID=Europe/Rome:20240224T163000
DTEND;TZID=Europe/Rome:20240224T180000
DTSTAMP:20260421T231701
CREATED:20240407T220922Z
LAST-MODIFIED:20240407T220922Z
UID:6170-1708792200-1708797600@home.reggioemilia.progettohamlet.it
SUMMARY:REGGIO EMILIA PER UN FUTURO DI PACE
DESCRIPTION:Questo è un evento dell’Ambito B. \n:ukraine: Reggio Emilia per un futuro di Pace :ukraine:\nReggio Emilia si mobilita “Per un futuro di pace”: è il titolo scelto per l’Appello e la Marcia che la città accoglierà in centro storico nel pomeriggio del prossimo sabato 24 febbraio\, giorno del secondo anniversario dell’invasione russa dell’Ucrania. Promossi in modo congiunto e paritario da tutti gli aderenti\, Appello e mobilitazione si realizzano nel segno di una pace che si vuole universale e riguardano tutti i teatri di conflitto presenti nel mondo.\nÈ possibile aderire all’Appello ‘Per un futuro di pace’ scrivendo all’indirizzo mail culturadipace@comune.re.it\, fino a giovedì 23 febbraio. I partecipanti alla Marcia sono invitati a esporre le Bandiere della Pace quale unico messaggio di contrasto a qualsiasi guerra e nazionalismo.\n:calling: per più informazioni: Reggio Emilia per un futuro di Pace – Comune di Reggio Emilia
URL:https://home.reggioemilia.progettohamlet.it/event/reggio-emilia-per-un-futuro-di-pace-2/
LOCATION:Porta San Pietro\, Porta San Pietro\, Reggio Emilia
END:VEVENT
BEGIN:VEVENT
DTSTART;TZID=Europe/Rome:20240224T163000
DTEND;TZID=Europe/Rome:20240224T180000
DTSTAMP:20260421T231701
CREATED:20240407T220859Z
LAST-MODIFIED:20240407T220859Z
UID:6128-1708792200-1708797600@home.reggioemilia.progettohamlet.it
SUMMARY:REGGIO EMILIA PER UN FUTURO DI PACE
DESCRIPTION:Questo è un evento dell’Ambito A. \n:ukraine: Reggio Emilia per un futuro di Pace :ukraine:\nReggio Emilia si mobilita “Per un futuro di pace”: è il titolo scelto per l’Appello e la Marcia che la città accoglierà in centro storico nel pomeriggio del prossimo sabato 24 febbraio\, giorno del secondo anniversario dell’invasione russa dell’Ucrania. Promossi in modo congiunto e paritario da tutti gli aderenti\, Appello e mobilitazione si realizzano nel segno di una pace che si vuole universale e riguardano tutti i teatri di conflitto presenti nel mondo.\nÈ possibile aderire all’Appello ‘Per un futuro di pace’ scrivendo all’indirizzo mail culturadipace@comune.re.it\, fino a giovedì 23 febbraio. I partecipanti alla Marcia sono invitati a esporre le Bandiere della Pace quale unico messaggio di contrasto a qualsiasi guerra e nazionalismo.\n:calling: per più informazioni: Reggio Emilia per un futuro di Pace – Comune di Reggio Emilia
URL:https://home.reggioemilia.progettohamlet.it/event/reggio-emilia-per-un-futuro-di-pace/
LOCATION:Porta San Pietro\, Porta San Pietro\, Reggio Emilia
END:VEVENT
BEGIN:VEVENT
DTSTART;TZID=Europe/Rome:20240224T110000
DTEND;TZID=Europe/Rome:20240224T120000
DTSTAMP:20260421T231701
CREATED:20240407T220920Z
LAST-MODIFIED:20240407T220920Z
UID:6167-1708772400-1708776000@home.reggioemilia.progettohamlet.it
SUMMARY:CORSO MUSIC FOR BABIES
DESCRIPTION:Questo è un evento dell’Ambito B. \n:notes: A Reggio Emilia\, corso di musica per genitori e bimbi 2-12 mesi in partenza il 24 febbraio!\n:calling: Info ed iscrizioni al 3471955070
URL:https://home.reggioemilia.progettohamlet.it/event/corso-music-for-babies/
LOCATION:Via Pizzetti 54\, Via Pizzetti 54\, Reggio Emilia
END:VEVENT
BEGIN:VEVENT
DTSTART;TZID=Europe/Rome:20240223T210000
DTEND;TZID=Europe/Rome:20240223T220000
DTSTAMP:20260421T231701
CREATED:20240407T220921Z
LAST-MODIFIED:20240407T220921Z
UID:6169-1708722000-1708725600@home.reggioemilia.progettohamlet.it
SUMMARY:LA NOTTE DEI RACCONTI
DESCRIPTION:Questo è un evento dell’Ambito B. \n:sleeping_bed: Un bel cuscino\n:milk_glass: Una tazza di the\n:open_book: Un buon libro\necco le tre cose che servono!\n:calling: per info: eventi@gallinevolanti.com
URL:https://home.reggioemilia.progettohamlet.it/event/la-notte-dei-racconti/
LOCATION:Via Bandiera 12a\, via Bandiera 12a\, Reggio Emilia
END:VEVENT
BEGIN:VEVENT
DTSTART;TZID=Europe/Rome:20240222T190000
DTEND;TZID=Europe/Rome:20240222T230000
DTSTAMP:20260421T231701
CREATED:20240515T110015Z
LAST-MODIFIED:20240515T110015Z
UID:6912-1708628400-1708642800@home.reggioemilia.progettohamlet.it
SUMMARY:Abbandono scolastico
DESCRIPTION:Questo è un evento di Progetti.
URL:https://home.reggioemilia.progettohamlet.it/event/abbandono-scolastico/
LOCATION:Teatro Parrocchiale di Villa Sesso Via Catellani 1\, Teatro Parrocchiale di Villa Sesso Via Catellani 1
END:VEVENT
BEGIN:VEVENT
DTSTART;TZID=Europe/Rome:20240221T210000
DTEND;TZID=Europe/Rome:20240221T220000
DTSTAMP:20260421T231701
CREATED:20240407T215824Z
LAST-MODIFIED:20240407T215824Z
UID:7291-1708549200-1708552800@home.reggioemilia.progettohamlet.it
SUMMARY:GRUPPO DI LETTURA: LIBRI SCOVATI
DESCRIPTION:La descrizione di questo evento contiene caratteri non supportati.
URL:https://home.reggioemilia.progettohamlet.it/event/gruppo-di-lettura-libri-scovati/
LOCATION:Via Rivoluzione D’Ottobre\, Via Rivoluzione D'Ottobre\, 29 42123 Reggio Emilia RE
END:VEVENT
BEGIN:VEVENT
DTSTART;TZID=Europe/Rome:20240221T203000
DTEND;TZID=Europe/Rome:20240221T223000
DTSTAMP:20260421T231701
CREATED:20240515T110016Z
LAST-MODIFIED:20240515T110016Z
UID:6914-1708547400-1708554600@home.reggioemilia.progettohamlet.it
SUMMARY:Incontro pubblico informativo contro le truffe
DESCRIPTION:Questo è un evento di Progetti. \nMercoledì 21 febbraio il LGT Antonio Orfei\, Comandante della Stazione dei Carabinieri di Santa Croce\, affronterà\, in un incontro pubblico\, il tema delle truffe informatiche e non solo .\nIncontro contro le truffe_21022024_Mancasale.pdf
URL:https://home.reggioemilia.progettohamlet.it/event/incontro-pubblico-informativo-contro-le-truffe/
LOCATION:Circolo Parrocchiale – Mancasale\, Via Gramsci\, Reggio Emilia\, Provincia di Reggio Emilia\, 42124\, Italy
END:VEVENT
BEGIN:VEVENT
DTSTART;TZID=Europe/Rome:20240221T203000
DTEND;TZID=Europe/Rome:20240221T213000
DTSTAMP:20260421T231701
CREATED:20240407T220927Z
LAST-MODIFIED:20240407T220927Z
UID:6182-1708547400-1708551000@home.reggioemilia.progettohamlet.it
SUMMARY:Dentro lo Specchio     -COSTELLAZIONI FAMILIARI  ad approccio SIMBOLO IMMAGINALE-
DESCRIPTION:Questo è un evento dell’Ambito B. \nTre appuntamenti al Centro Sociale Orologio:\nDentro lo specchio per guardare riflesse le forze che non conosciamo o che pensiamo di conoscere.\n3 incontri su degli  aspetti fondamentali per conoscerli e conoscerci.\nPAURA E CORAGGIO\nper riprendere contatto con le nostre radici\, il nostro potere istintuale e i nostri  Antenati\n** L’ABBONDANZA**\nLa via dell’ABBONDANZA è IL NOSTRO SI TOTALE A RICEVERE. Riguarda il Piacere e il Valore di Sè.\nCome ci relazioniamo con questa Dea?\nIL POTERE\nLa bellezza della nostra perfezione. Scopriamo insieme il nostro potere personale.\nCosto: 40 € a incontro
URL:https://home.reggioemilia.progettohamlet.it/event/dentro-lo-specchio-costellazioni-familiari-ad-approccio-simbolo-immaginale/
LOCATION:Via Julies Emilie Massenet 19\, Via Julies Emilie Massenet 19\, Reggio Emilia
END:VEVENT
BEGIN:VEVENT
DTSTART;TZID=Europe/Rome:20240221T183000
DTEND;TZID=Europe/Rome:20240221T200000
DTSTAMP:20260421T231701
CREATED:20240506T190010Z
LAST-MODIFIED:20240506T190010Z
UID:6311-1708540200-1708545600@home.reggioemilia.progettohamlet.it
SUMMARY:INCONTRO PRESENTAZIONE ANTENNA VIA FENULLI
DESCRIPTION:Questo è un evento dell’Ambito D. \nPresso il Circolo ARCI Fenulli.
URL:https://home.reggioemilia.progettohamlet.it/event/incontro-presentazione-antenna-via-fenulli/
LOCATION:Via Fenulli 7\, Via Fenulli 7\, 42123\, Reggio Emilia
END:VEVENT
BEGIN:VEVENT
DTSTART;TZID=Europe/Rome:20240221T183000
DTEND;TZID=Europe/Rome:20240221T200000
DTSTAMP:20260421T231701
CREATED:20240407T221026Z
LAST-MODIFIED:20240407T221026Z
UID:6305-1708540200-1708545600@home.reggioemilia.progettohamlet.it
SUMMARY:SOCIAL ERO SUM
DESCRIPTION:Questo è un evento dell’Ambito D. \nTre incontri per parlare di uso responsabile degli strumenti connessi al web
URL:https://home.reggioemilia.progettohamlet.it/event/social-ero-sum/
LOCATION:via Bismantova 13\, via Bismantova 13\, reggio emilia
END:VEVENT
BEGIN:VEVENT
DTSTART;TZID=Europe/Rome:20240220T100000
DTEND;TZID=Europe/Rome:20240301T180000
DTSTAMP:20260421T231701
CREATED:20240407T221108Z
LAST-MODIFIED:20240407T221108Z
UID:6397-1708423200-1709316000@home.reggioemilia.progettohamlet.it
SUMMARY:MOSTRA / GIULIO BIZZARRI. ARTE DIVERTISSEMENT PUBBLICITÀ
DESCRIPTION:Questo è un evento del Centro Storico. \nLa mostra cerca di ricostruire i molteplici aspetti del lavoro di Bizzarri\, di ritrovare la sua presenza come autore (spesso nascosta da una sua forma naturale di ritrosia) e di ricostruire la sua identità culturale\, decifrandone la complessa poetica attraverso gli archivi che documentano la sua attività\, pubblica e privata.\nProssime date: \nmartedì 20 Febbraio 2024 \nmercoledì 21 Febbraio 2024 \ngiovedì 22 Febbraio 2024 \nvenerdì 23 Febbraio 2024 \nsabato 24 Febbraio 2024 \ndomenica 25 Febbraio 2024 \nmartedì 27 Febbraio 2024 \nmercoledì 28 Febbraio 2024 \ngiovedì 29 Febbraio 2024 \nvenerdì 1 Marzo 2024 \nOrari:\nmartedì\, mercoledì\, giovedì 10.00 – 13.00\nvenerdì\, sabato\, domenica e festivi 10.00 – 18.00\nlunedì chiuso\nInfo\nIngresso gratuito\nMaggiori informazioni sulla mostra sul sito dei Musei Civici\nMusei Civici\nVia Spallanzani\, 1\n42121 Reggio Emilia\n:calling: tel 0522.456816 – 456477\nmusei@comune.re.it\nwww.musei.re.it
URL:https://home.reggioemilia.progettohamlet.it/event/mostra-giulio-bizzarri-arte-divertissement-pubblicita/
LOCATION:Via Spallanzani\, Via Spallanzani\, 1 42121 Reggio Emilia
END:VEVENT
BEGIN:VEVENT
DTSTART;TZID=Europe/Rome:20240219T180000
DTEND;TZID=Europe/Rome:20240219T200000
DTSTAMP:20260421T231701
CREATED:20240407T221028Z
LAST-MODIFIED:20240407T221028Z
UID:6309-1708365600-1708372800@home.reggioemilia.progettohamlet.it
SUMMARY:INCONTRO CONSULTE SU SCUOLA E WELFARE
DESCRIPTION:Questo è un evento dell’Ambito D.
URL:https://home.reggioemilia.progettohamlet.it/event/incontro-consulte-su-scuola-e-welfare/
LOCATION:Sala Rossa Comune di Reggio Emilia\, Sala Rossa Comune di Reggio Emilia\, Piazza Prampolini 1
END:VEVENT
BEGIN:VEVENT
DTSTART;TZID=Europe/Rome:20240218T150000
DTEND;TZID=Europe/Rome:20240218T180000
DTSTAMP:20260421T231701
CREATED:20240407T215829Z
LAST-MODIFIED:20240407T215829Z
UID:7305-1708268400-1708279200@home.reggioemilia.progettohamlet.it
SUMMARY:CARNEVALE POPOLARE
DESCRIPTION:La descrizione di questo evento contiene caratteri non supportati.
URL:https://home.reggioemilia.progettohamlet.it/event/carnevale-popolare/
LOCATION:via Monte Cisa\, via Monte Cisa\, Reggio nell'Emilia
END:VEVENT
BEGIN:VEVENT
DTSTART;TZID=Europe/Rome:20240217T210000
DTEND;TZID=Europe/Rome:20240217T223000
DTSTAMP:20260421T231701
CREATED:20240407T221109Z
LAST-MODIFIED:20240407T221109Z
UID:6399-1708203600-1708209000@home.reggioemilia.progettohamlet.it
SUMMARY:La solitudine del re - I 55 giorni di Aldo Moro nella prigionia del popolo
DESCRIPTION:Questo è un evento del Centro Storico. \nLa maestria di Mauro Monni fa rivivere i tremendi anni del terrorismo nel momento cruciale dell’attacco brigatista al cuore dello Stato. La consapevolezza dell’uomo potente abbandonato al proprio destino\, le macchinazioni avvenute col pretesto della “ragion di stato” e le ingerenze dei servizi segreti esteri\, rendono Aldo Moro una figura quasi shakesperiana. Un Riccardo III dei giorni nostri\, destinato al martirio nel nome della fermezza istituzionale\, condannato da una giustizia miope. La parabola discendente di un uomo lasciato solo e abbandonato dallo stesso ingranaggio che\, pur con mille distinzioni\, aveva contribuito a costruire.\nDa un’idea di: Giacomo Andrico\nDi e con: Mauro Monni\nMusiche di: Marco Lamioni\nRealizzazione video di: Paul Cameron\nVoce Riccardo III di: Luca Salemmi\nRegia di: Mauro Monni\nInfo e prenotazioni: https://www.teatrix.it/eventi/la-solitudine-del-re/
URL:https://home.reggioemilia.progettohamlet.it/event/la-solitudine-del-re-i-55-giorni-di-aldo-moro-nella-prigionia-del-popolo/
LOCATION:Via Emilia Ospizio 62\, Via Emilia Ospizio 62\, Reggio Emilia
END:VEVENT
BEGIN:VEVENT
DTSTART;TZID=Europe/Rome:20240217T160000
DTEND;TZID=Europe/Rome:20240217T170000
DTSTAMP:20260421T231701
CREATED:20240407T215913Z
LAST-MODIFIED:20240407T215913Z
UID:7402-1708185600-1708189200@home.reggioemilia.progettohamlet.it
SUMMARY:SPETTACOLO DI MARIONETTE
DESCRIPTION:La descrizione di questo evento contiene caratteri non supportati.
URL:https://home.reggioemilia.progettohamlet.it/event/spettacolo-di-marionette/
LOCATION:Via Guidelli\, Via Guidelli\, 5 42121 Reggio Emilia RE
END:VEVENT
BEGIN:VEVENT
DTSTART;TZID=Europe/Rome:20240217T153000
DTEND;TZID=Europe/Rome:20240217T183000
DTSTAMP:20260421T231701
CREATED:20240407T220923Z
LAST-MODIFIED:20240407T220923Z
UID:6173-1708183800-1708194600@home.reggioemilia.progettohamlet.it
SUMMARY:LABORATORIO PER ADULTI E 10+
DESCRIPTION:Questo è un evento dell’Ambito B. \nDue laboratori per te \nlaboratorio costruzione timbri “ex libris”\nlaboratorio di rilegatura giapponese \n:moneybag: prenotazione obbligatoria\, contributo richiesto\nLe proposte esclusive delle Galline Volanti per la Casetta a Scacchi ![](https://static.xx.fbcdn.net/images/emoji.php/v9/t99/1.5/16/1f4a5.png =16×16)\n:spiral_calendar: Segnatevi in calendario ciò che vi interessa!\nPer prenotazioni e info scrivete a eventi@gallinevolanti.com\nCentro Sociale La Mirandola
URL:https://home.reggioemilia.progettohamlet.it/event/laboratorio-per-adulti-e-10-2/
LOCATION:Via Bandiera 12a\, via Bandiera 12a\, Reggio Emilia
END:VEVENT
BEGIN:VEVENT
DTSTART;TZID=Europe/Rome:20240216T150000
DTEND;TZID=Europe/Rome:20240216T170000
DTSTAMP:20260421T231701
CREATED:20240407T221028Z
LAST-MODIFIED:20240407T221028Z
UID:6310-1708095600-1708102800@home.reggioemilia.progettohamlet.it
SUMMARY:INCONTRO SCUOLE PERTINI 1 e 2
DESCRIPTION:Questo è un evento dell’Ambito D.
URL:https://home.reggioemilia.progettohamlet.it/event/incontro-scuole-pertini-1-e-2/
LOCATION:Scuola Primaria Marco Polo\, Scuola Primaria Marco Polo\, via Medaglie d’Oro della Resistenza
END:VEVENT
BEGIN:VEVENT
DTSTART;TZID=Europe/Rome:20240215T203000
DTEND;TZID=Europe/Rome:20240215T230000
DTSTAMP:20260421T231701
CREATED:20240407T221029Z
LAST-MODIFIED:20240407T221029Z
UID:6312-1708029000-1708038000@home.reggioemilia.progettohamlet.it
SUMMARY:INCONTRO PREPARATIVO ANTENNE
DESCRIPTION:Questo è un evento dell’Ambito D.
URL:https://home.reggioemilia.progettohamlet.it/event/incontro-preparativo-antenne/
LOCATION:Circolo ARCI Fenulli\, Circolo ARCI Fenulli\, via Fenulli 7
END:VEVENT
BEGIN:VEVENT
DTSTART;TZID=Europe/Rome:20240214T093000
DTEND;TZID=Europe/Rome:20240214T120000
DTSTAMP:20260421T231701
CREATED:20240407T220859Z
LAST-MODIFIED:20240407T220859Z
UID:6127-1707903000-1707912000@home.reggioemilia.progettohamlet.it
SUMMARY:Laboratorio di Cucito
DESCRIPTION:Questo è un evento dell’Ambito A. \nLaboratorio di cucito a Cella!\nmassimo 10 iscritti a giornata\n:phone: per info 340 7728819\nla partecipazione è gratuita\n![](https://ambitoa.re.progettohamlet.it/file/file/download?guid=31664d7f-e387-43ae-aebd-dac2eda0721c =300x)
URL:https://home.reggioemilia.progettohamlet.it/event/laboratorio-di-cucito-2/
LOCATION:via vico 152\, Via Vico 152\, 42124\, Reggio Emilia (RE)
END:VEVENT
BEGIN:VEVENT
DTSTART;TZID=Europe/Rome:20240213T210000
DTEND;TZID=Europe/Rome:20240213T220000
DTSTAMP:20260421T231701
CREATED:20240407T220901Z
LAST-MODIFIED:20240407T220901Z
UID:6132-1707858000-1707861600@home.reggioemilia.progettohamlet.it
SUMMARY:Ballando sul filo dei sapori
DESCRIPTION:Questo è un evento dell’Ambito A. \nHai voglia di ballare?\nDi metterti in gioco?\nDi farti nuovi amici?\n:man_dancing: METTIAMOCI IN BALLO! :dancer:\necco un bel calendario per te\n![](https://ambitoa.re.progettohamlet.it/file/file/download?guid=91e17bb6-ed42-4750-9674-4533b35ceecd =300x)
URL:https://home.reggioemilia.progettohamlet.it/event/ballando-sul-filo-dei-sapori/
LOCATION:via Rinaldi 45\, Via Rinaldi 45\, 42124\, Reggio Emilia (RE)
END:VEVENT
BEGIN:VEVENT
DTSTART;TZID=Europe/Rome:20240213T203000
DTEND;TZID=Europe/Rome:20240213T223000
DTSTAMP:20260421T231701
CREATED:20240515T110017Z
LAST-MODIFIED:20240515T110017Z
UID:6919-1707856200-1707863400@home.reggioemilia.progettohamlet.it
SUMMARY:Incontro pubblico d'illustrazione del patto dell'ambito A
DESCRIPTION:Questo è un evento di Progetti.
URL:https://home.reggioemilia.progettohamlet.it/event/incontro-pubblico-dillustrazione-del-patto-dellambito-a/
LOCATION:circolo arci cella\, Circolo Arci Cella
END:VEVENT
BEGIN:VEVENT
DTSTART;TZID=Europe/Rome:20240213T203000
DTEND;TZID=Europe/Rome:20240213T223000
DTSTAMP:20260421T231701
CREATED:20240407T220900Z
LAST-MODIFIED:20240407T220900Z
UID:6131-1707856200-1707863400@home.reggioemilia.progettohamlet.it
SUMMARY:La consulta incontra la cittadinanza - Cella
DESCRIPTION:Questo è un evento dell’Ambito A.
URL:https://home.reggioemilia.progettohamlet.it/event/la-consulta-incontra-la-cittadinanza-cella/
LOCATION:circolo arci cella\, Circolo Arci Cella
END:VEVENT
BEGIN:VEVENT
DTSTART;TZID=Europe/Rome:20240213T203000
DTEND;TZID=Europe/Rome:20240213T220000
DTSTAMP:20260421T231701
CREATED:20240407T221029Z
LAST-MODIFIED:20240407T221029Z
UID:6313-1707856200-1707861600@home.reggioemilia.progettohamlet.it
SUMMARY:GENITORI IN formAZIONE!
DESCRIPTION:Questo è un evento dell’Ambito D. \n:clipboard: Prossimi appuntamenti\, all’interno del progetto Emily rivolti ai genitori di adolescenti per la prevenzione del ritiro sociale.\nLe serate sono dedicate all’approfondimento dei segnali emotivi e comunicativi espressi dagli adolescenti per imparare a riconoscerli.\n:calling: Per iscrizioni in presenza ed online:\nhttps://docs.google.com/…/1cJ0mGqPli8XxNTt…/edit\nPer qualsiasi ulteriore informazione:\n:phone: 0522/934769\n:email: info@cipiessere.it
URL:https://home.reggioemilia.progettohamlet.it/event/genitori-in-formazione-2/
LOCATION:via Toscanini 20\, via Toscanini 20\, Reggio Emilia
END:VEVENT
BEGIN:VEVENT
DTSTART;TZID=Europe/Rome:20240213T203000
DTEND;TZID=Europe/Rome:20240213T220000
DTSTAMP:20260421T231701
CREATED:20240407T221024Z
LAST-MODIFIED:20240407T221024Z
UID:6300-1707856200-1707861600@home.reggioemilia.progettohamlet.it
SUMMARY:GENITORI IN formAZIONE!
DESCRIPTION:Questo è un evento dell’Ambito D. \nProssimi appuntamenti\, all’interno del progetto Emily rivolti ai genitori di adolescenti per la prevenzione del ritiro sociale\, che ci vedono protagonisti nella serata dedicata all’approfondimento dei segnali emotivi e comunicativi espressi dagli adolescenti per imparare a riconoscerli.\nPer iscrizioni in presenza ed online:\nhttps://docs.google.com/…/1cJ0mGqPli8XxNTt…/edit\nPer qualsiasi ulteriore informazione\, siamo a disposizione in direct\, al numero 0522/934769 o per mail a: info@cipiessere.it\nVi aspettiamo!
URL:https://home.reggioemilia.progettohamlet.it/event/genitori-in-formazione/
LOCATION:via Toscanini 20\, via Toscanini 20\, Reggio Emilia
END:VEVENT
BEGIN:VEVENT
DTSTART;TZID=Europe/Rome:20240213T200000
DTEND;TZID=Europe/Rome:20240409T190000
DTSTAMP:20260421T231701
CREATED:20240407T220907Z
LAST-MODIFIED:20240407T220907Z
UID:6146-1707854400-1712689200@home.reggioemilia.progettohamlet.it
SUMMARY:Ballando sul filo dei sapori
DESCRIPTION:Questo è un evento dell’Ambito A. \nHai voglia di ballare?\nDi metterti in gioco?\nDi farti nuovi amici?\n:man_dancing: METTIAMOCI IN BALLO! :dancer:\necco un bel calendario per te\n![](https://ambitoa.re.progettohamlet.it/file/file/download?guid=91e17bb6-ed42-4750-9674-4533b35ceecd =300x)
URL:https://home.reggioemilia.progettohamlet.it/event/ballando-sul-filo-dei-sapori-3/
LOCATION:via Rinaldi 45\, Via Rinaldi 45\, 42124\, Reggio Emilia (RE)
END:VEVENT
BEGIN:VEVENT
DTSTART;TZID=Europe/Rome:20240213T153000
DTEND;TZID=Europe/Rome:20240213T173000
DTSTAMP:20260421T231701
CREATED:20240407T220922Z
LAST-MODIFIED:20240407T220922Z
UID:6171-1707838200-1707845400@home.reggioemilia.progettohamlet.it
SUMMARY:Piccolo laboratorio di sartoria per adolescenti
DESCRIPTION:Questo è un evento dell’Ambito B. \nA grande richiesta partirà il laboratorio di sartoria per adolescenti dai 14 ai 19 anni!\n8 incontri\, ogni martedì\, per sperimentare con le proprie mani :tada:\nIl laboratorio è tenuto da Laura Maldini e l’ attività è rivolta ai Soci A.N.C.E.S.C.A.O.\n:telephone_receiver: Per info: 3496758370 Valentina
URL:https://home.reggioemilia.progettohamlet.it/event/piccolo-laboratorio-di-sartoria-per-adolescenti/
LOCATION:Centro Sociale Orologio\, CENTRO SOCIALE OROLOGIO\, Reggio Emilia\, Italia
END:VEVENT
BEGIN:VEVENT
DTSTART;TZID=Europe/Rome:20240211T160000
DTEND;TZID=Europe/Rome:20240211T193000
DTSTAMP:20260421T231701
CREATED:20240407T220900Z
LAST-MODIFIED:20240407T220900Z
UID:6130-1707667200-1707679800@home.reggioemilia.progettohamlet.it
SUMMARY:BALLO IN MASCHERA
DESCRIPTION:Questo è un evento dell’Ambito A. \n:performing_arts: BALLO IN MASCHERA :performing_arts:\nAi primi arrivati maschera in omaggio e ai due costumi più interessanti primo e secondo premio!\n:spiral_calendar: Domenica 11 Febbraio al Circolo Rondò di Cavazzoli. Prenotazione obbligatoria!\n:email: info@terradidanza.it
URL:https://home.reggioemilia.progettohamlet.it/event/ballo-in-maschera/
LOCATION:via Rinaldi 45\, Via Rinaldi 45\, 42124\, Reggio Emilia (RE)
END:VEVENT
BEGIN:VEVENT
DTSTART;TZID=Europe/Rome:20240210T203000
DTEND;TZID=Europe/Rome:20240210T230000
DTSTAMP:20260421T231701
CREATED:20240407T221038Z
LAST-MODIFIED:20240407T221038Z
UID:6327-1707597000-1707606000@home.reggioemilia.progettohamlet.it
SUMMARY:Festa di carnevale e talent show
DESCRIPTION:Questo è un evento dell’Ambito G.
URL:https://home.reggioemilia.progettohamlet.it/event/festa-di-carnevale-e-talent-show/
LOCATION:Palestra di Gavassa\, Palestra di Gavassa
END:VEVENT
BEGIN:VEVENT
DTSTART;TZID=Europe/Rome:20240210T170000
DTEND;TZID=Europe/Rome:20240210T190000
DTSTAMP:20260421T231701
CREATED:20240407T220927Z
LAST-MODIFIED:20240407T220927Z
UID:6180-1707584400-1707591600@home.reggioemilia.progettohamlet.it
SUMMARY:GAMES & BOOKS
DESCRIPTION:Questo è un evento dell’Ambito B. \nCHI NON AMA I GIOCHI DA TAVOLO?!? :star_struck:\na partire da Sabato 20 Gennaio tre appuntamenti da non perdere!\n:calling: se vuoi partecipare scrivi qui: associazionelamirandola@gmail.com\n:boy: età 11-16 anni
URL:https://home.reggioemilia.progettohamlet.it/event/games-books-2/
LOCATION:Via Bandiera 12a\, via Bandiera 12a\, Reggio Emilia
END:VEVENT
BEGIN:VEVENT
DTSTART;TZID=Europe/Rome:20240210T153000
DTEND;TZID=Europe/Rome:20240210T183000
DTSTAMP:20260421T231701
CREATED:20240407T215717Z
LAST-MODIFIED:20240407T215717Z
UID:7132-1707579000-1707589800@home.reggioemilia.progettohamlet.it
SUMMARY:FORMAZIONE PER ADULTI
DESCRIPTION:La descrizione di questo evento contiene caratteri non supportati.
URL:https://home.reggioemilia.progettohamlet.it/event/formazione-per-adulti-3/
LOCATION:Via Fratelli Bandiera\, Via Fratelli Bandiera\, 12/a\, Reggio Emilia
END:VEVENT
END:VCALENDAR