BEGIN:VCALENDAR
VERSION:2.0
PRODID:-//Hamlet - ECPv6.15.12//NONSGML v1.0//EN
CALSCALE:GREGORIAN
METHOD:PUBLISH
X-WR-CALNAME:Hamlet
X-ORIGINAL-URL:https://home.reggioemilia.progettohamlet.it
X-WR-CALDESC:Eventi per Hamlet
REFRESH-INTERVAL;VALUE=DURATION:PT1H
X-Robots-Tag:noindex
X-PUBLISHED-TTL:PT1H
BEGIN:VTIMEZONE
TZID:Europe/Rome
BEGIN:DAYLIGHT
TZOFFSETFROM:+0100
TZOFFSETTO:+0200
TZNAME:CEST
DTSTART:20230326T010000
END:DAYLIGHT
BEGIN:STANDARD
TZOFFSETFROM:+0200
TZOFFSETTO:+0100
TZNAME:CET
DTSTART:20231029T010000
END:STANDARD
BEGIN:DAYLIGHT
TZOFFSETFROM:+0100
TZOFFSETTO:+0200
TZNAME:CEST
DTSTART:20240331T010000
END:DAYLIGHT
BEGIN:STANDARD
TZOFFSETFROM:+0200
TZOFFSETTO:+0100
TZNAME:CET
DTSTART:20241027T010000
END:STANDARD
BEGIN:DAYLIGHT
TZOFFSETFROM:+0100
TZOFFSETTO:+0200
TZNAME:CEST
DTSTART:20250330T010000
END:DAYLIGHT
BEGIN:STANDARD
TZOFFSETFROM:+0200
TZOFFSETTO:+0100
TZNAME:CET
DTSTART:20251026T010000
END:STANDARD
END:VTIMEZONE
BEGIN:VEVENT
DTSTART;TZID=Europe/Rome:20240123T203000
DTEND;TZID=Europe/Rome:20240123T223000
DTSTAMP:20260423T004816
CREATED:20240515T110019Z
LAST-MODIFIED:20240515T110019Z
UID:6929-1706041800-1706049000@home.reggioemilia.progettohamlet.it
SUMMARY:Convocazione consulta centro storico
DESCRIPTION:Questo è un evento di Progetti. \nUV Convocazione consulta centro storico _23012024.pdf
URL:https://home.reggioemilia.progettohamlet.it/event/convocazione-consulta-centro-storico/
LOCATION:Sala rossa sede municipale\, Via Gattalupa\, Reggio Emilia\, Provincia di Reggio Emilia\, 42122\, Italy
END:VEVENT
BEGIN:VEVENT
DTSTART;TZID=Europe/Rome:20240123T153000
DTEND;TZID=Europe/Rome:20240123T173000
DTSTAMP:20260423T004816
CREATED:20240407T220925Z
LAST-MODIFIED:20240407T220925Z
UID:6177-1706023800-1706031000@home.reggioemilia.progettohamlet.it
SUMMARY:Piccolo laboratorio di sartoria per adolescenti
DESCRIPTION:Questo è un evento dell’Ambito B. \nA grande richiesta partirà il laboratorio di sartoria per adolescenti dai 14 ai 19 anni!\n8 incontri\, ogni martedì\, per sperimentare con le proprie mani :tada:\nIl laboratorio è tenuto da Laura Maldini e l’ attività è rivolta ai Soci A.N.C.E.S.C.A.O.\n:telephone_receiver: Per info: 3496758370 Valentina
URL:https://home.reggioemilia.progettohamlet.it/event/piccolo-laboratorio-di-sartoria-per-adolescenti-2/
LOCATION:Centro Sociale Orologio\, CENTRO SOCIALE OROLOGIO\, Reggio Emilia\, Italia
END:VEVENT
BEGIN:VEVENT
DTSTART;TZID=Europe/Rome:20240121T160000
DTEND;TZID=Europe/Rome:20240121T190000
DTSTAMP:20260423T004816
CREATED:20240407T220947Z
LAST-MODIFIED:20240407T220947Z
UID:6223-1705852800-1705863600@home.reggioemilia.progettohamlet.it
SUMMARY:Spettacolo al Quaresimo
DESCRIPTION:Questo è un evento dell’Ambito C.
URL:https://home.reggioemilia.progettohamlet.it/event/spettacolo-al-quaresimo/
END:VEVENT
BEGIN:VEVENT
DTSTART;TZID=Europe/Rome:20240121T160000
DTEND;TZID=Europe/Rome:20240121T190000
DTSTAMP:20260423T004816
CREATED:20240407T220947Z
LAST-MODIFIED:20240407T220947Z
UID:6224-1705852800-1705863600@home.reggioemilia.progettohamlet.it
SUMMARY:Spettacolo al Quaresimo
DESCRIPTION:Questo è un evento dell’Ambito C.
URL:https://home.reggioemilia.progettohamlet.it/event/spettacolo-al-quaresimo-2/
LOCATION:Centro Sociale Quaresimo\, Centro Sociale Quaresimo
END:VEVENT
BEGIN:VEVENT
DTSTART;TZID=Europe/Rome:20240120T170000
DTEND;TZID=Europe/Rome:20240120T190000
DTSTAMP:20260423T004816
CREATED:20240407T220927Z
LAST-MODIFIED:20240407T220927Z
UID:6181-1705770000-1705777200@home.reggioemilia.progettohamlet.it
SUMMARY:GAMES & BOOKS
DESCRIPTION:Questo è un evento dell’Ambito B. \nCHI NON AMA I GIOCHI DA TAVOLO?!? :star_struck:\na partire da Sabato 20 Gennaio tre appuntamenti da non perdere!\n:calling: se vuoi partecipare scrivi qui: associazionelamirandola@gmail.com\n:boy: età 11-16 anni
URL:https://home.reggioemilia.progettohamlet.it/event/games-books-3/
LOCATION:Via Bandiera 12a\, via Bandiera 12a\, Reggio Emilia
END:VEVENT
BEGIN:VEVENT
DTSTART;TZID=Europe/Rome:20240120T160000
DTEND;TZID=Europe/Rome:20240120T180000
DTSTAMP:20260423T004816
CREATED:20240407T220946Z
LAST-MODIFIED:20240407T220946Z
UID:6221-1705766400-1705773600@home.reggioemilia.progettohamlet.it
SUMMARY:TRIBUTO A HENRI ROUSSEAU
DESCRIPTION:Questo è un evento dell’Ambito C. \nMostra di opere d’arte e Laboratori presso l’ Azienda agricola Api Libere dedicata ad Henri Rousseau\nOpening ore 16.00\nvisitabile su appuntamento\n:phone: Prenotati al numero whatsapp 3491216371\n![](https://ambitoc.re.progettohamlet.it/file/file/download?guid=ab60d591-7f5d-464a-ae44-4641b5f182e6 =300x)
URL:https://home.reggioemilia.progettohamlet.it/event/tributo-a-henri-rousseau-16/
LOCATION:via cavicchioni 11\, Via Cavicchioni 11\, 42124\, Reggio Emilia
END:VEVENT
BEGIN:VEVENT
DTSTART;TZID=Europe/Rome:20240120T103000
DTEND;TZID=Europe/Rome:20240120T130000
DTSTAMP:20260423T004816
CREATED:20240515T110019Z
LAST-MODIFIED:20240515T110019Z
UID:6931-1705746600-1705755600@home.reggioemilia.progettohamlet.it
SUMMARY:Immagina domani. Dieci anni di politiche\, strategie e azioni per la città del futuro
DESCRIPTION:Questo è un evento di Progetti. \nSabato 20 gennaio\, alle ore 10.30 al Teatro Valli\, un incontro aperto al pubblico per parlare del passato\, del presente e del futuro di Reggio Emilia e delle sfide che dovranno affrontare le città. Insieme al Sindaco Luca Vecchi intervengono esperti di economia\, welfare\,\nsostenibilità\, educazione e cultura.\nPer partecipare all’iniziativa aprite il seguente link\nhttps://www.eventbrite.it/e/biglietti-immagina-domani-dieci-anni-di-politiche-strategie-e-azioni-per-la-citta-784277614457?aff=ebdssbdestsearch
URL:https://home.reggioemilia.progettohamlet.it/event/immagina-domani-dieci-anni-di-politiche-strategie-e-azioni-per-la-citta-del-futuro/
LOCATION:Teatro municipale Romolo Valli\, Teatro municipale Romolo Valli
END:VEVENT
BEGIN:VEVENT
DTSTART;TZID=Europe/Rome:20240120T100000
DTEND;TZID=Europe/Rome:20240121T163000
DTSTAMP:20260423T004816
CREATED:20240407T220947Z
LAST-MODIFIED:20240407T220947Z
UID:6222-1705744800-1705854600@home.reggioemilia.progettohamlet.it
SUMMARY:SEMINIAMO INSIEME!
DESCRIPTION:Questo è un evento dell’Ambito C. \nL’ Azienda agricola Api Libere continua con i suoi eventi in natura! :seedling:\npartecipa anche tu alla semina di verdure e fiori dell’orto :herb::ear_of_rice::sunflower:\nper te due date:\n20 Gennaio ore 10.00\n21 Gennaio ore 10.00 e ore 15.30\n:phone: Prenotati al numero whatsapp 3491216371
URL:https://home.reggioemilia.progettohamlet.it/event/seminiamo-insieme/
LOCATION:via cavicchioni 11\, Via Cavicchioni 11\, 42124\, Reggio Emilia
END:VEVENT
BEGIN:VEVENT
DTSTART;TZID=Europe/Rome:20240119T204500
DTEND;TZID=Europe/Rome:20240119T214500
DTSTAMP:20260423T004816
CREATED:20240407T221032Z
LAST-MODIFIED:20240407T221032Z
UID:6318-1705697100-1705700700@home.reggioemilia.progettohamlet.it
SUMMARY:parliamo di Ciclo Mestruale
DESCRIPTION:Questo è un evento dell’Ambito D. \nUna bella iniziativa per tutti i genitori!\n:love_letter: confermare ad ass.lacova@gmail.com
URL:https://home.reggioemilia.progettohamlet.it/event/parliamo-di-ciclo-mestruale/
LOCATION:via Mameli 15\, via Mameli 15\, Reggio Emilia
END:VEVENT
BEGIN:VEVENT
DTSTART;TZID=Europe/Rome:20240117T170000
DTEND;TZID=Europe/Rome:20240117T190000
DTSTAMP:20260423T004816
CREATED:20240407T221112Z
LAST-MODIFIED:20240407T221112Z
UID:6408-1705510800-1705518000@home.reggioemilia.progettohamlet.it
SUMMARY:MERCOLEDI' VERDI
DESCRIPTION:Questo è un evento del Centro Storico. \n:herb: MERCOLEDI’ VERDI DEL GARDEN CLUB DI BIBLIOTECA PANIZZI :herb:\n5 appuntamenti per conoscere i segreti del tuo giardino :upside_down_face:\n:calling: per info gardenclub.reggio@gmail.com
URL:https://home.reggioemilia.progettohamlet.it/event/mercoledi-verdi-5/
LOCATION:via Farini 3\, via Farini 3\, Reggio Emilia
END:VEVENT
BEGIN:VEVENT
DTSTART;TZID=Europe/Rome:20240117T170000
DTEND;TZID=Europe/Rome:20240117T190000
DTSTAMP:20260423T004816
CREATED:20240407T221111Z
LAST-MODIFIED:20240407T221111Z
UID:6406-1705510800-1705518000@home.reggioemilia.progettohamlet.it
SUMMARY:MERCOLEDI' VERDI
DESCRIPTION:Questo è un evento del Centro Storico. \n:herb: MERCOLEDI’ VERDI DEL GARDEN CLUB DI BIBLIOTECA PANIZZI :herb:\n5 appuntamenti per conoscere i segreti del tuo giardino :upside_down_face:\n:calling: per info gardenclub.reggio@gmail.com
URL:https://home.reggioemilia.progettohamlet.it/event/mercoledi-verdi-3/
LOCATION:via Farini 3\, via Farini 3\, Reggio Emilia
END:VEVENT
BEGIN:VEVENT
DTSTART;TZID=Europe/Rome:20240117T153000
DTEND;TZID=Europe/Rome:20240117T170000
DTSTAMP:20260423T004816
CREATED:20240407T220905Z
LAST-MODIFIED:20240407T220905Z
UID:6141-1705505400-1705510800@home.reggioemilia.progettohamlet.it
SUMMARY:CORSO di BASE per l’utilizzo di SMARTPHONE e SPID
DESCRIPTION:Questo è un evento dell’Ambito A. \nScopriamo le funzioni di app e social!\nDal 18 ottobre fino a primavera 2024 ogni mercoledì dalle 15\,30 alle 17\,30 In collaborazione con SPI CGIL\n:phone: per info 392 2175968\nLa partecipazione corsi è gratuita
URL:https://home.reggioemilia.progettohamlet.it/event/corso-di-base-per-lutilizzo-di-smartphone-e-spid-5/
LOCATION:via vico 152\, Via Vico 152\, 42124\, Reggio Emilia (RE)
END:VEVENT
BEGIN:VEVENT
DTSTART;TZID=Europe/Rome:20240117T093000
DTEND;TZID=Europe/Rome:20240117T120000
DTSTAMP:20260423T004816
CREATED:20240407T220903Z
LAST-MODIFIED:20240407T220903Z
UID:6136-1705483800-1705492800@home.reggioemilia.progettohamlet.it
SUMMARY:Laboratorio di Cucito
DESCRIPTION:Questo è un evento dell’Ambito A. \nLaboratorio di cucito a Cella!\nmassimo 10 iscritti a giornata\n:phone: per info 340 7728819\nla partecipazione è gratuita\n![](https://ambitoa.re.progettohamlet.it/file/file/download?guid=31664d7f-e387-43ae-aebd-dac2eda0721c =300x)
URL:https://home.reggioemilia.progettohamlet.it/event/laboratorio-di-cucito-5/
LOCATION:via vico 152\, Via Vico 152\, 42124\, Reggio Emilia (RE)
END:VEVENT
BEGIN:VEVENT
DTSTART;TZID=Europe/Rome:20240116T194500
DTEND;TZID=Europe/Rome:20240116T230000
DTSTAMP:20260423T004816
CREATED:20240407T221112Z
LAST-MODIFIED:20240407T221112Z
UID:6409-1705434300-1705446000@home.reggioemilia.progettohamlet.it
SUMMARY:REGGIO CITTA' DEI SENTIERI
DESCRIPTION:Questo è un evento del Centro Storico. \n:sunrise_over_mountains::walking_woman::walking_man:Quattro uscite in pianura\, quattro uscite attorno alla città di Reggio Emilia a scoprire i suoi canali\, i parchi urbani\, i percorsi per camminare nella natura a due passi da casa!\nIl tutto sotto l’esperta guida di Riccardo Catellani\, guida Piediliberi e ingegnere ambientale.\nLe camminate sono effettuate in collaborazione con il progetto Reggio Emilia cittadeisentieri! \nECCO LE DATE PER TE: \n16 GENNAIO : Il Canale di Secchia\, partenza da Centro Commerciale QUINZIO https://goo.gl/maps/SJ1kezE2bAfa3TKM7 \n23 GENNAIO: Il Rio della Vasca\, partenza da IperCoop Baragalla https://goo.gl/maps/NiccuSpGs6GVeBdU9 \n30 GENNAIO: Il Crostolo e i Nove Martiri\, partenza da Centro Commerciale NOVA – Villa Sesso https://goo.gl/maps/ZiwenDfBc3KthH1s7 \n6 FEBBRAIO: Il Rodano e i canali Nord\, partenza dal parcheggio della Chiesa di Gavassa https://goo.gl/maps/gVaQCgp3AFfjLwrG8 \nTutte le camminate hanno lunghezza tra i 10 e i 13 km senza dislivello\, facilmente percorribili con un minimo di allenamento.\n:moneybag: Costo di ogni evento: 5€\n:wave: ACCESSO LIBERO: non è richiesta la prenotazione!\n:phone: Guida: Riccardo 3407981894\n———————————–\nIMPORTANTE: ricordiamo sempre a tutti i partecipanti alle camminate del martedì che E’ OBBLIGATORIO L’UTILIZZO DI CALZATURE ADEGUATE. :high_heel::x:\nIn mancanza di questo le guide non accetteranno l’iscrizione.\nE non dimenticate il BICCHIERINO per il nostro brindisi PLASTIC-FREE!
URL:https://home.reggioemilia.progettohamlet.it/event/reggio-citta-dei-sentieri-2/
LOCATION:Via angelo sechi\, Via angelo sechi\, reggio emilia
END:VEVENT
BEGIN:VEVENT
DTSTART;TZID=Europe/Rome:20240116T153000
DTEND;TZID=Europe/Rome:20240116T173000
DTSTAMP:20260423T004816
CREATED:20240407T220930Z
LAST-MODIFIED:20240407T220930Z
UID:6188-1705419000-1705426200@home.reggioemilia.progettohamlet.it
SUMMARY:Piccolo laboratorio di sartoria per adolescenti
DESCRIPTION:Questo è un evento dell’Ambito B. \nA grande richiesta partirà il laboratorio di sartoria per adolescenti dai 14 ai 19 anni!\n8 incontri\, ogni martedì\, per sperimentare con le proprie mani :tada:\nIl laboratorio è tenuto da Laura Maldini e l’ attività è rivolta ai Soci A.N.C.E.S.C.A.O.\n:telephone_receiver: Per info: 3496758370 Valentina
URL:https://home.reggioemilia.progettohamlet.it/event/piccolo-laboratorio-di-sartoria-per-adolescenti-4/
LOCATION:Centro Sociale Orologio\, CENTRO SOCIALE OROLOGIO\, Reggio Emilia\, Italia
END:VEVENT
BEGIN:VEVENT
DTSTART;TZID=Europe/Rome:20240116T153000
DTEND;TZID=Europe/Rome:20240116T173000
DTSTAMP:20260423T004816
CREATED:20240407T220929Z
LAST-MODIFIED:20240407T220929Z
UID:6187-1705419000-1705426200@home.reggioemilia.progettohamlet.it
SUMMARY:Piccolo laboratorio di sartoria per adolescenti
DESCRIPTION:Questo è un evento dell’Ambito B. \nA grande richiesta partirà il laboratorio di sartoria per adolescenti dai 14 ai 19 anni!\n8 incontri\, ogni martedì\, per sperimentare con le proprie mani :tada:\nIl laboratorio è tenuto da Laura Maldini e l’ attività è rivolta ai Soci A.N.C.E.S.C.A.O.\n:telephone_receiver: Per info: 3496758370 Valentina
URL:https://home.reggioemilia.progettohamlet.it/event/piccolo-laboratorio-di-sartoria-per-adolescenti-3/
LOCATION:Centro Sociale Orologio\, CENTRO SOCIALE OROLOGIO\, Reggio Emilia\, Italia
END:VEVENT
BEGIN:VEVENT
DTSTART;TZID=Europe/Rome:20240115T183000
DTEND;TZID=Europe/Rome:20240115T193000
DTSTAMP:20260423T004816
CREATED:20240407T221041Z
LAST-MODIFIED:20240407T221041Z
UID:6333-1705343400-1705347000@home.reggioemilia.progettohamlet.it
SUMMARY:Assemblea pubblica - Temi: viabilità e installazione di un'antenna 5G
DESCRIPTION:Questo è un evento dell’Ambito H. \nLa CONSULTA H organizza per il giorno lunedì 15 gennaio 2023 alle ore 18:30\, presso il Circolo Arci Gardenia in viale Regina Elena 14\, un’ASSEMBLEA PUBBLICA RIVOLTA ALLA CITTADINANZA per discutere di VIABILITÀ e INSTALLAZIONE DI UN’ANTENNA 5G in via Fabio Filzi. Saranno inoltre presenti tecnici competenti e l’Assessora all’Ambiente del Comune di Reggio Emilia\, Carlotta Bonvicini.\nChiunque volesse partecipare sarà il benvenuto!\nA presto!
URL:https://home.reggioemilia.progettohamlet.it/event/assemblea-pubblica-temi-viabilita-e-installazione-di-unantenna-5g/
LOCATION:Circolo ARCI Gardenia\, Circolo Arci Gardenia
END:VEVENT
BEGIN:VEVENT
DTSTART;TZID=Europe/Rome:20240114T170000
DTEND;TZID=Europe/Rome:20240114T180000
DTSTAMP:20260423T004816
CREATED:20240407T221032Z
LAST-MODIFIED:20240407T221032Z
UID:6319-1705251600-1705255200@home.reggioemilia.progettohamlet.it
SUMMARY:Conosci le api del parco del legno?
DESCRIPTION:Questo è un evento dell’Ambito D. \nScopri il mondo delle api e cosa possono dire sul quartiere del Gattaglio! :honeybee:\nPer rendere l’esperienza più dolce\, potrai anche acquistare un vasetto di miele! :yum:\nper più informazioni: Apiario Urbano – Agricola Giovanardi
URL:https://home.reggioemilia.progettohamlet.it/event/conosci-le-api-del-parco-del-legno/
LOCATION:via del gattaglio 30\, via del gattaglio 30\, reggio emilia
END:VEVENT
BEGIN:VEVENT
DTSTART;TZID=Europe/Rome:20240114T160000
DTEND;TZID=Europe/Rome:20240114T170000
DTSTAMP:20260423T004816
CREATED:20240407T220948Z
LAST-MODIFIED:20240407T220948Z
UID:6226-1705248000-1705251600@home.reggioemilia.progettohamlet.it
SUMMARY:Stretching e Tonificazione in serra
DESCRIPTION:Questo è un evento dell’Ambito C. \nDomenica 14 gennaio apriremo la nostra serra ad una lezione di stretching e tonificazione tenuta da un’insegnante di fitness accreditata.\nSarà una lezione di ginnastica immersa nel verde e adatta a tutti\, dai più ai meno sportivi.\nI protagonisti saranno la musica\, il divertimento e il benessere fisico!\nÈ necessario portarsi da casa il proprio tappetino per gli esercizi a terra.
URL:https://home.reggioemilia.progettohamlet.it/event/stretching-e-tonificazione-in-serra/
LOCATION:Via C. Teggi 5\, Via C. Teggi 5\, 42123\, Reggio Emilia
END:VEVENT
BEGIN:VEVENT
DTSTART;TZID=Europe/Rome:20240113T153000
DTEND;TZID=Europe/Rome:20240113T180000
DTSTAMP:20260423T004816
CREATED:20240407T220949Z
LAST-MODIFIED:20240407T220949Z
UID:6227-1705159800-1705168800@home.reggioemilia.progettohamlet.it
SUMMARY:S.O.S Orchidee
DESCRIPTION:Questo è un evento dell’Ambito C. \nDurante questo incontro imparerai tutto quello che c’è da sapere sulle orchidee. Dopo un’introduzione sulle tecniche di coltura\, impareremo ad effettuare rinvasi\, controllare le radici\, concimare e a far rifiorire le proprie piante.\nAd ogni partecipante verrà data un’orchidea su cui mettere in pratica passo a passo le nozioni teoriche ricevute. Al termine dell’incontro\, ogni partecipante potrà portare a casa l’orchidea in attesa di una magnifica fioritura.\nPotrete anche portare da casa le vostre orchidee per sottoporle agli esperti e mettere in pratica le norme per avere sempre un’orchidea sana.
URL:https://home.reggioemilia.progettohamlet.it/event/s-o-s-orchidee/
LOCATION:Via C. Teggi\, Via C. Teggi\, 5\, 42123\, Reggio Emilia
END:VEVENT
BEGIN:VEVENT
DTSTART;TZID=Europe/Rome:20240113T103000
DTEND;TZID=Europe/Rome:20240113T113000
DTSTAMP:20260423T004816
CREATED:20240407T220928Z
LAST-MODIFIED:20240407T220928Z
UID:6184-1705141800-1705145400@home.reggioemilia.progettohamlet.it
SUMMARY:LETTURA AD ALTA VOCE    -per bambini e bambine-
DESCRIPTION:Questo è un evento dell’Ambito B. \nEvento per i più piccini! :heart:
URL:https://home.reggioemilia.progettohamlet.it/event/lettura-ad-alta-voce-per-bambini-e-bambine/
LOCATION:Via Bandiera 12a\, via Bandiera 12a\, Reggio Emilia
END:VEVENT
BEGIN:VEVENT
DTSTART;TZID=Europe/Rome:20240113T083000
DTEND;TZID=Europe/Rome:20240113T130000
DTSTAMP:20260423T004816
CREATED:20240407T220948Z
LAST-MODIFIED:20240407T220948Z
UID:6225-1705134600-1705150800@home.reggioemilia.progettohamlet.it
SUMMARY:OPEN DAY
DESCRIPTION:Questo è un evento dell’Ambito C. \nIncontro di presentazione\nISTITUTO COMPRENSIVO DON PASQUINO BORGHI\nsegnaliamo qui tutte le date con i relativi incontri :blush:
URL:https://home.reggioemilia.progettohamlet.it/event/open-day/
LOCATION:Via Pascal Biagio 81\, Via Pascal Biagio 81\, Reggio Nell'emilia
END:VEVENT
BEGIN:VEVENT
DTSTART;TZID=Europe/Rome:20240110T153000
DTEND;TZID=Europe/Rome:20240110T170000
DTSTAMP:20260423T004816
CREATED:20240407T220905Z
LAST-MODIFIED:20240407T220905Z
UID:6140-1704900600-1704906000@home.reggioemilia.progettohamlet.it
SUMMARY:CORSO di BASE per l’utilizzo di SMARTPHONE e SPID
DESCRIPTION:Questo è un evento dell’Ambito A. \nScopriamo le funzioni di app e social!\nDal 18 ottobre fino a primavera 2024 ogni mercoledì dalle 15\,30 alle 17\,30 In collaborazione con SPI CGIL\n:phone: per info 392 2175968\nLa partecipazione corsi è gratuita
URL:https://home.reggioemilia.progettohamlet.it/event/corso-di-base-per-lutilizzo-di-smartphone-e-spid-4/
LOCATION:via vico 152\, Via Vico 152\, 42124\, Reggio Emilia (RE)
END:VEVENT
BEGIN:VEVENT
DTSTART;TZID=Europe/Rome:20240110T093000
DTEND;TZID=Europe/Rome:20240110T120000
DTSTAMP:20260423T004816
CREATED:20240407T220904Z
LAST-MODIFIED:20240407T220904Z
UID:6138-1704879000-1704888000@home.reggioemilia.progettohamlet.it
SUMMARY:Laboratorio di Cucito
DESCRIPTION:Questo è un evento dell’Ambito A. \nLaboratorio di cucito a Cella!\nmassimo 10 iscritti a giornata\n:phone: per info 340 7728819\nla partecipazione è gratuita\n![](https://ambitoa.re.progettohamlet.it/file/file/download?guid=31664d7f-e387-43ae-aebd-dac2eda0721c =300x)
URL:https://home.reggioemilia.progettohamlet.it/event/laboratorio-di-cucito-6/
LOCATION:via vico 152\, Via Vico 152\, 42124\, Reggio Emilia (RE)
END:VEVENT
BEGIN:VEVENT
DTSTART;TZID=Europe/Rome:20240109T210000
DTEND;TZID=Europe/Rome:20240109T220000
DTSTAMP:20260423T004816
CREATED:20240407T220904Z
LAST-MODIFIED:20240407T220904Z
UID:6137-1704834000-1704837600@home.reggioemilia.progettohamlet.it
SUMMARY:Ballando sul filo dei sapori
DESCRIPTION:Questo è un evento dell’Ambito A. \nHai voglia di ballare?\nDi metterti in gioco?\nDi farti nuovi amici?\n:man_dancing: METTIAMOCI IN BALLO! :dancer:\necco un bel calendario per te\n![](https://ambitoa.re.progettohamlet.it/file/file/download?guid=91e17bb6-ed42-4750-9674-4533b35ceecd =300x)
URL:https://home.reggioemilia.progettohamlet.it/event/ballando-sul-filo-dei-sapori-2/
LOCATION:via Rinaldi 45\, Via Rinaldi 45\, 42124\, Reggio Emilia (RE)
END:VEVENT
BEGIN:VEVENT
DTSTART;TZID=Europe/Rome:20240109T203000
DTEND;TZID=Europe/Rome:20240109T223000
DTSTAMP:20260423T004816
CREATED:20240407T221032Z
LAST-MODIFIED:20240407T221032Z
UID:6320-1704832200-1704839400@home.reggioemilia.progettohamlet.it
SUMMARY:Proiezione film “Alice nel buio”
DESCRIPTION:Questo è un evento dell’Ambito D. \nAll’interno di “I re del cinema” rassegna cinematografica\nOfferta minima gradita €3\nInfo: prenotazione al 3454020702
URL:https://home.reggioemilia.progettohamlet.it/event/proiezione-film-alice-nel-buio/
LOCATION:Centro Sociale Gattaglio\, Centro Sociale Gattaglio\, Via del Gattaglio 30\, Reggio Emilia
END:VEVENT
BEGIN:VEVENT
DTSTART;TZID=Europe/Rome:20240107T170000
DTEND;TZID=Europe/Rome:20240107T193000
DTSTAMP:20260423T004816
CREATED:20240407T221033Z
LAST-MODIFIED:20240407T221033Z
UID:6321-1704646800-1704655800@home.reggioemilia.progettohamlet.it
SUMMARY:Dj Lucio Vallisneri
DESCRIPTION:Questo è un evento dell’Ambito D. \nPer gli amanti e i ballerini di lindy hop\, boogie woogie\, swing e non solo.
URL:https://home.reggioemilia.progettohamlet.it/event/dj-lucio-vallisneri/
LOCATION:Centro Sociale Gattaglio\, Centro Sociale Gattaglio\, Via del Gattaglio 30\, Reggio Emilia
END:VEVENT
BEGIN:VEVENT
DTSTART;TZID=Europe/Rome:20240107T160000
DTEND;TZID=Europe/Rome:20240107T170000
DTSTAMP:20260423T004816
CREATED:20240407T221113Z
LAST-MODIFIED:20240407T221113Z
UID:6413-1704643200-1704646800@home.reggioemilia.progettohamlet.it
SUMMARY:Quartetti per il tricolore
DESCRIPTION:Questo è un evento del Centro Storico. \nEsibizione di un quartetto d’archi e di un quartetto di clarinetti\, promosso da Lions Club Reggio Emilia Host Città del Tricolore (Distretto Lions 108Tb) in collaborazione con il Conservatorio di Musica di Reggio Emilia e Castelnovo ne’ Monti Peri – Merulo
URL:https://home.reggioemilia.progettohamlet.it/event/quartetti-per-il-tricolore/
LOCATION:Sala del Tricolore\, Sala del Tricolore\, Piazza Camillo Prampolini 1\, Reggio Emilia
END:VEVENT
BEGIN:VEVENT
DTSTART;TZID=Europe/Rome:20240106T153000
DTEND;TZID=Europe/Rome:20240106T210000
DTSTAMP:20260423T004816
CREATED:20240407T220949Z
LAST-MODIFIED:20240407T220949Z
UID:6228-1704555000-1704574800@home.reggioemilia.progettohamlet.it
SUMMARY:La befana delle api
DESCRIPTION:Questo è un evento dell’Ambito C. \nLa storia vera e altri racconti della Befana in persona\, per bambini dai 3 agli 11 anni.\n:point_right: Tutti i bimbi sono invitati a portare una calza che la Befana riempirà di doni. Cercheremo insieme la befana e ascolteremo i suoi racconti.\nAbbigliamento caldo e comodo per parte dell’attività all’aperto\n:tickets:€8 quota bimbo\n:telephone_receiver:Su prenotazione al 3491216371 (Annalisa) entro il 5 Gennaio con numero ed età dei bambini partecipanti\nMamme\, papà e nonni potete seguire tutte le attività: vi presenteremo anche i progetti per l’anno 2024\nOrganizzato da: Api Libere in collaborazione con Mariarosa Codeluppi
URL:https://home.reggioemilia.progettohamlet.it/event/la-befana-delle-api/
LOCATION:Via E.Cavicchioni 11\, Via E.Cavicchioni 11\, Codemondo\, Reggio Emilia
END:VEVENT
BEGIN:VEVENT
DTSTART;TZID=Europe/Rome:20240106T100000
DTEND;TZID=Europe/Rome:20240106T110000
DTSTAMP:20260423T004816
CREATED:20240407T220930Z
LAST-MODIFIED:20240407T220930Z
UID:6189-1704535200-1704538800@home.reggioemilia.progettohamlet.it
SUMMARY:Arriva la befana
DESCRIPTION:Questo è un evento dell’Ambito B. \nIl centro sociale La Mirandola offre intrattenimento con la Befana\, calza e pop corn per tutti i bambini :fries:\nUna calza in regalo per ogni bambino e bambina\nIngresso Gratuito\, vi aspettiamo!\n:telephone_receiver: Info: 0522307214\nL’evento è organizzato da Centro sociale la Mirandola APS con il contributo del Comune di Reggio Emilia
URL:https://home.reggioemilia.progettohamlet.it/event/arriva-la-befana/
LOCATION:Centro Sociale la Mirandola\, CENTRO SOCIALE LA MIRANDOLA
END:VEVENT
END:VCALENDAR