BEGIN:VCALENDAR
VERSION:2.0
PRODID:-//Hamlet - ECPv6.15.12//NONSGML v1.0//EN
CALSCALE:GREGORIAN
METHOD:PUBLISH
X-WR-CALNAME:Hamlet
X-ORIGINAL-URL:https://home.reggioemilia.progettohamlet.it
X-WR-CALDESC:Eventi per Hamlet
REFRESH-INTERVAL;VALUE=DURATION:PT1H
X-Robots-Tag:noindex
X-PUBLISHED-TTL:PT1H
BEGIN:VTIMEZONE
TZID:Europe/Rome
BEGIN:DAYLIGHT
TZOFFSETFROM:+0100
TZOFFSETTO:+0200
TZNAME:CEST
DTSTART:20220327T010000
END:DAYLIGHT
BEGIN:STANDARD
TZOFFSETFROM:+0200
TZOFFSETTO:+0100
TZNAME:CET
DTSTART:20221030T010000
END:STANDARD
BEGIN:DAYLIGHT
TZOFFSETFROM:+0100
TZOFFSETTO:+0200
TZNAME:CEST
DTSTART:20230326T010000
END:DAYLIGHT
BEGIN:STANDARD
TZOFFSETFROM:+0200
TZOFFSETTO:+0100
TZNAME:CET
DTSTART:20231029T010000
END:STANDARD
BEGIN:DAYLIGHT
TZOFFSETFROM:+0100
TZOFFSETTO:+0200
TZNAME:CEST
DTSTART:20240331T010000
END:DAYLIGHT
BEGIN:STANDARD
TZOFFSETFROM:+0200
TZOFFSETTO:+0100
TZNAME:CET
DTSTART:20241027T010000
END:STANDARD
BEGIN:DAYLIGHT
TZOFFSETFROM:+0100
TZOFFSETTO:+0200
TZNAME:CEST
DTSTART:20250330T010000
END:DAYLIGHT
BEGIN:STANDARD
TZOFFSETFROM:+0200
TZOFFSETTO:+0100
TZNAME:CET
DTSTART:20251026T010000
END:STANDARD
END:VTIMEZONE
BEGIN:VEVENT
DTSTART;TZID=Europe/Rome:20240109T210000
DTEND;TZID=Europe/Rome:20240109T220000
DTSTAMP:20260423T004816
CREATED:20240407T220904Z
LAST-MODIFIED:20240407T220904Z
UID:6137-1704834000-1704837600@home.reggioemilia.progettohamlet.it
SUMMARY:Ballando sul filo dei sapori
DESCRIPTION:Questo è un evento dell’Ambito A. \nHai voglia di ballare?\nDi metterti in gioco?\nDi farti nuovi amici?\n:man_dancing: METTIAMOCI IN BALLO! :dancer:\necco un bel calendario per te\n![](https://ambitoa.re.progettohamlet.it/file/file/download?guid=91e17bb6-ed42-4750-9674-4533b35ceecd =300x)
URL:https://home.reggioemilia.progettohamlet.it/event/ballando-sul-filo-dei-sapori-2/
LOCATION:via Rinaldi 45\, Via Rinaldi 45\, 42124\, Reggio Emilia (RE)
END:VEVENT
BEGIN:VEVENT
DTSTART;TZID=Europe/Rome:20240109T203000
DTEND;TZID=Europe/Rome:20240109T223000
DTSTAMP:20260423T004816
CREATED:20240407T221032Z
LAST-MODIFIED:20240407T221032Z
UID:6320-1704832200-1704839400@home.reggioemilia.progettohamlet.it
SUMMARY:Proiezione film “Alice nel buio”
DESCRIPTION:Questo è un evento dell’Ambito D. \nAll’interno di “I re del cinema” rassegna cinematografica\nOfferta minima gradita €3\nInfo: prenotazione al 3454020702
URL:https://home.reggioemilia.progettohamlet.it/event/proiezione-film-alice-nel-buio/
LOCATION:Centro Sociale Gattaglio\, Centro Sociale Gattaglio\, Via del Gattaglio 30\, Reggio Emilia
END:VEVENT
BEGIN:VEVENT
DTSTART;TZID=Europe/Rome:20240107T170000
DTEND;TZID=Europe/Rome:20240107T193000
DTSTAMP:20260423T004816
CREATED:20240407T221033Z
LAST-MODIFIED:20240407T221033Z
UID:6321-1704646800-1704655800@home.reggioemilia.progettohamlet.it
SUMMARY:Dj Lucio Vallisneri
DESCRIPTION:Questo è un evento dell’Ambito D. \nPer gli amanti e i ballerini di lindy hop\, boogie woogie\, swing e non solo.
URL:https://home.reggioemilia.progettohamlet.it/event/dj-lucio-vallisneri/
LOCATION:Centro Sociale Gattaglio\, Centro Sociale Gattaglio\, Via del Gattaglio 30\, Reggio Emilia
END:VEVENT
BEGIN:VEVENT
DTSTART;TZID=Europe/Rome:20240107T160000
DTEND;TZID=Europe/Rome:20240107T170000
DTSTAMP:20260423T004816
CREATED:20240407T221113Z
LAST-MODIFIED:20240407T221113Z
UID:6413-1704643200-1704646800@home.reggioemilia.progettohamlet.it
SUMMARY:Quartetti per il tricolore
DESCRIPTION:Questo è un evento del Centro Storico. \nEsibizione di un quartetto d’archi e di un quartetto di clarinetti\, promosso da Lions Club Reggio Emilia Host Città del Tricolore (Distretto Lions 108Tb) in collaborazione con il Conservatorio di Musica di Reggio Emilia e Castelnovo ne’ Monti Peri – Merulo
URL:https://home.reggioemilia.progettohamlet.it/event/quartetti-per-il-tricolore/
LOCATION:Sala del Tricolore\, Sala del Tricolore\, Piazza Camillo Prampolini 1\, Reggio Emilia
END:VEVENT
BEGIN:VEVENT
DTSTART;TZID=Europe/Rome:20240106T153000
DTEND;TZID=Europe/Rome:20240106T210000
DTSTAMP:20260423T004816
CREATED:20240407T220949Z
LAST-MODIFIED:20240407T220949Z
UID:6228-1704555000-1704574800@home.reggioemilia.progettohamlet.it
SUMMARY:La befana delle api
DESCRIPTION:Questo è un evento dell’Ambito C. \nLa storia vera e altri racconti della Befana in persona\, per bambini dai 3 agli 11 anni.\n:point_right: Tutti i bimbi sono invitati a portare una calza che la Befana riempirà di doni. Cercheremo insieme la befana e ascolteremo i suoi racconti.\nAbbigliamento caldo e comodo per parte dell’attività all’aperto\n:tickets:€8 quota bimbo\n:telephone_receiver:Su prenotazione al 3491216371 (Annalisa) entro il 5 Gennaio con numero ed età dei bambini partecipanti\nMamme\, papà e nonni potete seguire tutte le attività: vi presenteremo anche i progetti per l’anno 2024\nOrganizzato da: Api Libere in collaborazione con Mariarosa Codeluppi
URL:https://home.reggioemilia.progettohamlet.it/event/la-befana-delle-api/
LOCATION:Via E.Cavicchioni 11\, Via E.Cavicchioni 11\, Codemondo\, Reggio Emilia
END:VEVENT
BEGIN:VEVENT
DTSTART;TZID=Europe/Rome:20240106T100000
DTEND;TZID=Europe/Rome:20240106T110000
DTSTAMP:20260423T004816
CREATED:20240407T220930Z
LAST-MODIFIED:20240407T220930Z
UID:6189-1704535200-1704538800@home.reggioemilia.progettohamlet.it
SUMMARY:Arriva la befana
DESCRIPTION:Questo è un evento dell’Ambito B. \nIl centro sociale La Mirandola offre intrattenimento con la Befana\, calza e pop corn per tutti i bambini :fries:\nUna calza in regalo per ogni bambino e bambina\nIngresso Gratuito\, vi aspettiamo!\n:telephone_receiver: Info: 0522307214\nL’evento è organizzato da Centro sociale la Mirandola APS con il contributo del Comune di Reggio Emilia
URL:https://home.reggioemilia.progettohamlet.it/event/arriva-la-befana/
LOCATION:Centro Sociale la Mirandola\, CENTRO SOCIALE LA MIRANDOLA
END:VEVENT
BEGIN:VEVENT
DTSTART;TZID=Europe/Rome:20240105T194500
DTEND;TZID=Europe/Rome:20240105T204500
DTSTAMP:20260423T004816
CREATED:20240407T221038Z
LAST-MODIFIED:20240407T221038Z
UID:6328-1704483900-1704487500@home.reggioemilia.progettohamlet.it
SUMMARY:Sul badile
DESCRIPTION:Questo è un evento dell’Ambito G. \nSpettacolo teatrale a cura della Compagnia D.D.T.\nA offerta libera.\nAl termine\, brindisi e buffet condiviso\, ognuno porti qualcosa 😉
URL:https://home.reggioemilia.progettohamlet.it/event/sul-badile/
LOCATION:Parrocchia Santa Maria Assunta\, Parrocchia Santa Maria Assunta\, via Catellani 1\, Villa Sesso\, Reggio Emilia\, RE
END:VEVENT
BEGIN:VEVENT
DTSTART;TZID=Europe/Rome:20240103T153000
DTEND;TZID=Europe/Rome:20240103T170000
DTSTAMP:20260423T004816
CREATED:20240407T220904Z
LAST-MODIFIED:20240407T220904Z
UID:6139-1704295800-1704301200@home.reggioemilia.progettohamlet.it
SUMMARY:CORSO di BASE per l’utilizzo di SMARTPHONE e SPID
DESCRIPTION:Questo è un evento dell’Ambito A. \nScopriamo le funzioni di app e social!\nDal 18 ottobre fino a primavera 2024 ogni mercoledì dalle 15\,30 alle 17\,30 In collaborazione con SPI CGIL\n:phone: per info 392 2175968\nLa partecipazione corsi è gratuita
URL:https://home.reggioemilia.progettohamlet.it/event/corso-di-base-per-lutilizzo-di-smartphone-e-spid-3/
LOCATION:via vico 152\, Via Vico 152\, 42124\, Reggio Emilia (RE)
END:VEVENT
BEGIN:VEVENT
DTSTART;TZID=Europe/Rome:20240103T093000
DTEND;TZID=Europe/Rome:20240103T120000
DTSTAMP:20260423T004816
CREATED:20240407T220906Z
LAST-MODIFIED:20240407T220906Z
UID:6144-1704274200-1704283200@home.reggioemilia.progettohamlet.it
SUMMARY:Laboratorio di Cucito
DESCRIPTION:Questo è un evento dell’Ambito A. \nLaboratorio di cucito a Cella!\nmassimo 10 iscritti a giornata\n:phone: per info 340 7728819\nla partecipazione è gratuita\n![](https://ambitoa.re.progettohamlet.it/file/file/download?guid=31664d7f-e387-43ae-aebd-dac2eda0721c =300x)
URL:https://home.reggioemilia.progettohamlet.it/event/laboratorio-di-cucito-7/
LOCATION:via vico 152\, Via Vico 152\, 42124\, Reggio Emilia (RE)
END:VEVENT
BEGIN:VEVENT
DTSTART;TZID=Europe/Rome:20231230T140000
DTEND;TZID=Europe/Rome:20231230T170000
DTSTAMP:20260423T004816
CREATED:20240407T221114Z
LAST-MODIFIED:20240407T221114Z
UID:6415-1703944800-1703955600@home.reggioemilia.progettohamlet.it
SUMMARY:Passeggiata in Centro sui luoghi ducali
DESCRIPTION:Questo è un evento del Centro Storico. \nSabato 30 ore 15.\nPartenza dalla sede della Casa editrice\, Via Alighieri 4 a Reggio Emilia \n#natale2023 #reggioemilia #passeggiata #libri
URL:https://home.reggioemilia.progettohamlet.it/event/passeggiata-in-centro-sui-luoghi-ducali/
LOCATION:via Alighieri 4\, via Alighieri 4\, Reggio Emilia
END:VEVENT
BEGIN:VEVENT
DTSTART;TZID=Europe/Rome:20231223T210000
DTEND;TZID=Europe/Rome:20231223T230000
DTSTAMP:20260423T004816
CREATED:20240407T220949Z
LAST-MODIFIED:20240407T220949Z
UID:6229-1703365200-1703372400@home.reggioemilia.progettohamlet.it
SUMMARY:S.P.Q.R. - Sempre Portiamo Qualche Regalo
DESCRIPTION:Questo è un evento dell’Ambito C. \nA grande richiesta torna la recita di Natale dei bambini del catechismo!\nSabato 23 dicembre ore 21 in Chiesa a Codemondo:
URL:https://home.reggioemilia.progettohamlet.it/event/s-p-q-r-sempre-portiamo-qualche-regalo/
LOCATION:Parrocchia di Codemondo\, Parrocchia di Codemondo\, via San Pantaleone 2\, 42123\, Reggio Emilia\, RE
END:VEVENT
BEGIN:VEVENT
DTSTART;TZID=Europe/Rome:20231220T200000
DTEND;TZID=Europe/Rome:20231220T220000
DTSTAMP:20260423T004816
CREATED:20240407T221045Z
LAST-MODIFIED:20240407T221045Z
UID:6341-1703102400-1703109600@home.reggioemilia.progettohamlet.it
SUMMARY:MAX GAZZÈ IL 20 DICEMBRE AL TEATRO VALLI
DESCRIPTION:Questo è un evento dell’Ambito H. \n“Il Teatro È La Casa Di Tutte Le Storie E Questa Sarà La Mia”.\nUn tour nei teatri tra Italia e Europa e un nuovo disco: Max Gazzè annuncia il suo ritorno discografico e live nell’autunno del 2023 con un progetto a tutto tondo che lo vedrà esibirsi anche sui palchi dei grandi teatri internazionali. Tra questi c’è anche il Teatro Valli di Reggio Emilia che accoglierà il musicista romano il 20 dicembre 2023 all’interno della rassegna Leggera\, promossa dall’Arci di Reggio in collaborazione con la Fondazione I Teatri. \nLe prevendite per le nuove date della tournée\, organizzata e prodotta da OTR Live\, si aprono il 15 febbraio alle ore 11 su Ticketone e in tutti i punti vendita abituali.
URL:https://home.reggioemilia.progettohamlet.it/event/max-gazze-il-20-dicembre-al-teatro-valli/
LOCATION:Teatro Valli – Reggio Emilia\, Teatro Valli - Reggio Emilia
END:VEVENT
BEGIN:VEVENT
DTSTART;TZID=Europe/Rome:20231219T200000
DTEND;TZID=Europe/Rome:20231219T220000
DTSTAMP:20260423T004816
CREATED:20240407T221046Z
LAST-MODIFIED:20240407T221046Z
UID:6342-1703016000-1703023200@home.reggioemilia.progettohamlet.it
SUMMARY:PFM CANTA DE ANDRÈ ANNIVERSARY A REGGIO EMILIA
DESCRIPTION:Questo è un evento dell’Ambito H. \nA quarantacinque anni dal famoso tour “Fabrizio De Andrè e Pfm in concerto”\, che ha segnato l’inizio di una delle migliori collaborazioni artistiche\, PFM torna sui palchi di tutta Italia con PFM Canta De Andrè Anniversary\, un tour che rende omaggio a quel famoso sodalizio e che arriverà a Reggio Emilia il 19 dicembre 2023.\nIl concerto è organizzato all’interno della rassegna Leggera organizzata da Arci Reggio Emilia insieme ai Teatri di Reggio Emilia\, con il contributo del Gruppo Hera.\nPrevendite disponibili su Ticketone.
URL:https://home.reggioemilia.progettohamlet.it/event/pfm-canta-de-andre-anniversary-a-reggio-emilia/
LOCATION:Teatro Valli – Reggio Emilia\, Teatro Valli - Reggio Emilia
END:VEVENT
BEGIN:VEVENT
DTSTART;TZID=Europe/Rome:20231217T153000
DTEND;TZID=Europe/Rome:20231217T190000
DTSTAMP:20260423T004816
CREATED:20240407T215842Z
LAST-MODIFIED:20240407T215842Z
UID:7330-1702827000-1702839600@home.reggioemilia.progettohamlet.it
SUMMARY:Il muro sul ponte
DESCRIPTION:La descrizione di questo evento contiene caratteri non supportati.
URL:https://home.reggioemilia.progettohamlet.it/event/il-muro-sul-ponte/
LOCATION:Viale Ramazzini 33\, Viale Ramazzini 33\, Reggio Emilia
END:VEVENT
BEGIN:VEVENT
DTSTART;TZID=Europe/Rome:20231216T163000
DTEND;TZID=Europe/Rome:20231216T190000
DTSTAMP:20260423T004816
CREATED:20240407T215746Z
LAST-MODIFIED:20240407T215746Z
UID:7201-1702744200-1702753200@home.reggioemilia.progettohamlet.it
SUMMARY:Laboratorio Musicale✨
DESCRIPTION:La descrizione di questo evento contiene caratteri non supportati.
URL:https://home.reggioemilia.progettohamlet.it/event/laboratorio-musicale%e2%9c%a8/
LOCATION:Api libere società agricola – Via E. Cavicchioni 11 – Reggio Emilia\, Api libere società agricola - Via E. Cavicchioni 11 - Reggio Emilia
END:VEVENT
BEGIN:VEVENT
DTSTART;TZID=Europe/Rome:20231214T203000
DTEND;TZID=Europe/Rome:20231214T230000
DTSTAMP:20260423T004816
CREATED:20240515T110019Z
LAST-MODIFIED:20240515T110019Z
UID:6934-1702585800-1702594800@home.reggioemilia.progettohamlet.it
SUMMARY:Invito prima seduta  Consulta Cittadina dei Quartieri
DESCRIPTION:Questo è un evento di Progetti. \nGentilissime\, Gentilissimi\,\nsiamo lieti di invitarvi alla prima seduta della Consulta cittadina dei Quartieri\, che sarà presieduta dal Sindaco Luca Vecchi\,  giovedì 14 dicembre p.v.\, alle ore 20.30\, c/o l’auditorium del Centro internazionale Loris Malaguzzi.\nTroverete tutte le informazioni nella card allegata.\nPer motivi organizzativi\, invitiamo\, chi non avesse ancora provveduto a farlo\, a confermare la propria presenza prenotando il posto attraverso il seguente link:\nhttps://bit.ly/ConsultaCittadina
URL:https://home.reggioemilia.progettohamlet.it/event/invito-prima-seduta-consulta-cittadina-dei-quartieri/
LOCATION:Centro internazionale Loris Malaguzzi (Viale B. Ramazzini\, Centro internazionale Loris Malaguzzi (Viale B. Ramazzini\, 72/a)
END:VEVENT
BEGIN:VEVENT
DTSTART;TZID=Europe/Rome:20231210T160000
DTEND;TZID=Europe/Rome:20231210T170000
DTSTAMP:20260423T004816
CREATED:20240407T215746Z
LAST-MODIFIED:20240407T215746Z
UID:7202-1702224000-1702227600@home.reggioemilia.progettohamlet.it
SUMMARY:"Babbo Natale ha perso il senno" - spettacolo di I Burattini della Commedia
DESCRIPTION:La descrizione di questo evento contiene caratteri non supportati.
URL:https://home.reggioemilia.progettohamlet.it/event/babbo-natale-ha-perso-il-senno-spettacolo-di-i-burattini-della-commedia/
LOCATION:Via Dante Freddi 148\, Via Dante Freddi 148\, 42046\, Reggio Emilia
END:VEVENT
BEGIN:VEVENT
DTSTART;TZID=Europe/Rome:20231208T160000
DTEND;TZID=Europe/Rome:20231208T180000
DTSTAMP:20260423T004816
CREATED:20240407T221114Z
LAST-MODIFIED:20240407T221114Z
UID:6417-1702051200-1702058400@home.reggioemilia.progettohamlet.it
SUMMARY:MARCHING BAND DI NATALE
DESCRIPTION:Questo è un evento del Centro Storico. \nLa Bandessa Jingle Band – Marching Band di Natale attraverserà le vie del centro storico :star_struck::santa:\nLa Bandessa Jingle Band durante il periodo natalizio si trasforma nella Jingle Band di Natale\, indossando il tipico vestito di Babbo Natale e regalando\, in maniera itinerante\, un repertorio prettamente a tema con musiche natalizie della tradizione e altre arrangiate in maniera più moderna!\n—> organizzato a cura Servizio Sportello Attività produttive – Valorizzazione centro storico con il sostegno di Iren
URL:https://home.reggioemilia.progettohamlet.it/event/marching-band-di-natale/
LOCATION:Partenza da piazza Martiri del 7 Luglio\, Partenza da piazza Martiri del 7 Luglio
END:VEVENT
BEGIN:VEVENT
DTSTART;TZID=Europe/Rome:20231205T203000
DTEND;TZID=Europe/Rome:20231205T223000
DTSTAMP:20260423T004816
CREATED:20240515T110019Z
LAST-MODIFIED:20240515T110019Z
UID:6936-1701808200-1701815400@home.reggioemilia.progettohamlet.it
SUMMARY:CONVOCAZIONE CONSULTA H
DESCRIPTION:Questo è un evento di Progetti. \nConvocazione consulta H 05122023.pdf
URL:https://home.reggioemilia.progettohamlet.it/event/convocazione-consulta-h/
LOCATION:Circolo ARCI Gardenia\, Circolo Arci Gardenia
END:VEVENT
BEGIN:VEVENT
DTSTART;TZID=Europe/Rome:20231202T160000
DTEND;TZID=Europe/Rome:20231202T174500
DTSTAMP:20260423T004816
CREATED:20240407T221114Z
LAST-MODIFIED:20240407T221114Z
UID:6419-1701532800-1701539100@home.reggioemilia.progettohamlet.it
SUMMARY:SPETTACOLO   CAFFE' KAKANIA  - Violini di SANTA VITTORIA
DESCRIPTION:Questo è un evento del Centro Storico.
URL:https://home.reggioemilia.progettohamlet.it/event/spettacolo-caffe-kakania-violini-di-santa-vittoria/
LOCATION:TEATRO PADRI CAPPUCCINI – Via FERRARI BONINI\, TEATRO PADRI CAPPUCCINI - Via FERRARI BONINI\, 4 RE
END:VEVENT
BEGIN:VEVENT
DTSTART;TZID=Europe/Rome:20231130T180000
DTEND;TZID=Europe/Rome:20231130T200000
DTSTAMP:20260423T004816
CREATED:20240407T215842Z
LAST-MODIFIED:20240407T215842Z
UID:7331-1701367200-1701374400@home.reggioemilia.progettohamlet.it
SUMMARY:Il parco dell’innovazione di Reggio Emilia compie 10 anni! ✨
DESCRIPTION:La descrizione di questo evento contiene caratteri non supportati.
URL:https://home.reggioemilia.progettohamlet.it/event/il-parco-dellinnovazione-di-reggio-emilia-compie-10-anni-%e2%9c%a8/
LOCATION:Tecnopolo\, Tecnopolo
END:VEVENT
BEGIN:VEVENT
DTSTART;TZID=Europe/Rome:20231128T210000
DTEND;TZID=Europe/Rome:20240214T180000
DTSTAMP:20260423T004816
CREATED:20240407T220908Z
LAST-MODIFIED:20240407T220908Z
UID:6149-1701205200-1707933600@home.reggioemilia.progettohamlet.it
SUMMARY:Incontri Gustosi
DESCRIPTION:Questo è un evento dell’Ambito A. \nHai voglia di metterti in gioco e fare nuove conoscenze attraverso la cucina? :pizza:\nA Cavazzoli c’è quello che cerchi!\n:phone: per info e prenotazioni 339 6339700
URL:https://home.reggioemilia.progettohamlet.it/event/incontri-gustosi-3/
LOCATION:Via Rinaldi 50\, Via Rinaldi 50
END:VEVENT
BEGIN:VEVENT
DTSTART;TZID=Europe/Rome:20231119T110000
DTEND;TZID=Europe/Rome:20231119T130000
DTSTAMP:20260423T004816
CREATED:20240515T110020Z
LAST-MODIFIED:20240515T110020Z
UID:6940-1700391600-1700398800@home.reggioemilia.progettohamlet.it
SUMMARY:Inaugurazione della riqualificazione del Parco Biagi
DESCRIPTION:Questo è un evento di Progetti. \nInvito inaugurazione 19 novembre.pdf\nDomenica 19 Novembre ( ore 11 ) si terrà l’inaugurazione della riqualificazione del Parco Biagi alla presenza del sindaco Luca Vecchi\, dell’assessora Carlotta Bonvicini e di molti soggetti che hanno contribuito al progetto europeo LIFE Cityadap3. In questa occasione ci sarà anche una piccola distribuzione di piante .
URL:https://home.reggioemilia.progettohamlet.it/event/inaugurazione-della-riqualificazione-del-parco-biagi/
LOCATION:Parco Biagi (accesso da largo Marco Biagi\, Parco Biagi (accesso da largo Marco Biagi\, via Saragat)
END:VEVENT
BEGIN:VEVENT
DTSTART;TZID=Europe/Rome:20231119T110000
DTEND;TZID=Europe/Rome:20231119T130000
DTSTAMP:20260423T004816
CREATED:20240407T215843Z
LAST-MODIFIED:20240407T215843Z
UID:7332-1700391600-1700398800@home.reggioemilia.progettohamlet.it
SUMMARY:Giornata degli Alberi
DESCRIPTION:La descrizione di questo evento contiene caratteri non supportati.
URL:https://home.reggioemilia.progettohamlet.it/event/giornata-degli-alberi/
LOCATION:Parco Biagi\, Parco Biagi\, Reggio Emilia
END:VEVENT
BEGIN:VEVENT
DTSTART;TZID=Europe/Rome:20231116T204500
DTEND;TZID=Europe/Rome:20231116T224500
DTSTAMP:20260423T004816
CREATED:20240515T110020Z
LAST-MODIFIED:20240515T110020Z
UID:6938-1700167500-1700174700@home.reggioemilia.progettohamlet.it
SUMMARY:Terzo  appuntamento dedicato all'intelligenza artificiale e al caregiver con il dr. Marco Ruini\, specialista in neurochirurgia e neurologia
DESCRIPTION:Questo è un evento di Progetti. \nTerzo appuntamento dedicato all’intelligenza artificiale e al caregiver con il dr. Marco Ruini\, specialista in neurochirurgia\, neurologia e direttore sanitario al Centro Anemos di Reggio Emilia.\nIl ricco calendario di appuntamenti\, dedicati alle problematiche nel mondo dell’adolescenza\,  è stato realizzato con il contributo del Comune di Reggio Emilia all’interno del progetto “Qua – Quartiere bene comune” in collaborazione con la Consulta dell’ambito G.
URL:https://home.reggioemilia.progettohamlet.it/event/terzo-appuntamento-dedicato-allintelligenza-artificiale-e-al-caregiver-con-il-dr-marco-ruini-specialista-in-neurochirurgia-e-neurologia/
LOCATION:CIRCOLO ARCI LA CAPANNINA PARADISA – MASSENZATICO\, CIRCOLO ARCI LA CAPANNINA PARADISA - MASSENZATICO
END:VEVENT
BEGIN:VEVENT
DTSTART;TZID=Europe/Rome:20231115T203000
DTEND;TZID=Europe/Rome:20231115T223000
DTSTAMP:20260423T004816
CREATED:20240515T110020Z
LAST-MODIFIED:20240515T110020Z
UID:6941-1700080200-1700087400@home.reggioemilia.progettohamlet.it
SUMMARY:Assemblea pubblica sulla tangenziale Nord
DESCRIPTION:Questo è un evento di Progetti. \nBuongiorno\,\nil 15/11\, alle ore 20\,30\, c/o il Circolo Arci Rondò si terrà l’assemblea pubblica\, aperta alla cittadinanza\, per illustrare i lavori del cantiere della Tangenziale Nord. Interverranno il Sindaco Luca Vecchi\, l’Assessore ai Lavori Pubblici Nicola Tria e il dirigente del Comune di Reggio Emilia David Zilioli.\nA4_volantino ASSEMBLEA PUBBLICA_tangenziale_Nord_151123_02 (1).pdf
URL:https://home.reggioemilia.progettohamlet.it/event/assemblea-pubblica-sulla-tangenziale-nord/
LOCATION:Circolo Arci Rondò – Cavazzoli\, Circolo Arci Rondò - Cavazzoli
END:VEVENT
BEGIN:VEVENT
DTSTART;TZID=Europe/Rome:20231111T150000
DTEND;TZID=Europe/Rome:20231111T193000
DTSTAMP:20260423T004816
CREATED:20240407T215746Z
LAST-MODIFIED:20240407T215746Z
UID:7203-1699714800-1699731000@home.reggioemilia.progettohamlet.it
SUMMARY:Festa della castagna
DESCRIPTION:La descrizione di questo evento contiene caratteri non supportati.
URL:https://home.reggioemilia.progettohamlet.it/event/festa-della-castagna/
LOCATION:Via Dante Freddi\, Via Dante Freddi\, 148\, 42123 Reggio Emilia
END:VEVENT
BEGIN:VEVENT
DTSTART;TZID=Europe/Rome:20231109T203000
DTEND;TZID=Europe/Rome:20231109T223000
DTSTAMP:20260423T004816
CREATED:20240515T110020Z
LAST-MODIFIED:20240515T110020Z
UID:6943-1699561800-1699569000@home.reggioemilia.progettohamlet.it
SUMMARY:Convocazione Consulta B
DESCRIPTION:Questo è un evento di Progetti. \nConvocazione Consulta ambito B_09_11_2023.pdf
URL:https://home.reggioemilia.progettohamlet.it/event/convocazione-consulta-b/
LOCATION:Centro sociale Carrozzone\, Centro sociale Carrozzone
END:VEVENT
BEGIN:VEVENT
DTSTART;TZID=Europe/Rome:20231026T204500
DTEND;TZID=Europe/Rome:20231026T223000
DTSTAMP:20260423T004816
CREATED:20240515T110021Z
LAST-MODIFIED:20240515T110021Z
UID:6945-1698353100-1698359400@home.reggioemilia.progettohamlet.it
SUMMARY:Conferenza dedicata al cyberbullismo e ai social con la psicologa dr.ssa Maria Chiara Zaccaro
DESCRIPTION:Questo è un evento di Progetti. \nGiovedì  26 ottobre si terrà il secondo appuntamento dedicato ai social e al cyberbullismo. I 10 appuntamenti sono stati realizzati all’interno del progetto “Qua – Il quartiere bene comune”  in collaborazione con la Consulta dell’ambito G.
URL:https://home.reggioemilia.progettohamlet.it/event/conferenza-dedicata-al-cyberbullismo-e-ai-social-con-la-psicologa-dr-ssa-maria-chiara-zaccaro/
LOCATION:Sala polivalente Mauro Chiesi – Parrocchia di Sesso\, Via Domenico Catellani\, Sesso\, Provincia di Reggio Emilia\, 42124\, Italy
END:VEVENT
BEGIN:VEVENT
DTSTART;TZID=Europe/Rome:20231026T203000
DTEND;TZID=Europe/Rome:20231026T223000
DTSTAMP:20260423T004816
CREATED:20240515T110021Z
LAST-MODIFIED:20240515T110021Z
UID:6947-1698352200-1698359400@home.reggioemilia.progettohamlet.it
SUMMARY:SEDUTA CONSULTA AMBITO H
DESCRIPTION:Questo è un evento di Progetti. \nConvocazione seduta Consulta H.pdf
URL:https://home.reggioemilia.progettohamlet.it/event/seduta-consulta-ambito-h/
LOCATION:Biblioteca Santa Croce – Villa Cougnet\, Biblioteca Santa Croce - Villa Cougnet
END:VEVENT
END:VCALENDAR