BEGIN:VCALENDAR
VERSION:2.0
PRODID:-//Hamlet - ECPv6.15.12//NONSGML v1.0//EN
CALSCALE:GREGORIAN
METHOD:PUBLISH
X-WR-CALNAME:Hamlet
X-ORIGINAL-URL:https://home.reggioemilia.progettohamlet.it
X-WR-CALDESC:Eventi per Hamlet
REFRESH-INTERVAL;VALUE=DURATION:PT1H
X-Robots-Tag:noindex
X-PUBLISHED-TTL:PT1H
BEGIN:VTIMEZONE
TZID:Europe/Rome
BEGIN:DAYLIGHT
TZOFFSETFROM:+0100
TZOFFSETTO:+0200
TZNAME:CEST
DTSTART:20220327T010000
END:DAYLIGHT
BEGIN:STANDARD
TZOFFSETFROM:+0200
TZOFFSETTO:+0100
TZNAME:CET
DTSTART:20221030T010000
END:STANDARD
BEGIN:DAYLIGHT
TZOFFSETFROM:+0100
TZOFFSETTO:+0200
TZNAME:CEST
DTSTART:20230326T010000
END:DAYLIGHT
BEGIN:STANDARD
TZOFFSETFROM:+0200
TZOFFSETTO:+0100
TZNAME:CET
DTSTART:20231029T010000
END:STANDARD
BEGIN:DAYLIGHT
TZOFFSETFROM:+0100
TZOFFSETTO:+0200
TZNAME:CEST
DTSTART:20240331T010000
END:DAYLIGHT
BEGIN:STANDARD
TZOFFSETFROM:+0200
TZOFFSETTO:+0100
TZNAME:CET
DTSTART:20241027T010000
END:STANDARD
END:VTIMEZONE
BEGIN:VEVENT
DTSTART;TZID=Europe/Rome:20231116T204500
DTEND;TZID=Europe/Rome:20231116T224500
DTSTAMP:20260423T002337
CREATED:20240515T110020Z
LAST-MODIFIED:20240515T110020Z
UID:6938-1700167500-1700174700@home.reggioemilia.progettohamlet.it
SUMMARY:Terzo  appuntamento dedicato all'intelligenza artificiale e al caregiver con il dr. Marco Ruini\, specialista in neurochirurgia e neurologia
DESCRIPTION:Questo è un evento di Progetti. \nTerzo appuntamento dedicato all’intelligenza artificiale e al caregiver con il dr. Marco Ruini\, specialista in neurochirurgia\, neurologia e direttore sanitario al Centro Anemos di Reggio Emilia.\nIl ricco calendario di appuntamenti\, dedicati alle problematiche nel mondo dell’adolescenza\,  è stato realizzato con il contributo del Comune di Reggio Emilia all’interno del progetto “Qua – Quartiere bene comune” in collaborazione con la Consulta dell’ambito G.
URL:https://home.reggioemilia.progettohamlet.it/event/terzo-appuntamento-dedicato-allintelligenza-artificiale-e-al-caregiver-con-il-dr-marco-ruini-specialista-in-neurochirurgia-e-neurologia/
LOCATION:CIRCOLO ARCI LA CAPANNINA PARADISA – MASSENZATICO\, CIRCOLO ARCI LA CAPANNINA PARADISA - MASSENZATICO
END:VEVENT
BEGIN:VEVENT
DTSTART;TZID=Europe/Rome:20231115T203000
DTEND;TZID=Europe/Rome:20231115T223000
DTSTAMP:20260423T002337
CREATED:20240515T110020Z
LAST-MODIFIED:20240515T110020Z
UID:6941-1700080200-1700087400@home.reggioemilia.progettohamlet.it
SUMMARY:Assemblea pubblica sulla tangenziale Nord
DESCRIPTION:Questo è un evento di Progetti. \nBuongiorno\,\nil 15/11\, alle ore 20\,30\, c/o il Circolo Arci Rondò si terrà l’assemblea pubblica\, aperta alla cittadinanza\, per illustrare i lavori del cantiere della Tangenziale Nord. Interverranno il Sindaco Luca Vecchi\, l’Assessore ai Lavori Pubblici Nicola Tria e il dirigente del Comune di Reggio Emilia David Zilioli.\nA4_volantino ASSEMBLEA PUBBLICA_tangenziale_Nord_151123_02 (1).pdf
URL:https://home.reggioemilia.progettohamlet.it/event/assemblea-pubblica-sulla-tangenziale-nord/
LOCATION:Circolo Arci Rondò – Cavazzoli\, Circolo Arci Rondò - Cavazzoli
END:VEVENT
BEGIN:VEVENT
DTSTART;TZID=Europe/Rome:20231111T150000
DTEND;TZID=Europe/Rome:20231111T193000
DTSTAMP:20260423T002337
CREATED:20240407T215746Z
LAST-MODIFIED:20240407T215746Z
UID:7203-1699714800-1699731000@home.reggioemilia.progettohamlet.it
SUMMARY:Festa della castagna
DESCRIPTION:La descrizione di questo evento contiene caratteri non supportati.
URL:https://home.reggioemilia.progettohamlet.it/event/festa-della-castagna/
LOCATION:Via Dante Freddi\, Via Dante Freddi\, 148\, 42123 Reggio Emilia
END:VEVENT
BEGIN:VEVENT
DTSTART;TZID=Europe/Rome:20231109T203000
DTEND;TZID=Europe/Rome:20231109T223000
DTSTAMP:20260423T002337
CREATED:20240515T110020Z
LAST-MODIFIED:20240515T110020Z
UID:6943-1699561800-1699569000@home.reggioemilia.progettohamlet.it
SUMMARY:Convocazione Consulta B
DESCRIPTION:Questo è un evento di Progetti. \nConvocazione Consulta ambito B_09_11_2023.pdf
URL:https://home.reggioemilia.progettohamlet.it/event/convocazione-consulta-b/
LOCATION:Centro sociale Carrozzone\, Centro sociale Carrozzone
END:VEVENT
BEGIN:VEVENT
DTSTART;TZID=Europe/Rome:20231026T204500
DTEND;TZID=Europe/Rome:20231026T223000
DTSTAMP:20260423T002337
CREATED:20240515T110021Z
LAST-MODIFIED:20240515T110021Z
UID:6945-1698353100-1698359400@home.reggioemilia.progettohamlet.it
SUMMARY:Conferenza dedicata al cyberbullismo e ai social con la psicologa dr.ssa Maria Chiara Zaccaro
DESCRIPTION:Questo è un evento di Progetti. \nGiovedì  26 ottobre si terrà il secondo appuntamento dedicato ai social e al cyberbullismo. I 10 appuntamenti sono stati realizzati all’interno del progetto “Qua – Il quartiere bene comune”  in collaborazione con la Consulta dell’ambito G.
URL:https://home.reggioemilia.progettohamlet.it/event/conferenza-dedicata-al-cyberbullismo-e-ai-social-con-la-psicologa-dr-ssa-maria-chiara-zaccaro/
LOCATION:Sala polivalente Mauro Chiesi – Parrocchia di Sesso\, Via Domenico Catellani\, Sesso\, Provincia di Reggio Emilia\, 42124\, Italy
END:VEVENT
BEGIN:VEVENT
DTSTART;TZID=Europe/Rome:20231026T203000
DTEND;TZID=Europe/Rome:20231026T223000
DTSTAMP:20260423T002337
CREATED:20240515T110021Z
LAST-MODIFIED:20240515T110021Z
UID:6947-1698352200-1698359400@home.reggioemilia.progettohamlet.it
SUMMARY:SEDUTA CONSULTA AMBITO H
DESCRIPTION:Questo è un evento di Progetti. \nConvocazione seduta Consulta H.pdf
URL:https://home.reggioemilia.progettohamlet.it/event/seduta-consulta-ambito-h/
LOCATION:Biblioteca Santa Croce – Villa Cougnet\, Biblioteca Santa Croce - Villa Cougnet
END:VEVENT
BEGIN:VEVENT
DTSTART;TZID=Europe/Rome:20231024T210000
DTEND;TZID=Europe/Rome:20231024T220000
DTSTAMP:20260423T002337
CREATED:20240407T220909Z
LAST-MODIFIED:20240407T220909Z
UID:6150-1698181200-1698184800@home.reggioemilia.progettohamlet.it
SUMMARY:Incontri Gustosi
DESCRIPTION:Questo è un evento dell’Ambito A. \nHai voglia di metterti in gioco e fare nuove conoscenze attraverso la cucina? :pizza:\nA Cavazzoli c’è quello che cerchi!\n:phone: per info e prenotazioni 339 6339700
URL:https://home.reggioemilia.progettohamlet.it/event/incontri-gustosi-4/
LOCATION:Via Rinaldi 50\, Via Rinaldi 50
END:VEVENT
BEGIN:VEVENT
DTSTART;TZID=Europe/Rome:20231021T100000
DTEND;TZID=Europe/Rome:20231021T120000
DTSTAMP:20260423T002337
CREATED:20240407T215747Z
LAST-MODIFIED:20240407T215747Z
UID:7205-1697882400-1697889600@home.reggioemilia.progettohamlet.it
SUMMARY:Prova gratuita IMPROSANBA\, corso di improvvisazione teatrale
DESCRIPTION:La descrizione di questo evento contiene caratteri non supportati.
URL:https://home.reggioemilia.progettohamlet.it/event/prova-gratuita-improsanba-corso-di-improvvisazione-teatrale/
LOCATION:Via Dante Freddi\, Via Dante Freddi\, 148\, 42123 Reggio Emilia
END:VEVENT
BEGIN:VEVENT
DTSTART;TZID=Europe/Rome:20231018T163000
DTEND;TZID=Europe/Rome:20231018T180000
DTSTAMP:20260423T002337
CREATED:20240407T215747Z
LAST-MODIFIED:20240407T215747Z
UID:7204-1697646600-1697652000@home.reggioemilia.progettohamlet.it
SUMMARY:Corso di improvvisazione teatrale - Progetto "Teatro Empatico" per bambini e ragazzi
DESCRIPTION:La descrizione di questo evento contiene caratteri non supportati.
URL:https://home.reggioemilia.progettohamlet.it/event/corso-di-improvvisazione-teatrale-progetto-teatro-empatico-per-bambini-e-ragazzi/
LOCATION:Via Dante Freddi\, Via Dante Freddi\, 148\, 42123 Reggio Emilia
END:VEVENT
BEGIN:VEVENT
DTSTART;TZID=Europe/Rome:20231018T153000
DTEND;TZID=Europe/Rome:20231018T170000
DTSTAMP:20260423T002337
CREATED:20240407T220906Z
LAST-MODIFIED:20240407T220906Z
UID:6143-1697643000-1697648400@home.reggioemilia.progettohamlet.it
SUMMARY:CORSO di BASE per l’utilizzo di SMARTPHONE e SPID
DESCRIPTION:Questo è un evento dell’Ambito A. \nScopriamo le funzioni di app e social!\nDal 18 ottobre fino a primavera 2024 ogni mercoledì dalle 15\,30 alle 17\,30 In collaborazione con SPI CGIL\n:phone: per info 392 2175968\nLa partecipazione corsi è gratuita
URL:https://home.reggioemilia.progettohamlet.it/event/corso-di-base-per-lutilizzo-di-smartphone-e-spid-6/
LOCATION:via vico 152\, Via Vico 152\, 42124\, Reggio Emilia (RE)
END:VEVENT
BEGIN:VEVENT
DTSTART;TZID=Europe/Rome:20231018T093000
DTEND;TZID=Europe/Rome:20231018T120000
DTSTAMP:20260423T002337
CREATED:20240407T220907Z
LAST-MODIFIED:20240407T220907Z
UID:6145-1697621400-1697630400@home.reggioemilia.progettohamlet.it
SUMMARY:Laboratorio di Cucito
DESCRIPTION:Questo è un evento dell’Ambito A. \nLaboratorio di cucito a Cella!\nmassimo 10 iscritti a giornata\n:phone: per info 340 7728819\nla partecipazione è gratuita\n![](https://ambitoa.re.progettohamlet.it/file/file/download?guid=31664d7f-e387-43ae-aebd-dac2eda0721c =300x)
URL:https://home.reggioemilia.progettohamlet.it/event/laboratorio-di-cucito-8/
LOCATION:via vico 152\, Via Vico 152\, 42124\, Reggio Emilia (RE)
END:VEVENT
BEGIN:VEVENT
DTSTART;TZID=Europe/Rome:20231017T203000
DTEND;TZID=Europe/Rome:20231017T223000
DTSTAMP:20260423T002337
CREATED:20240515T110022Z
LAST-MODIFIED:20240515T110022Z
UID:6949-1697574600-1697581800@home.reggioemilia.progettohamlet.it
SUMMARY:CONSULTA CENTRO STORICO
DESCRIPTION:Questo è un evento di Progetti. \nConvocazione consulta cs_17102023.pdf
URL:https://home.reggioemilia.progettohamlet.it/event/consulta-centro-storico/
LOCATION:Sala rossa sede municipale\, Via Gattalupa\, Reggio Emilia\, Provincia di Reggio Emilia\, 42122\, Italy
END:VEVENT
BEGIN:VEVENT
DTSTART;TZID=Europe/Rome:20231013T150000
DTEND;TZID=Europe/Rome:20231013T170000
DTSTAMP:20260423T002337
CREATED:20240407T220931Z
LAST-MODIFIED:20240407T220931Z
UID:6190-1697209200-1697216400@home.reggioemilia.progettohamlet.it
SUMMARY:Festa di fine Estate
DESCRIPTION:Questo è un evento dell’Ambito B. \nLa tanto attesa Festa di fine Estate\, con narrazioni\, musica e giochi! :relaxed:\nDalle ore 17.00 gnocco fritto\nInfo —> email: spazioculturaleorologio@comune.re.it \, tel.:0522 585396\nCon la partecipazione di associazioni e volontari del quartiere\nOrganizzato da Spazio Culturale Orologio\, con il Centro Sociale Orologio e il Mamimò
URL:https://home.reggioemilia.progettohamlet.it/event/festa-di-fine-estate/
LOCATION:Spazio Culturale Orologio Massenet\, Spazio Culturale Orologio Massenet\, 17/a\, Reggio Emilia
END:VEVENT
BEGIN:VEVENT
DTSTART;TZID=Europe/Rome:20231013T133000
DTEND;TZID=Europe/Rome:20231014T160000
DTSTAMP:20260423T002337
CREATED:20240407T221035Z
LAST-MODIFIED:20240407T221035Z
UID:6323-1697203800-1697299200@home.reggioemilia.progettohamlet.it
SUMMARY:VENEZIA EXTRA ORDINARIO
DESCRIPTION:Questo è un evento dell’Ambito E.
URL:https://home.reggioemilia.progettohamlet.it/event/venezia-extra-ordinario/
LOCATION:Centro Sociale Venezia\, CENTRO SOCIALE VENEZIA
END:VEVENT
BEGIN:VEVENT
DTSTART;TZID=Europe/Rome:20231012T204500
DTEND;TZID=Europe/Rome:20231012T223000
DTSTAMP:20260423T002337
CREATED:20240515T110021Z
LAST-MODIFIED:20240515T110021Z
UID:6948-1697143500-1697149800@home.reggioemilia.progettohamlet.it
SUMMARY:CONFERENZA DEDICATA AI DISTURBI DEL COMPORTAMENTO ALIMENTARE NELL'ADOLESCENZA - RELATORE DR. TIZIANO FERRETTI\, MEDICO SPECIALISTA IN SCIENZE DELL'ALIMENTAZIONE
DESCRIPTION:Questo è un evento di Progetti. \nStasera il primo appuntamento del ciclo di incontri formativi ed informativi\, condotti da esperte ed esperti\, dedicati ai disagi nel mondo dell’adolescenza. I 10 appuntamenti sono stati realizzati all’interno del progetto “Qua – Il quartiere bene comune”  in collaborazione con la Consulta dell’ambito G Calendario adolescenti UV. adolpdf.pdfBrochure incontri adolescenti uv.pdf
URL:https://home.reggioemilia.progettohamlet.it/event/conferenza-dedicata-ai-disturbi-del-comportamento-alimentare-nelladolescenza-relatore-dr-tiziano-ferretti-medico-specialista-in-scienze-dellalimentazione/
LOCATION:CIRCOLO ARCI LA CAPANNINA PARADISA\, CIRCOLO ARCI LA CAPANNINA PARADISA
END:VEVENT
BEGIN:VEVENT
DTSTART;TZID=Europe/Rome:20231012T203000
DTEND;TZID=Europe/Rome:20231012T223000
DTSTAMP:20260423T002337
CREATED:20240515T110022Z
LAST-MODIFIED:20240515T110022Z
UID:6951-1697142600-1697149800@home.reggioemilia.progettohamlet.it
SUMMARY:SEDUTA CONSULTA AMBITOD
DESCRIPTION:Questo è un evento di Progetti. \nINCONTRO CONSULTA AMBITO D _ 121023.pdf
URL:https://home.reggioemilia.progettohamlet.it/event/seduta-consulta-ambitod/
LOCATION:Sala Polo sociale territoriale Sud\, Via Gandhi Mohandas Karamchand\, Reggio Emilia\, Provincia di Reggio Emilia\, 42123\, Italy
END:VEVENT
BEGIN:VEVENT
DTSTART;TZID=Europe/Rome:20231011T200000
DTEND;TZID=Europe/Rome:20231011T234500
DTSTAMP:20260423T002337
CREATED:20240407T220952Z
LAST-MODIFIED:20240407T220952Z
UID:6231-1697054400-1697067900@home.reggioemilia.progettohamlet.it
SUMMARY:Fotografie nei cassetti
DESCRIPTION:Questo è un evento dell’Ambito C.
URL:https://home.reggioemilia.progettohamlet.it/event/fotografie-nei-cassetti/
END:VEVENT
BEGIN:VEVENT
DTSTART;TZID=Europe/Rome:20231010T210000
DTEND;TZID=Europe/Rome:20231010T220000
DTSTAMP:20260423T002337
CREATED:20240407T220909Z
LAST-MODIFIED:20240407T220909Z
UID:6151-1696971600-1696975200@home.reggioemilia.progettohamlet.it
SUMMARY:Ballando sul filo dei sapori
DESCRIPTION:Questo è un evento dell’Ambito A. \nHai voglia di ballare?\nDi metterti in gioco?\nDi farti nuovi amici?\n:man_dancing: METTIAMOCI IN BALLO! :dancer:\necco un bel calendario per te\n![](https://ambitoa.re.progettohamlet.it/file/file/download?guid=91e17bb6-ed42-4750-9674-4533b35ceecd =300x)
URL:https://home.reggioemilia.progettohamlet.it/event/ballando-sul-filo-dei-sapori-4/
LOCATION:via Rinaldi 45\, Via Rinaldi 45\, 42124\, Reggio Emilia (RE)
END:VEVENT
BEGIN:VEVENT
DTSTART;TZID=Europe/Rome:20231010T203000
DTEND;TZID=Europe/Rome:20231010T223000
DTSTAMP:20260423T002337
CREATED:20240515T110023Z
LAST-MODIFIED:20240515T110023Z
UID:6952-1696969800-1696977000@home.reggioemilia.progettohamlet.it
SUMMARY:CONVOCAZIONE CONSULTA AMBITO B
DESCRIPTION:Questo è un evento di Progetti. \nCONVOCAZIONE CONSULTA B_10102023.pdf
URL:https://home.reggioemilia.progettohamlet.it/event/convocazione-consulta-ambito-b/
LOCATION:Centro Sociale Orologio\, CENTRO SOCIALE OROLOGIO\, Reggio Emilia\, Italia
END:VEVENT
BEGIN:VEVENT
DTSTART;TZID=Europe/Rome:20231010T143000
DTEND;TZID=Europe/Rome:20231010T183000
DTSTAMP:20260423T002337
CREATED:20240515T110023Z
LAST-MODIFIED:20240515T110023Z
UID:6954-1696948200-1696962600@home.reggioemilia.progettohamlet.it
SUMMARY:Convegno Mobilità Casa - Lavoro
DESCRIPTION:Questo è un evento di Progetti.
URL:https://home.reggioemilia.progettohamlet.it/event/convegno-mobilita-casa-lavoro/
LOCATION:Tecnopolo\, Tecnopolo
END:VEVENT
BEGIN:VEVENT
DTSTART;TZID=Europe/Rome:20231010T143000
DTEND;TZID=Europe/Rome:20231010T183000
DTSTAMP:20260423T002337
CREATED:20240407T221043Z
LAST-MODIFIED:20240407T221043Z
UID:6334-1696948200-1696962600@home.reggioemilia.progettohamlet.it
SUMMARY:MOBILITA' CASA LAVORO - lo sviluppo del mobility management aziendale
DESCRIPTION:Questo è un evento dell’Ambito H. \n10 ottobre (ore 14.30-18.30) al Tecnopolo\nMOBILITA’ CASA-LAVORO\nLo sviluppo del Mobility Management aziendale e i Piani Spostamento Casa-Lavoro: a che punto siamo a Reggio Emilia? \nSarà l’occasione per discutere e riflettere sulla figura del Mobility Manager aziendale e le sfide nella pianificazione della mobilità casa-lavoro nel mondo odierno\, oltre a illustrare le linee guida ministeriali e come si sono attivate le aziende e la pubblica amministrazione del nostro territorio.\nNei prossimi giorni uscirà il programma definitivo che\, oltre ai saluti di benvenuto dell’Assessora alle politiche per la sostenibilità Carlotta Bonvicini e del Professore Giovanni Verzellesi\, Prorettore Università Modena e Reggio\, ospiterà i contributi di esperti in materia quali: \n* Matteo Colleoni – Professore Ordinario di Sociologia dell’ambiente e del Territorio Università di Milano Bicocca\, Coordinatore nazionale GdL mobilità della RUS\ne GdL mobilità sostenibile per il PNRR 2021-2027\n* Paolo Gandolfi – Architetto\, Direttore Area Sviluppo Territoriale Comune di Reggio Emilia\, GdL mobilità sostenibile\n* Angela Chiari – Architetto\, Mobility manager di Area del Comune di Parma\n* Bruno Marconi – Responsabile Area territorio e relazione Enti locali di Unindustria Reggio Emilia\n* Cecilia Rossi – Direttrice Agenzia della Mobilità di Reggio Emilia
URL:https://home.reggioemilia.progettohamlet.it/event/mobilita-casa-lavoro-lo-sviluppo-del-mobility-management-aziendale/
LOCATION:Tecnopolo\, Tecnopolo
END:VEVENT
BEGIN:VEVENT
DTSTART;TZID=Europe/Rome:20231007T083000
DTEND;TZID=Europe/Rome:20231007T121500
DTSTAMP:20260423T002337
CREATED:20240407T220951Z
LAST-MODIFIED:20240407T220951Z
UID:6230-1696667400-1696680900@home.reggioemilia.progettohamlet.it
SUMMARY:Party per la scuola insieme a noi
DESCRIPTION:Questo è un evento dell’Ambito C. \nFesta di inizio anno Scuola Primaria San Bartolomeo
URL:https://home.reggioemilia.progettohamlet.it/event/party-per-la-scuola-insieme-a-noi/
LOCATION:Scuola Primaria San Bartolomeo\, Scuola Primaria San Bartolomeo
END:VEVENT
BEGIN:VEVENT
DTSTART;TZID=Europe/Rome:20231003T000000
DTEND;TZID=Europe/Rome:20231004T000000
DTSTAMP:20260423T002337
CREATED:20240515T110023Z
LAST-MODIFIED:20240515T110023Z
UID:6953-1696291200-1696377600@home.reggioemilia.progettohamlet.it
SUMMARY:SEDUTA CONSULTA AMBITO H
DESCRIPTION:Questo è un evento di Progetti. \nConvocazione Consulta H_031023.pdf
URL:https://home.reggioemilia.progettohamlet.it/event/seduta-consulta-ambito-h-2/
LOCATION:Biblioteca Santa Croce – Villa Cougnet\, Biblioteca Santa Croce - Villa Cougnet
END:VEVENT
BEGIN:VEVENT
DTSTART;TZID=Europe/Rome:20231001T090000
DTEND;TZID=Europe/Rome:20231001T130000
DTSTAMP:20260423T002337
CREATED:20240407T220952Z
LAST-MODIFIED:20240407T220952Z
UID:6232-1696150800-1696165200@home.reggioemilia.progettohamlet.it
SUMMARY:Mercato contadino al Quaresimo
DESCRIPTION:Questo è un evento dell’Ambito C.
URL:https://home.reggioemilia.progettohamlet.it/event/mercato-contadino-al-quaresimo/
LOCATION:Centro Sociale Quaresimo\, Centro Sociale Quaresimo
END:VEVENT
BEGIN:VEVENT
DTSTART;TZID=Europe/Rome:20230926T203000
DTEND;TZID=Europe/Rome:20230926T230000
DTSTAMP:20260423T002337
CREATED:20240515T110024Z
LAST-MODIFIED:20240515T110024Z
UID:6956-1695760200-1695769200@home.reggioemilia.progettohamlet.it
SUMMARY:ASSEMBLEA PUBBLICA PER ILLUSTRAZIONE LAVORI DI MESSA IN SICUREZZA DELLA VIA EMILIA OVEST
DESCRIPTION:Questo è un evento di Progetti. \nA4_volantino ASSEMBLEA PUBBLICA_via emilia_26923_04.pdf
URL:https://home.reggioemilia.progettohamlet.it/event/assemblea-pubblica-per-illustrazione-lavori-di-messa-in-sicurezza-della-via-emilia-ovest/
LOCATION:Circolo Arci Pablo Neruda – Cadè\, Circolo Arci Pablo Neruda - Cadè
END:VEVENT
BEGIN:VEVENT
DTSTART;TZID=Europe/Rome:20230925T194500
DTEND;TZID=Europe/Rome:20230925T220000
DTSTAMP:20260423T002337
CREATED:20240407T220953Z
LAST-MODIFIED:20240407T220953Z
UID:6234-1695671100-1695679200@home.reggioemilia.progettohamlet.it
SUMMARY:8 secondi. Viaggio nell'era della distrazione
DESCRIPTION:Questo è un evento dell’Ambito C. \nLunedì 25 continuano gli incontri di PoetaTerra a San Bartolomeo con la giornalista\, autrice televisiva a e scrittrice Lisa Iotti.\nIl libro di Lisa Iotti 8 secondi ci parla di noi\, dell’era della distrazione infinita.\nMa com’è possibile che la nostra attenzione sia diventata inferiore a quella di un pesce rosso? Ed è vero che i like di Facebook stimolano le stesse aree attivate dall’assunzione di stupefacenti? In che modo la presenza di uno smartphone nelle vicinanze incide sulle nostre capacità cognitive? I social stanno modificando la struttura del nostro cervello? Lisa Iotti ci guida nel mondo dell’iperconnessione. Il suo è un viaggio\, intimo e sconvolgente\, nel lato oscuro della rivoluzione digitale\, attraverso le ossessioni\, i pericoli e le paure che caratterizzano il nostro contemporaneo dai laboratori in cui si svolgono ricerche sul comportamento delle nostre reti neurali durante l’utilizzo di app alle stanze in cui vengono studiate le possibili trasformazioni posturali dovute all’uso degli smartphone; dai centri per curare le dipendenze da iperconnessiine.\nTra reportage e narrazione personale\, 8 secondi è un’opera che nasce dalla necessità di trovare risposte alle nostre inquietudini e che finisce per aprirci a nuove domande e nuovi scenari.\nUn tempo prezioso per incontrare una formidabile giornalista d’inchiesta che sa tradurre con profondità e attenzione il tempo che viviviamo.
URL:https://home.reggioemilia.progettohamlet.it/event/8-secondi-viaggio-nellera-della-distrazione/
LOCATION:Via Dante Freddi 148\, Via Dante Freddi 148\, 42046\, Reggio Emilia
END:VEVENT
BEGIN:VEVENT
DTSTART;TZID=Europe/Rome:20230923T200000
DTEND;TZID=Europe/Rome:20230923T230000
DTSTAMP:20260423T002337
CREATED:20240407T220952Z
LAST-MODIFIED:20240407T220952Z
UID:6233-1695499200-1695510000@home.reggioemilia.progettohamlet.it
SUMMARY:Cena di solidarietà x il Rwanda
DESCRIPTION:Questo è un evento dell’Ambito C.
URL:https://home.reggioemilia.progettohamlet.it/event/cena-di-solidarieta-x-il-rwanda/
LOCATION:Via Freddi 145 nel salone parrocchiale\, Via Freddi 145 nel salone parrocchiale
END:VEVENT
BEGIN:VEVENT
DTSTART;TZID=Europe/Rome:20230923T163000
DTEND;TZID=Europe/Rome:20230923T220000
DTSTAMP:20260423T002337
CREATED:20240407T220953Z
LAST-MODIFIED:20240407T220953Z
UID:6235-1695486600-1695506400@home.reggioemilia.progettohamlet.it
SUMMARY:Giovani in festa - laboratori\, arte e musica
DESCRIPTION:Questo è un evento dell’Ambito C. \nSABATO 23 SETTEMBRE VI INVITIAMO a\nun festoso pomeriggio\, tra LABORATORI X RAGAZZI E FAMIGLIE e DJ SET\, per presentare:\n– i risultati ottenuti con il progetto PRESENTE!\, finanziato da Fondazione Manodori \, grazie al quale abbiamo attivato “Ragazzi in Azione” (con Associazione Emersa ) e “Spazio Nostro” (con Cipm Emilia) ; vissuto il laboratorio someggiato di 3 giorni all’ Ostello dei Balocchi \, curato da Legambiente Ligonchio; avviato una bella collaborazione con Biblioteca di Quattro Castella; organizzeremo a ottobre un pomeriggio dedicato alla comunicazione\, con Cipm e ZeroFavole APS ;\n– le tante azioni DELL’ESTATE DI PRITAGONISMO GIOVANI PASSI\, finanziata da Regione Emilia-Romagna e Quaderno – Comune di Reggio Emilia \, dove i ragazzi hanno attuato azioni di riqualifica al Parco degli Olmi e al Parco Le Ginestre \, con Centro Sociale Biasola e Insieme per Rivalta / avviato la creazione di una biblioteca di quartiere a San Bartolomeo \, collaborando con SANBA / collaborato con Granello di senape APS x la cura del loro campo giochi a luglio e la confezione di pacchi alimentari / affiancato alcune domeniche pom i volontari del Rifugio Rocky / conversano e giocato a pomeriggi di Filos per la terza eta’ con Auser Provinciale Reggio Emilia / vissuto laboratorio artistici\, di fumetto\, teatralita’ e giochi di ruolo curati da Emersa\, ASSOCIAZIONE CIRCOLARMENTE e POP Arts\n– i risultati del CAMPO RESIDENZIALE DI VOLONTARIATO per giovani da noi curato con contributo e collaborazione CSV Emilia – Sede di Reggio Emilia \, aiutati da Emersa e La Reggia Di Rivalta Insieme\n– le prossime azioni di UN TERRITORIO E I SUOI GIOVANI\, finanziato dalla Regione Emilia Romagna\, dove continueremo le collaborazioni avviate\, attiveremo nuovi progetti e corsi/laboratori x ragazzi (fra i quali uno di fotografia curato da Con gli occhi aperti ) e vivremo tante bellissime gite!
URL:https://home.reggioemilia.progettohamlet.it/event/giovani-in-festa-laboratori-arte-e-musica/
LOCATION:Centro Sociale Biasola\, Centro Sociale Biasola\, via San Rigo 1
END:VEVENT
BEGIN:VEVENT
DTSTART;TZID=Europe/Rome:20230916T163000
DTEND;TZID=Europe/Rome:20230916T180000
DTSTAMP:20260423T002337
CREATED:20240407T221044Z
LAST-MODIFIED:20240407T221044Z
UID:6337-1694881800-1694887200@home.reggioemilia.progettohamlet.it
SUMMARY:Camminata "  Anello di S. Croce e Reggiane  646 Q
DESCRIPTION:Questo è un evento dell’Ambito H.
URL:https://home.reggioemilia.progettohamlet.it/event/camminata-anello-di-s-croce-e-reggiane-646-q/
LOCATION:Piazza S.Croce (Tecnopolo cap.18)\, Piazza S.Croce (Tecnopolo cap.18)
END:VEVENT
BEGIN:VEVENT
DTSTART;TZID=Europe/Rome:20230915T204500
DTEND;TZID=Europe/Rome:20230915T220000
DTSTAMP:20260423T002337
CREATED:20240407T221043Z
LAST-MODIFIED:20240407T221043Z
UID:6335-1694810700-1694815200@home.reggioemilia.progettohamlet.it
SUMMARY:Dal sole nuove fonti di energia pulita
DESCRIPTION:Questo è un evento dell’Ambito H. \nCon piacere vi informiamo che in occasione della Sagra del territorio di Santa Croce\, che si terrà dal 14 al 17 settembre\, é stato organizzato per venerdì 15 settembre ore 20.45 presso l’Oratorio Don Bosco\, un incontro dal titolo: “Dal sole nuove fonti di energia pulita”\nSarà l’occasione per iniziare un cammino di approfondimento su Comunità Energetiche e Comunità Solari e per comprendere gli effetti positivi che si potranno avere sulla vita dei cittadini e sull’ambiente che ci circonda.\nI relatori saranno:\nProf. LEONARDO SETTI\, docente ricercatore presso I’Università di Bologna e fondatore delle Comunità Solari\nDott. LUCA TORRI\, amministratore delegato di “Societa per la Trasformazione Urbana (STU) – REGGIANE”\nSarebbe importante che tutti facessero parte della costruzione del progetto e pertanto vi invitiamo ad essere presente all’incontro del 15 Settembre prossimo\, i cui dettagli si possono leggere sul volantino allegato.\nNella speranza di avervi tra noi\, vi porgiamo i migliori saluti.\nVol A5 Energia pulita 2023 (2).pdf
URL:https://home.reggioemilia.progettohamlet.it/event/dal-sole-nuove-fonti-di-energia-pulita/
LOCATION:Oratorio San Giovanni Bosco\, Oratorio San Giovanni Bosco
END:VEVENT
END:VCALENDAR