BEGIN:VCALENDAR
VERSION:2.0
PRODID:-//Hamlet - ECPv6.15.12//NONSGML v1.0//EN
CALSCALE:GREGORIAN
METHOD:PUBLISH
X-WR-CALNAME:Hamlet
X-ORIGINAL-URL:https://home.reggioemilia.progettohamlet.it
X-WR-CALDESC:Eventi per Hamlet
REFRESH-INTERVAL;VALUE=DURATION:PT1H
X-Robots-Tag:noindex
X-PUBLISHED-TTL:PT1H
BEGIN:VTIMEZONE
TZID:Europe/Rome
BEGIN:DAYLIGHT
TZOFFSETFROM:+0100
TZOFFSETTO:+0200
TZNAME:CEST
DTSTART:20220327T010000
END:DAYLIGHT
BEGIN:STANDARD
TZOFFSETFROM:+0200
TZOFFSETTO:+0100
TZNAME:CET
DTSTART:20221030T010000
END:STANDARD
BEGIN:DAYLIGHT
TZOFFSETFROM:+0100
TZOFFSETTO:+0200
TZNAME:CEST
DTSTART:20230326T010000
END:DAYLIGHT
BEGIN:STANDARD
TZOFFSETFROM:+0200
TZOFFSETTO:+0100
TZNAME:CET
DTSTART:20231029T010000
END:STANDARD
BEGIN:DAYLIGHT
TZOFFSETFROM:+0100
TZOFFSETTO:+0200
TZNAME:CEST
DTSTART:20240331T010000
END:DAYLIGHT
BEGIN:STANDARD
TZOFFSETFROM:+0200
TZOFFSETTO:+0100
TZNAME:CET
DTSTART:20241027T010000
END:STANDARD
END:VTIMEZONE
BEGIN:VEVENT
DTSTART;TZID=Europe/Rome:20230629T183000
DTEND;TZID=Europe/Rome:20230629T200000
DTSTAMP:20260423T004824
CREATED:20240515T110026Z
LAST-MODIFIED:20240515T110026Z
UID:6971-1688063400-1688068800@home.reggioemilia.progettohamlet.it
SUMMARY:CONVOCAZIONE SEDUTA CONSULTA H
DESCRIPTION:Questo è un evento di Progetti. \nIncontro con Architetto di quartiere\, sociologo\, Alberto Pioppi.
URL:https://home.reggioemilia.progettohamlet.it/event/convocazione-seduta-consulta-h/
LOCATION:CENTRO SOCIALE ORTI MONTENERO\, Centro Sociale Orti Montenero\, Via Montenero 10\, Reggio Emilia (RE)
END:VEVENT
BEGIN:VEVENT
DTSTART;TZID=Europe/Rome:20230627T203000
DTEND;TZID=Europe/Rome:20230627T230000
DTSTAMP:20260423T004824
CREATED:20240515T110027Z
LAST-MODIFIED:20240515T110027Z
UID:6972-1687897800-1687906800@home.reggioemilia.progettohamlet.it
SUMMARY:SEDUTA CONSULTA CONGIUNTA AMBITI F - G
DESCRIPTION:Questo è un evento di Progetti. \nCONVOCAZIONE CONSULTA CONGIUNTA AMBITI F – G.pdf
URL:https://home.reggioemilia.progettohamlet.it/event/seduta-consulta-congiunta-ambiti-f-g/
LOCATION:CIRCOLO ARCI LA CAPANNINA PARADISA\, CIRCOLO ARCI LA CAPANNINA PARADISA
END:VEVENT
BEGIN:VEVENT
DTSTART;TZID=Europe/Rome:20230623T193000
DTEND;TZID=Europe/Rome:20230623T233000
DTSTAMP:20260423T004824
CREATED:20240407T215800Z
LAST-MODIFIED:20240407T215800Z
UID:7236-1687548600-1687563000@home.reggioemilia.progettohamlet.it
SUMMARY:TORTELLATA di SAN GIOVANNI
DESCRIPTION:La descrizione di questo evento contiene caratteri non supportati.
URL:https://home.reggioemilia.progettohamlet.it/event/tortellata-di-san-giovanni/
END:VEVENT
BEGIN:VEVENT
DTSTART;TZID=Europe/Rome:20230622T180000
DTEND;TZID=Europe/Rome:20230622T200000
DTSTAMP:20260423T004824
CREATED:20240515T110027Z
LAST-MODIFIED:20240515T110027Z
UID:6973-1687456800-1687464000@home.reggioemilia.progettohamlet.it
SUMMARY:CONVOCAZIONE INCONTRO CONGIUNTO AMBITI H - G
DESCRIPTION:Questo è un evento di Progetti. \nConvocazione congiunta ambiti H e G.pdf
URL:https://home.reggioemilia.progettohamlet.it/event/convocazione-incontro-congiunto-ambiti-h-g/
LOCATION:Biblioteca Santa Croce – Villa Cougnet\, Biblioteca Santa Croce - Villa Cougnet
END:VEVENT
BEGIN:VEVENT
DTSTART;TZID=Europe/Rome:20230620T203000
DTEND;TZID=Europe/Rome:20230620T230000
DTSTAMP:20260423T004824
CREATED:20240515T110028Z
LAST-MODIFIED:20240515T110028Z
UID:6976-1687293000-1687302000@home.reggioemilia.progettohamlet.it
SUMMARY:MODIFICA CONVOCAZIONE INCONTRO CONGIUNTO AMBITI E - F
DESCRIPTION:Questo è un evento di Progetti. \nL’incontro del 20/06 con l’assessora Carlotta Bonvicini riguarderà esclusivamente la Consulta E e sarà aperto alla cittadinanza.Convocazione consulta ambito e_uv.pdf
URL:https://home.reggioemilia.progettohamlet.it/event/modifica-convocazione-incontro-congiunto-ambiti-e-f/
LOCATION:Centro sociale Orti Spallanzani\, Centro sociale Orti Spallanzani
END:VEVENT
BEGIN:VEVENT
DTSTART;TZID=Europe/Rome:20230619T203000
DTEND;TZID=Europe/Rome:20230619T230000
DTSTAMP:20260423T004824
CREATED:20240515T110029Z
LAST-MODIFIED:20240515T110029Z
UID:6983-1687206600-1687215600@home.reggioemilia.progettohamlet.it
SUMMARY:Incontro abitanti di Mancasale\, Consulta G
DESCRIPTION:Questo è un evento di Progetti.
URL:https://home.reggioemilia.progettohamlet.it/event/incontro-abitanti-di-mancasale-consulta-g/
LOCATION:Circolo Parrocchia di S. Silvestro\, Circolo Parrocchia di S. Silvestro\, Via Gramsci\, 94
END:VEVENT
BEGIN:VEVENT
DTSTART;TZID=Europe/Rome:20230619T183000
DTEND;TZID=Europe/Rome:20230619T203000
DTSTAMP:20260423T004824
CREATED:20240515T110027Z
LAST-MODIFIED:20240515T110027Z
UID:6974-1687199400-1687206600@home.reggioemilia.progettohamlet.it
SUMMARY:SEDUTA CONSULTA D
DESCRIPTION:Questo è un evento di Progetti. \nConvocazione Consulta D 19.06.23.pdf
URL:https://home.reggioemilia.progettohamlet.it/event/seduta-consulta-d/
LOCATION:Polo sociale territoriale Sud\, Polo sociale territoriale Sud
END:VEVENT
BEGIN:VEVENT
DTSTART;TZID=Europe/Rome:20230618T150000
DTEND;TZID=Europe/Rome:20230618T173000
DTSTAMP:20260423T004824
CREATED:20240407T220956Z
LAST-MODIFIED:20240407T220956Z
UID:6238-1687100400-1687109400@home.reggioemilia.progettohamlet.it
SUMMARY:Vieni a prendere lo gnocco fritto
DESCRIPTION:Questo è un evento dell’Ambito C.
URL:https://home.reggioemilia.progettohamlet.it/event/vieni-a-prendere-lo-gnocco-fritto-2/
LOCATION:Via Pasquino Pigoni 59\, Via Pasquino Pigoni 59
END:VEVENT
BEGIN:VEVENT
DTSTART;TZID=Europe/Rome:20230614T180000
DTEND;TZID=Europe/Rome:20230614T200000
DTSTAMP:20260423T004824
CREATED:20240515T110029Z
LAST-MODIFIED:20240515T110029Z
UID:6985-1686765600-1686772800@home.reggioemilia.progettohamlet.it
SUMMARY:NUOVA DATA LABORATORIO SPAZI E RETI  DI COMUNITA' - AMBITO F
DESCRIPTION:Questo è un evento di Progetti. \nGentilissime\, gentilissimi\,\nil Laboratorio di cittadinanza  ‘Spazi e reti di comunità “ \, riguardante l’AMBITO F\,  è stato rinviato a Mercoledì 14 Giugno\, alle ore 18\,  presso il circolo ANSPI di Marmirolo (via della Tromba 11).
URL:https://home.reggioemilia.progettohamlet.it/event/nuova-data-laboratorio-spazi-e-reti-di-comunita-ambito-f/
LOCATION:Circolo Anspi di Marmirolo – Via della Tromba 11\, Circolo Anspi di Marmirolo - Via della Tromba 11
END:VEVENT
BEGIN:VEVENT
DTSTART;TZID=Europe/Rome:20230613T000000
DTEND;TZID=Europe/Rome:20230614T000000
DTSTAMP:20260423T004824
CREATED:20240515T110028Z
LAST-MODIFIED:20240515T110028Z
UID:6977-1686614400-1686700800@home.reggioemilia.progettohamlet.it
SUMMARY:INCONTRO CONSULTA AMBITO CENTRO STORICO
DESCRIPTION:Questo è un evento di Progetti. \nConvocazione della seduta ambito CS_ 13062023.pdf
URL:https://home.reggioemilia.progettohamlet.it/event/incontro-consulta-ambito-centro-storico/
LOCATION:Sala rossa sede municipale\, Via Gattalupa\, Reggio Emilia\, Provincia di Reggio Emilia\, 42122\, Italy
END:VEVENT
BEGIN:VEVENT
DTSTART;TZID=Europe/Rome:20230611T150000
DTEND;TZID=Europe/Rome:20230611T173000
DTSTAMP:20260423T004824
CREATED:20240407T221005Z
LAST-MODIFIED:20240407T221005Z
UID:6257-1686495600-1686504600@home.reggioemilia.progettohamlet.it
SUMMARY:Vieni a prendere lo gnocco fritto
DESCRIPTION:Questo è un evento dell’Ambito C.
URL:https://home.reggioemilia.progettohamlet.it/event/vieni-a-prendere-lo-gnocco-fritto-6/
LOCATION:Via Pasquino Pigoni 59\, Via Pasquino Pigoni 59
END:VEVENT
BEGIN:VEVENT
DTSTART;TZID=Europe/Rome:20230610T153000
DTEND;TZID=Europe/Rome:20230610T220000
DTSTAMP:20260423T004824
CREATED:20240407T215756Z
LAST-MODIFIED:20240407T215756Z
UID:7224-1686411000-1686434400@home.reggioemilia.progettohamlet.it
SUMMARY:MERCANTE IN FIERA - mercatino degli scambi per bambini e ragazzi
DESCRIPTION:La descrizione di questo evento contiene caratteri non supportati.
URL:https://home.reggioemilia.progettohamlet.it/event/mercante-in-fiera-mercatino-degli-scambi-per-bambini-e-ragazzi-2/
LOCATION:Parrocchia di San Bartolomeo\, Parrocchia di San Bartolomeo\, Via Dante Freddi 148\, Reggio Emilia
END:VEVENT
BEGIN:VEVENT
DTSTART;TZID=Europe/Rome:20230608T203000
DTEND;TZID=Europe/Rome:20230608T223000
DTSTAMP:20260423T004824
CREATED:20240515T110028Z
LAST-MODIFIED:20240515T110028Z
UID:6979-1686256200-1686263400@home.reggioemilia.progettohamlet.it
SUMMARY:CONVOCAZIONE INCONTRO CONSULTA D
DESCRIPTION:Questo è un evento di Progetti. \nIncontro Consulta D Giovedì 8_06 ore 20\,30.pdf
URL:https://home.reggioemilia.progettohamlet.it/event/convocazione-incontro-consulta-d/
LOCATION:Spazio Giovani Via Cassoli\, Spazio Giovani Via Cassoli\, 1
END:VEVENT
BEGIN:VEVENT
DTSTART;TZID=Europe/Rome:20230607T203000
DTEND;TZID=Europe/Rome:20230607T223000
DTSTAMP:20260423T004824
CREATED:20240515T110029Z
LAST-MODIFIED:20240515T110029Z
UID:6981-1686169800-1686177000@home.reggioemilia.progettohamlet.it
SUMMARY:Convocazione incontro Ambito B
DESCRIPTION:Questo è un evento di Progetti. \nConvocazione incontro Consulta B_7 giugno.pdf
URL:https://home.reggioemilia.progettohamlet.it/event/convocazione-incontro-ambito-b/
LOCATION:Centro Sociale la Mirandola\, CENTRO SOCIALE LA MIRANDOLA
END:VEVENT
BEGIN:VEVENT
DTSTART;TZID=Europe/Rome:20230607T203000
DTEND;TZID=Europe/Rome:20230607T223000
DTSTAMP:20260423T004824
CREATED:20240515T110029Z
LAST-MODIFIED:20240515T110029Z
UID:6980-1686169800-1686177000@home.reggioemilia.progettohamlet.it
SUMMARY:Incontro con i cittadini di Gavasseto
DESCRIPTION:Questo è un evento di Progetti. \nIncontro Gavasseto 07-06-23.docx
URL:https://home.reggioemilia.progettohamlet.it/event/incontro-con-i-cittadini-di-gavasseto/
END:VEVENT
BEGIN:VEVENT
DTSTART;TZID=Europe/Rome:20230606T204500
DTEND;TZID=Europe/Rome:20230606T220000
DTSTAMP:20260423T004824
CREATED:20240407T215753Z
LAST-MODIFIED:20240407T215753Z
UID:7218-1686084300-1686088800@home.reggioemilia.progettohamlet.it
SUMMARY:Comunità Energetiche - Stato dell'arte e prospettive per i territori
DESCRIPTION:La descrizione di questo evento contiene caratteri non supportati.
URL:https://home.reggioemilia.progettohamlet.it/event/comunita-energetiche-stato-dellarte-e-prospettive-per-i-territori-2/
LOCATION:Salone della Parrocchia di San Bartolomeo\, Salone della Parrocchia di San Bartolomeo\, Via Freddi 148\, Reggio Emilia\, RE
END:VEVENT
BEGIN:VEVENT
DTSTART;TZID=Europe/Rome:20230606T204500
DTEND;TZID=Europe/Rome:20230606T220000
DTSTAMP:20260423T004824
CREATED:20240407T215750Z
LAST-MODIFIED:20240407T215750Z
UID:7212-1686084300-1686088800@home.reggioemilia.progettohamlet.it
SUMMARY:Comunità Energetiche - Stato dell'arte e prospettive per i territori
DESCRIPTION:La descrizione di questo evento contiene caratteri non supportati.
URL:https://home.reggioemilia.progettohamlet.it/event/comunita-energetiche-stato-dellarte-e-prospettive-per-i-territori/
LOCATION:Salone della Parrocchia di San Bartolomeo\, Salone della Parrocchia di San Bartolomeo\, Via Freddi 148\, Reggio Emilia\, RE
END:VEVENT
BEGIN:VEVENT
DTSTART;TZID=Europe/Rome:20230605T180000
DTEND;TZID=Europe/Rome:20230605T230000
DTSTAMP:20260423T004824
CREATED:20240515T110031Z
LAST-MODIFIED:20240515T110031Z
UID:6993-1685988000-1686006000@home.reggioemilia.progettohamlet.it
SUMMARY:FORMAZIONE ON LINE - strumenti di programmazione del Comune per CONSULTE A - B - C
DESCRIPTION:Questo è un evento di Progetti. \nambiti A\,B\,C\, _ FORMAZIONE SU BILANCIO_ 05.06.23.pdf
URL:https://home.reggioemilia.progettohamlet.it/event/formazione-on-line-strumenti-di-programmazione-del-comune-per-consulte-a-b-c/
END:VEVENT
BEGIN:VEVENT
DTSTART;TZID=Europe/Rome:20230531T190000
DTEND;TZID=Europe/Rome:20230531T210000
DTSTAMP:20260423T004824
CREATED:20240407T221045Z
LAST-MODIFIED:20240407T221045Z
UID:6340-1685559600-1685566800@home.reggioemilia.progettohamlet.it
SUMMARY:GIORGIA AL TEATRO VALLI
DESCRIPTION:Questo è un evento dell’Ambito H. \nL’artista ha scelto di partire subito con i suoni più vivi e intensi e il contatto diretto con il pubblico: BLU LIVE – TEATRI LIRICI porterà Giorgia nei più prestigiosi teatri.\nIl 31 maggio 2023 l’artista farà tappa al teatro Valli di Reggio Emilia e le prevendite sono disponibili solo su Ticketone.
URL:https://home.reggioemilia.progettohamlet.it/event/giorgia-al-teatro-valli/
LOCATION:Teatro Valli – Reggio Emilia\, Teatro Valli - Reggio Emilia
END:VEVENT
BEGIN:VEVENT
DTSTART;TZID=Europe/Rome:20230531T180000
DTEND;TZID=Europe/Rome:20230531T200000
DTSTAMP:20260423T004824
CREATED:20240515T110032Z
LAST-MODIFIED:20240515T110032Z
UID:6995-1685556000-1685563200@home.reggioemilia.progettohamlet.it
SUMMARY:FORMAZIONE - strumenti di programmazione del Comune per CONSULTE CS - H - G
DESCRIPTION:Questo è un evento di Progetti. \nambiti CS-H-G _ FORMAZIONE SU BILANCIO_ 31.05.23 .pdf
URL:https://home.reggioemilia.progettohamlet.it/event/formazione-strumenti-di-programmazione-del-comune-per-consulte-cs-h-g/
LOCATION:on line (seguirà link)\, Piazza Camillo Prampolini\, Reggio Emilia\, Provincia di Reggio Emilia\, 42121\, Italy
END:VEVENT
BEGIN:VEVENT
DTSTART;TZID=Europe/Rome:20230530T170000
DTEND;TZID=Europe/Rome:20230530T181500
DTSTAMP:20260423T004824
CREATED:20240407T220957Z
LAST-MODIFIED:20240407T220957Z
UID:6241-1685466000-1685470500@home.reggioemilia.progettohamlet.it
SUMMARY:Corso GAG (Gambe Addome Glutei) con Patrizia
DESCRIPTION:Questo è un evento dell’Ambito C.
URL:https://home.reggioemilia.progettohamlet.it/event/corso-gag-gambe-addome-glutei-con-patrizia/
LOCATION:Via Pasquino Pigoni 59\, Via Pasquino Pigoni 59
END:VEVENT
BEGIN:VEVENT
DTSTART;TZID=Europe/Rome:20230529T180000
DTEND;TZID=Europe/Rome:20230529T200000
DTSTAMP:20260423T004824
CREATED:20240515T110032Z
LAST-MODIFIED:20240515T110032Z
UID:6996-1685383200-1685390400@home.reggioemilia.progettohamlet.it
SUMMARY:FORMAZIONE - strumenti di programmazione del Comune per CONSULTE D - E - F
DESCRIPTION:Questo è un evento di Progetti. \nambiti D\,E\,F\, _ FORMAZIONE SU BILANCIO_ 29.05.23.pdf
URL:https://home.reggioemilia.progettohamlet.it/event/formazione-strumenti-di-programmazione-del-comune-per-consulte-d-e-f/
LOCATION:on line (seguirà link)\, Piazza Camillo Prampolini\, Reggio Emilia\, Provincia di Reggio Emilia\, 42121\, Italy
END:VEVENT
BEGIN:VEVENT
DTSTART;TZID=Europe/Rome:20230525T210000
DTEND;TZID=Europe/Rome:20230525T220000
DTSTAMP:20260423T004824
CREATED:20240515T110030Z
LAST-MODIFIED:20240515T110030Z
UID:6988-1685048400-1685052000@home.reggioemilia.progettohamlet.it
SUMMARY:GAVASSA INCONTRO CON GLI ABITANTI
DESCRIPTION:Questo è un evento di Progetti.
URL:https://home.reggioemilia.progettohamlet.it/event/gavassa-incontro-con-gli-abitanti/
LOCATION:Via Fleming 10 – sala civica presso Parrocchia San Floriano\, Via Alexander Fleming\, Reggio Emilia\, Provincia di Reggio Emilia\, 42122\, Italy
END:VEVENT
BEGIN:VEVENT
DTSTART;TZID=Europe/Rome:20230525T203000
DTEND;TZID=Europe/Rome:20230525T223000
DTSTAMP:20260423T004824
CREATED:20240515T110030Z
LAST-MODIFIED:20240515T110030Z
UID:6989-1685046600-1685053800@home.reggioemilia.progettohamlet.it
SUMMARY:SEDUTA CONSULTA E
DESCRIPTION:Questo è un evento di Progetti. \nCONVOCAZIONE SEDUTA AMBITO E.pdf
URL:https://home.reggioemilia.progettohamlet.it/event/seduta-consulta-e/
LOCATION:Centro Sociale Venezia\, CENTRO SOCIALE VENEZIA
END:VEVENT
BEGIN:VEVENT
DTSTART;TZID=Europe/Rome:20230523T203000
DTEND;TZID=Europe/Rome:20230523T223000
DTSTAMP:20260423T004824
CREATED:20240515T110031Z
LAST-MODIFIED:20240515T110031Z
UID:6992-1684873800-1684881000@home.reggioemilia.progettohamlet.it
SUMMARY:SEDUTA CONSULTA AMBITO H
DESCRIPTION:Questo è un evento di Progetti. \nCONVOCAZIONE CONSULTA AMBITO H.pdf
URL:https://home.reggioemilia.progettohamlet.it/event/seduta-consulta-ambito-h-3/
LOCATION:Circolo Arci Pigal\, Circolo Arci Pigal
END:VEVENT
BEGIN:VEVENT
DTSTART;TZID=Europe/Rome:20230523T170000
DTEND;TZID=Europe/Rome:20230523T181500
DTSTAMP:20260423T004824
CREATED:20240407T221005Z
LAST-MODIFIED:20240407T221005Z
UID:6258-1684861200-1684865700@home.reggioemilia.progettohamlet.it
SUMMARY:Corso GAG (Gambe Addome Glutei) con Patrizia
DESCRIPTION:Questo è un evento dell’Ambito C.
URL:https://home.reggioemilia.progettohamlet.it/event/corso-gag-gambe-addome-glutei-con-patrizia-3/
LOCATION:Via Pasquino Pigoni 59\, Via Pasquino Pigoni 59
END:VEVENT
BEGIN:VEVENT
DTSTART;TZID=Europe/Rome:20230523T000000
DTEND;TZID=Europe/Rome:20230524T000000
DTSTAMP:20260423T004824
CREATED:20240515T110030Z
LAST-MODIFIED:20240515T110030Z
UID:6986-1684800000-1684886400@home.reggioemilia.progettohamlet.it
SUMMARY:RINVIATO INCONTRO SPAZI E RETI AMBITO F
DESCRIPTION:Questo è un evento di Progetti. \nGentilissime/i componenti della consulta dell’ambito F\,\nvi informiamo che il laboratorio di cittadinanza  per la riprogettazione del filone di lavoro “Spazi e reti di comunità”\, calendarizzato in data martedì 23 maggio\, dalle ore 18.00 alle ore 20.00 circa\,  è rinviato.  A giorni sarà comunicata la nuova data data.
URL:https://home.reggioemilia.progettohamlet.it/event/rinviato-incontro-spazi-e-reti-ambito-f/
END:VEVENT
BEGIN:VEVENT
DTSTART;TZID=Europe/Rome:20230521T150000
DTEND;TZID=Europe/Rome:20230521T173000
DTSTAMP:20260423T004824
CREATED:20240320T225659Z
LAST-MODIFIED:20240320T225659Z
UID:6267-1684681200-1684690200@home.reggioemilia.progettohamlet.it
SUMMARY:Vieni a prendere lo gnocco fritto
DESCRIPTION:Questo è un evento dell’Ambito C.
URL:https://home.reggioemilia.progettohamlet.it/event/vieni-a-prendere-lo-gnocco-fritto-7/
LOCATION:Via Pasquino Pigoni 59\, Via Pasquino Pigoni 59
END:VEVENT
BEGIN:VEVENT
DTSTART;TZID=Europe/Rome:20230521T090000
DTEND;TZID=Europe/Rome:20230521T180000
DTSTAMP:20260423T004824
CREATED:20240407T220954Z
LAST-MODIFIED:20240407T220954Z
UID:6236-1684659600-1684692000@home.reggioemilia.progettohamlet.it
SUMMARY:2° Magnalonga della Biodiversità - RINVIATA PER MALTEMPO
DESCRIPTION:Questo è un evento dell’Ambito C. \nRitrovo h 9.30 al Centro Sociale Quaresimo\nPartenza h 10 con gli Asinelli di Asineria Reggio Emilia\nArrivo h 12.30 al Matilde Golf di San Bartolomeo e pranzo per tutti\nPartenza h 14.30 Direzione Nonno Contadino\nArrivo h 15.30 da Nonno Contadino\n– Inaugurazione dei nuovi cartelli della Strada della Biodiversità nell’ambito del progetto Reggio Emilia Città dei Sentieri con Carlotta Bonvicini\, Assessora alle Politiche per la Sostenibilità del Comune di Reggio Emilia\n– Merenda con Agrigelato per tutti\nRientro h 16.30 per il Centro Sociale Quaresimo\nArrivo h 18.00 Spettacolo con artisti di strada\, gnocco fritto\nISCRIVITI CON QUESTO MODULO ENTRO GIOVEDÌ 18 MAGGIO 2023 \nflyer_-Magnalonga-2023-1 (1).pdf
URL:https://home.reggioemilia.progettohamlet.it/event/2-magnalonga-della-biodiversita-rinviata-per-maltempo/
LOCATION:Strada della biodiversità\, Strada della biodiversità
END:VEVENT
BEGIN:VEVENT
DTSTART;TZID=Europe/Rome:20230521T000000
DTEND;TZID=Europe/Rome:20230522T000000
DTSTAMP:20260423T004824
CREATED:20240407T215801Z
LAST-MODIFIED:20240407T215801Z
UID:7238-1684627200-1684713600@home.reggioemilia.progettohamlet.it
SUMMARY:Rinviato a settembre - Magnalonga della biodiversità -2° edizione
DESCRIPTION:La descrizione di questo evento contiene caratteri non supportati.
URL:https://home.reggioemilia.progettohamlet.it/event/rinviato-a-settembre-magnalonga-della-biodiversita-2-edizione/
LOCATION:Partenza da Via Pasquino Pigoni 59\, Partenza da Via Pasquino Pigoni 59
END:VEVENT
END:VCALENDAR