BEGIN:VCALENDAR
VERSION:2.0
PRODID:-//Hamlet - ECPv6.15.12//NONSGML v1.0//EN
CALSCALE:GREGORIAN
METHOD:PUBLISH
X-WR-CALNAME:Hamlet
X-ORIGINAL-URL:https://home.reggioemilia.progettohamlet.it
X-WR-CALDESC:Eventi per Hamlet
REFRESH-INTERVAL;VALUE=DURATION:PT1H
X-Robots-Tag:noindex
X-PUBLISHED-TTL:PT1H
BEGIN:VTIMEZONE
TZID:Europe/Rome
BEGIN:DAYLIGHT
TZOFFSETFROM:+0100
TZOFFSETTO:+0200
TZNAME:CEST
DTSTART:20220327T010000
END:DAYLIGHT
BEGIN:STANDARD
TZOFFSETFROM:+0200
TZOFFSETTO:+0100
TZNAME:CET
DTSTART:20221030T010000
END:STANDARD
BEGIN:DAYLIGHT
TZOFFSETFROM:+0100
TZOFFSETTO:+0200
TZNAME:CEST
DTSTART:20230326T010000
END:DAYLIGHT
BEGIN:STANDARD
TZOFFSETFROM:+0200
TZOFFSETTO:+0100
TZNAME:CET
DTSTART:20231029T010000
END:STANDARD
BEGIN:DAYLIGHT
TZOFFSETFROM:+0100
TZOFFSETTO:+0200
TZNAME:CEST
DTSTART:20240331T010000
END:DAYLIGHT
BEGIN:STANDARD
TZOFFSETFROM:+0200
TZOFFSETTO:+0100
TZNAME:CET
DTSTART:20241027T010000
END:STANDARD
END:VTIMEZONE
BEGIN:VEVENT
DTSTART;TZID=Europe/Rome:20230417T190000
DTEND;TZID=Europe/Rome:20230417T203000
DTSTAMP:20260423T052053
CREATED:20240407T221051Z
LAST-MODIFIED:20240407T221051Z
UID:6353-1681758000-1681763400@home.reggioemilia.progettohamlet.it
SUMMARY:Note in biblioteca - Le tre vesti di Spoon River
DESCRIPTION:Questo è un evento dell’Ambito H. \nUn invito all’ascolto per scoprire le tre versioni di un’opera straordinaria\, a cura di Sara Dieci e Tiziano Bellelli.\nIngresso Gratuito
URL:https://home.reggioemilia.progettohamlet.it/event/note-in-biblioteca-le-tre-vesti-di-spoon-river/
LOCATION:Biblioteca di Scandiano\, Biblioteca di Scandiano
END:VEVENT
BEGIN:VEVENT
DTSTART;TZID=Europe/Rome:20230417T183000
DTEND;TZID=Europe/Rome:20230417T200000
DTSTAMP:20260423T052053
CREATED:20240407T221051Z
LAST-MODIFIED:20240407T221051Z
UID:6352-1681756200-1681761600@home.reggioemilia.progettohamlet.it
SUMMARY:Canta forte!– L’eredità della resistenza nella musica
DESCRIPTION:Questo è un evento dell’Ambito H. \nCanta forte! [So(g)nante] – L’eredità della resistenza nella musica\nA cura di Emanuele Reverberi\nINGRESSO GRATUITO \nPrenota il tuo posto contattando la segreteria o su EVENTBRITE
URL:https://home.reggioemilia.progettohamlet.it/event/canta-forte-leredita-della-resistenza-nella-musica/
LOCATION:Villa Arci – Viale Ramazzini 72\, Villa Arci - Viale Ramazzini 72
END:VEVENT
BEGIN:VEVENT
DTSTART;TZID=Europe/Rome:20230417T170000
DTEND;TZID=Europe/Rome:20230417T183000
DTSTAMP:20260423T052053
CREATED:20240407T221049Z
LAST-MODIFIED:20240407T221049Z
UID:6347-1681750800-1681756200@home.reggioemilia.progettohamlet.it
SUMMARY:Corso pronuncia inglese
DESCRIPTION:Questo è un evento dell’Ambito H. \nNon parlare come mangi\, un breve corso per migliorare la pronuncia inglese.\n5 incontri online una volta a settimana su Zoom.\nPer info corsi@arcire.it o 3515848802
URL:https://home.reggioemilia.progettohamlet.it/event/corso-pronuncia-inglese/
LOCATION:Online\, Online
END:VEVENT
BEGIN:VEVENT
DTSTART;TZID=Europe/Rome:20230417T140000
DTEND;TZID=Europe/Rome:20230417T160000
DTSTAMP:20260423T052053
CREATED:20240407T221045Z
LAST-MODIFIED:20240407T221045Z
UID:6339-1681740000-1681747200@home.reggioemilia.progettohamlet.it
SUMMARY:Torneo Giochi di Società
DESCRIPTION:Questo è un evento dell’Ambito H. \nTorneo per ragazzi dai 14 ai 19 anni.\nTornei \nBigliardino\nPingPong\nKlask\nI soliti sospetti\nFantascatti\nCarrom\nDixit\nLaboratori Vari \nAlla fine della giornata\, ci saranno le premiazioni ed un bel buffet!
URL:https://home.reggioemilia.progettohamlet.it/event/torneo-giochi-di-societa/
LOCATION:via Turri 49\, Via Turri 49\, 42123\, Reggio Emilia (RE)
END:VEVENT
BEGIN:VEVENT
DTSTART;TZID=Europe/Rome:20230413T163000
DTEND;TZID=Europe/Rome:20230413T183000
DTSTAMP:20260423T052053
CREATED:20240407T221052Z
LAST-MODIFIED:20240407T221052Z
UID:6356-1681403400-1681410600@home.reggioemilia.progettohamlet.it
SUMMARY:Allestimento spazi Santa Croce
DESCRIPTION:Questo è un evento dell’Ambito H. \nCiao\,\ncome condiviso durante l’incontro in Sala Tricolore\, vi invito a partecipare ad una sessione di lavoro in cui vi aiuteremo a personalizzare e allestire il vostro profilo personale e lo spazio della vostra organizzazione. Se possibile\, portate con voi i file di immagini\, volantini\, documenti\, ecc.\nQuesto ci permetterà di arrivare pronti all’evento di lancio in occasione del 20 maggio.\nVi chiedo la cortesia di inoltrare l’invito alle persone che ritenete utili allo scopo dell’incontro.
URL:https://home.reggioemilia.progettohamlet.it/event/allestimento-spazi-santa-croce/
LOCATION:Circolo Pigal\, Circolo Pigal
END:VEVENT
BEGIN:VEVENT
DTSTART;TZID=Europe/Rome:20230406T170000
DTEND;TZID=Europe/Rome:20230406T181500
DTSTAMP:20260423T052053
CREATED:20240407T221007Z
LAST-MODIFIED:20240407T221007Z
UID:6262-1680800400-1680804900@home.reggioemilia.progettohamlet.it
SUMMARY:Corso GAG (Gambe Addome Glutei) con Patrizia
DESCRIPTION:Questo è un evento dell’Ambito C.
URL:https://home.reggioemilia.progettohamlet.it/event/corso-gag-gambe-addome-glutei-con-patrizia-5/
LOCATION:Via Pasquino Pigoni 59\, Via Pasquino Pigoni 59
END:VEVENT
BEGIN:VEVENT
DTSTART;TZID=Europe/Rome:20230322T173000
DTEND;TZID=Europe/Rome:20230322T190000
DTSTAMP:20260423T052053
CREATED:20240407T221052Z
LAST-MODIFIED:20240407T221052Z
UID:6355-1679506200-1679511600@home.reggioemilia.progettohamlet.it
SUMMARY:Firma dell'Accordo per il lancio di Hamlet Santa Croce e Quaresimo
DESCRIPTION:Questo è un evento dell’Ambito H.
URL:https://home.reggioemilia.progettohamlet.it/event/firma-dellaccordo-per-il-lancio-di-hamlet-santa-croce-e-quaresimo/
LOCATION:Sala Tricolore\, Sala Tricolore
END:VEVENT
END:VCALENDAR